Workbook
Name PeakDHW: 'Pipe Sizing'!$R$12

Sheet Notes
B3: Heat Network Sizing Tool for 480 Properties
N7: 09/0.2017
N9: This is a fully worked example for pipe sizing on a district heating network, feeding 480 properties split into 10 blocks of 48.
N11: This and other examples can be downoaded from our wiki site at:
N12: http://www.heatweb.co.uk/w/index.php?title=Pipework_Calculation_Examples
B27: Thermal Integration Ltd.
B28: 0845 2411441
B29: www.heatweb.com

Sheet Summary
B2: Heat Network Sizing Tool for 480 Properties
B5: Dwelling Peak DHW | C5: 45 | D5: Kw | G5: Peak DHW Load | H5: ='Pipe Sizing'!R12 -> 1000.6874 | I5: kW | J5: ='Pipe Sizing'!Y12 -> 3.4036985 | K5: l/s | L5: Cost of Pipework | M5: ='Pipe Sizing'!CJ47 -> 57916.8
B6: Dwelling Peak CH | C6: 3 | D6: Kw | G6: Peak CH Load | H6: ='Pipe Sizing'!V12 -> 1080 | I6: kW | J6: ='Pipe Sizing'!AA12 -> 4.2857143 | K6: l/s
B7: DP across load (HIU+meter) | C7: 55 | D7: kPa | G7: Peak Load | H7: ='Pipe Sizing'!AG12 -> 2028.9374 | I7: kW | J7: ='Pipe Sizing'!AH12 -> 7.4840557 | K7: l/s
B8: Peak Load Flow Temperature | C8: 90 | D8: C
B9: Summer Flow Temperature | C9: 65 | D9: C | G9: Peak Load Heat Loss | H9: ='Pipe Sizing'!BO47 -> 47.685553 | I9: kW | J9: =H9/H7 -> 0.023502723
B10: Return DHW | C10: 20 | D10: C
B11: Return CH | C11: 30 | D11: C | G11: Peak Pressure Drop | H11: ='Pipe Sizing'!AV47 -> 197.8336 | I11: kPa
B12: Occupants per property | C12: 3 | G12: Summer Peak Pressure Drop | H12: ='Pipe Sizing'!CE47 -> 226.11546 | I12: kPa
B13: Flush Rate (HIU function) | C13: 20 | D13: l/m
B14: Peak erosion velocity | C14: 1 | D14: m/s | G14: Peak Pressure Drop, Building | H14: ='Pipe Sizing'!AV50 -> 114.69706 | I14: kPa
B15: Fixed DHW/property/day | C15: 35 | D15: litres | E15: =HYPERLINK("https://www.gov.uk/government/uploads/system/uploads/attachment_data/file/48188/3147-measure-domestic-hot-water-consump.pdf","info") -> info | G15: Summer Peak Pressure Drop, Building | H15: ='Pipe Sizing'!CE50 -> 176.72932 | I15: kPa
B16: DHW/person/day | C16: 20 | D16: litres
B17: DHW Temp Rise (for above) | C17: 40 | D17: C | G17: Peak Velocity | H17: ='Pipe Sizing'!AZ48 -> 1.1531584 | I17: m/s
B18: Hours Central Heating per Year (peak/flat) | C18: 600 | D18: hours | G18: Peak Erosion Velocity | H18: ='Pipe Sizing'!BB47 -> 0.63041262 | I18: m/s | J18: =C14 -> 1 | K18: m/s max.
B19: Insulation Thickness, Flow | C19: 50 | D19: mm | G19: Minimum Velocity | H19: ='Pipe Sizing'!AZ47 -> 0.51724061 | I19: m/s | J19: 0.5 | K19: m/s min.
B20: Insulation Thickness, Return | C20: 30 | D20: mm
B21: Min Velocity Network (F/R) | C21: 0.5 | D21: 0.5 | E21: m/s | G21: DHW delay with cold laterals / hot riser | H21: ='Pipe Sizing'!BD25 -> 23.920066 | I21: seconds
B22: Min Velocity Buildings (F/R) | C22: 0.75 | D22: 0.5 | E22: m/s
B23: Heating Season | C23: 120 | D23: days
B24: HIU Standby Return Temperature | C24: 25 | D24: C | N24: Heat Pump / Gas Boiler Mix
B25: HIU Standby Flow Rate | C25: 0 | D25: l/hour | N25: Peak Load Efficiency | O25: ='Energy Generation'!O27 -> 1.4385139 | Q25: ='Energy Generation'!O32 -> 0.17783693 | R25: Kg CO2/kWh
B26: Hot Water Priority | C26: 1 | N26: Summer Efficiency | O26: ='Energy Generation'!O41 -> 2.6045016 | Q26: ='Energy Generation'!O46 -> 0.15246914 | R26: Kg CO2/kWh
B30: Thermal Integration Ltd.
B31: 0845 2411441
B32: www.heatweb.com

Sheet Pipe Sizing
C2: Example for index flat on 480 property scheme, with 10 risers, feeding 4 storey buildings | AR2: Columns W,X,Y for Herz Williams Pressure Loss Calculation
I6: Physical | N6: Loading | AK6: Pipe Selection | AO6: Pressure Loss | AX6: Volume | AZ6: Velocity | BE6: Thermal Losses | BX6: Summer Velocity Figures
B7: ID | C7: Description | D7: Class | E7: Properties | F7: Min | G7: Occupants | H7: Daily | I7: Length | J7: Elbow | K7: Elbow | L7: Tee | M7: Tee | N7: Count | O7: Total | P7: Danish | Q7: DHW | R7: DHW | S7: Min | T7: Est | U7: Htg | V7: Htg | W7: DHW | X7: Htg | Y7: DHW | Z7: Peak % | AA7: Htg | AB7: Htg | AC7: Htg % | AD7: Htg % | AE7: Peak Trickle Flow | AF7: Summer Trickle Flow | AG7: Total | AH7: Total | AI7: Pipe Area | AJ7: Pipe Bore | AK7: Pipe Bore | AL7: Pipe Size | AM7: Material | AN7: Roughness | AO7: f = friction (mm H20 per 100 m pipe) | AP7: f = friction (kPa per 100 m pipe) | AQ7: Head loss (mm H20) | AR7: kPa | AS7: Pa/m | AT7: Equiv | AU7: kPa | AV7: kPa | AW7: kPa | AX7: Area | AY7: Volume | AZ7: Peak | BA7: Continuous | BB7: Weighed | BC7: Flush | BD7: Accumulative | BE7: Thermal | BF7: Ambient Temperature | BG7: Peak Load Pipe Temp | BH7: Summer Peak Load Pipe Temp | BI7: Standby | BJ7: Peak | BK7: Summer Peak Losses | BL7: Standby | BM7: Decay Time to 50C | BN7: Standby Losses | BO7: Peak | BP7: Summer Peak Losses | BQ7: % Time Standby Temp | BR7: % Time Peak Temp | BS7: % Time Summer Peak Temp | BT7: Average Losses | BU7: Average | BV7: Losses per metre | BW7: % Share | BX7: DHW | BY7: f = friction (mm H20 per 100 m pipe) | BZ7: f = friction (kPa per 100 m pipe) | CA7: Head loss (mm H20) | CB7: kPa | CC7: Pa/m | CD7: kPa | CE7: kPa | CF7: Peak | CG7: Continuous | CH7: Weighed | CI7: Tube | CJ7: Tube
F8: Target | H8: DHW | I8: m | J8: 90° | K8: 45° | L8: Line | M8: Branch | O8: Length | P8: DHW | Q8: Diversity | R8: kW | S8: HIUs | T8: Taps | U8: Diversity | V8: kw | W8: Priority | X8: kw | Y8: litre/s | Z8: time at | AA8: litre/s | AB8: litre/s | AC8: of Peak | AD8: of Daily | AF8: litres/s | AG8: Peak | AH8: Peak | AI8: mm2 | AJ8: Calculated | AK8: Selected | AR8: pipes | AT8: Length | AU8: fittings | AV8: TOTAL | AW8: Share | AY8: litres | AZ8: Velocity | BA8: Velocity | BB8: Erosion | BC8: time | BD8: Flush time | BE8: Rating | BI8: Temp | BJ8: Losses | BL8: Losses | BO8: Losses | BU8: Losses | BW8: Losses | BX8: litres/s | CB8: pipes | CD8: fittings | CE8: TOTAL | CF8: Velocity | CG8: Velocity | CH8: Erosion | CI8: Cost | CJ8: Cost
F9: Velocity | H9: kWh | P9: DS439 | S9: Running | T9: Running | W9: Saving | X9: NET | Z9: Peak | AA9: peak | AB9: minus | AC9: Flow | AD9: kWh | AG9: kW | AH9: litre/s | AK9: mm | AL9: mm | AT9: fittings | AZ9: m/s | BA9: m/s | BB9: Velocity | BC9: seconds | BD9: seconds | BE9: W/m/K | BF9: C | BI9: C | BJ9: kW | BK9: kW | BL9: kW | BM9: hours | BO9: kW | BP9: kW | BT9: kW | BU9: kW | BV9: W/m | BX9: Summer | CF9: m/s | CG9: m/s | CH9: Velocity | CI9: £/m | CJ9: £
F10: m/s | P10: kW | W10: kW | AB10: priority | BB10: m/s | BG10: C | BH10: C | BN10: TOTAL | BO10: TOTAL | BP10: TOTAL | BU10: TOTAL | CH10: m/s
AY11: =SUM(AY12:AY28) -> 2232.5246
B12: 1F | C12: Run to 1st riser | D12: Flow | E12: =E13+48 -> 480 | F12: =Summary!$C$21 -> 0.5 | G12: =$D$55*E12 -> 1440 | H12: =(((E12*$D$59)+($D$60*G12))*4200*$D$61)/(1000*60*60) -> 2128 | I12: 100 | J12: 4 | L12: 1 | N12: 1 | O12: =N12*I12 -> 100 | P12: =(1.19*E12) + (18.8*POWER(E12,0.5)) + 17.6 -> 1000.6874 | Q12: =P12/($R$29*E12) -> 0.046328119 | R12: =Q12*$R$29*E12 -> 1000.6874 | S12: 23 | T12: =R12/$D$64 -> 83.390614 | U12: 0.75 | V12: =U12*$D$49*E12 -> 1080 | W12: =$D$65*U12*S12*$D$49 -> 51.75 | X12: =V12-W12 -> 1028.25 | Y12: =R12*1000/(4200*($D$51-$D$53)) -> 3.4036985 | Z12: =((H12/R12))/24 -> 0.088605762 | AA12: =V12*1000/(4200*($D$51-$D$54)) -> 4.2857143 | AB12: =X12*1000/(4200*($D$51-$D$54)) -> 4.0803571 | AC12: =AB12/AH12 -> 0.54520668 | AD12: =(24*X12)/((24*X12)+H12) -> 0.92061479 | AE12: =(E12*(1-U12))*($D$63/3600) -> 0 | AF12: =(E12-S12)*($D$63/3600) -> 0 | AG12: =X12+R12 -> 2028.9374 | AH12: =AB12+Y12+AE12 -> 7.4840557 | AI12: =AH12*1000000/(F12*1000) -> 14968.111 | AJ12: =2*SQRT(AI12/3.14159) -> 138.05074 | AK12: =LOOKUP($AJ12,Pipes!$D$4:$D$16,Pipes!$D$4:$D$16) -> 97 | AL12: =LOOKUP($AK12,Pipes!$D$4:$D$16,Pipes!$B$4:$B$16) -> 100 | AM12: =LOOKUP($AK12,Pipes!$D$4:$D$16,Pipes!$E$4:$E$16) -> Steel | AN12: =LOOKUP($AK12,Pipes!$D$4:$D$16,Pipes!$F$4:$F$16) -> 140 | AO12: =POWER(100/AN12,1.852)*POWER(AH12*15.852,1.852)/POWER($AK12*0.03937,4.8655)*0.2083*304.8*3.28 -> 1142.8551 | AP12: =+AO12*9.81/1000 -> 11.211409 | AQ12: =+AO12*I12/100 -> 1142.8551 | AR12: =+AQ12*9.81/1000 -> 11.211409 | AS12: =AR12*1000/$I12 -> 112.11409 | AT12: =($D$78*J12*AK12/1000)+($D$80*K12*AK12/1000)+($D$76*L12*AK12/1000)+($D$77*M12*AK12/1000) -> 13.58 | AU12: =$AT12*AS12/1000 -> 1.5225093 | AV12: =AU12+AR12 -> 12.733918 | AW12: =AV12/$AV$47 -> 0.064366813 | AX12: =POWER((AK12/2),2)*3.14159 -> 7389.8051 | AY12: =I12*AX12/1000 -> 738.98051 | AZ12: =$AH12*1000/$AX12 -> 1.0127541 | BA12: =AA12*1000/AX12 -> 0.57994957 | BB12: =SQRT(($Z12*$AZ12*$AZ12)+((1-$Z12) * $BA12*$BA12)) -> 0.63041262 | BC12: =60*AY12/$D$56 -> 2216.9415 | BD12: =BD13+BC12 -> 6697.5739 | BE12: =LOOKUP($AK12,Pipes!$D$4:$D$16,Pipes!$N$4:$N$16) -> 0.30819908 | BF12: 12 | BG12: =$D$51 -> 90 | BH12: =$D$52 -> 65 | BI12: =$D$52 -> 65 | BJ12: =BE12*I12*(BG12-BF12)/1000 -> 2.4039528 | BK12: =BE12*I12*(BH12-BF12)/1000 -> 1.6334551 | BL12: =BE12*I12*(BI12-BF12)/1000 -> 1.6334551 | BM12: =AY12*4200*($D$51-50)/(BJ12*1000*60*60) -> 14.345438 | BN12: =BL12*$N12 -> 1.6334551 | BO12: =BJ12*$N12 -> 2.4039528 | BP12: =BK12*$N12 -> 1.6334551 | BQ12: 0 | BR12: =(1-BQ12) * ($D$58/365) -> 0.32876712 | BS12: =(1-BQ12) * (1- ($D$58/365)) -> 0.67123288 | BT12: =(BQ12*BL12)+(BR12*BJ12)+(BS12*BK12) -> 1.8867694 | BU12: =BT12*N12 -> 1.8867694 | BV12: =1000*BT12/I12 -> 18.867694 | BW12: =BU12/$BU$47 -> 0.065402554 | BX12: =R12*1000/(4200*($D$52-$D$53)) -> 5.2946421 | BY12: =POWER(100/AN12,1.852)*POWER(BX12*15.852,1.852)/POWER($AK12*0.03937,4.8655)*0.2083*304.8*3.28 -> 602.05317 | BZ12: =+BY12*9.81/1000 -> 5.9061416 | CA12: =+BY12*$I12/100 -> 602.05317 | CB12: =+CA12*9.81/1000 -> 5.9061416 | CC12: =CB12*1000/$I12 -> 59.061416 | CD12: =$AT12*CC12/1000 -> 0.80205403 | CE12: =CD12+CB12 -> 6.7081956 | CF12: =$Y12*1000/$AX12 -> 0.46059382 | CG12: 0 | CH12: =SQRT(($Z12*$CF12*$CF12)+((1-$Z12) * $CG12*$CG12)) -> 0.13710367 | CI12: =LOOKUP($AK12,Pipes!$D$4:$D$16,Pipes!$I$4:$I$16) -> 33.333333 | CJ12: =CI12*O12 -> 3333.3333
B13: 2F | C13: Run to 2nd Riser | D13: Flow | E13: =E14+48 -> 432 | F13: =Summary!$C$21 -> 0.5 | G13: =$D$55*E13 -> 1296 | H13: =(((E13*$D$59)+($D$60*G13))*4200*$D$61)/(1000*60*60) -> 1915.2 | I13: 30 | K13: 2 | L13: 1 | N13: 1 | O13: =N13*I13 -> 30 | P13: =(1.19*E13) + (18.8*POWER(E13,0.5)) + 17.6 -> 922.43066 | Q13: =P13/($R$29*E13) -> 0.047450137 | R13: =Q13*$R$29*E13 -> 922.43066 | S13: 21 | T13: =R13/$D$64 -> 76.869222 | U13: 0.8 | V13: =U13*$D$49*E13 -> 1036.8 | W13: =$D$65*U13*S13*$D$49 -> 50.4 | X13: =V13-W13 -> 986.4 | Y13: =R13*1000/(4200*($D$51-$D$53)) -> 3.1375193 | Z13: =((H13/R13))/24 -> 0.086510567 | AA13: =V13*1000/(4200*($D$51-$D$54)) -> 4.1142857 | AB13: =X13*1000/(4200*($D$51-$D$54)) -> 3.9142857 | AC13: =AB13/AH13 -> 0.55507572 | AD13: =(24*X13)/((24*X13)+H13) -> 0.92515476 | AE13: =(E13*(1-U13))*($D$63/3600) -> 0 | AF13: =(E13-S13)*($D$63/3600) -> 0 | AG13: =X13+R13 -> 1908.8307 | AH13: =AB13+Y13+AE13 -> 7.051805 | AI13: =AH13*1000000/(F13*1000) -> 14103.61 | AJ13: =2*SQRT(AI13/3.14159) -> 134.00481 | AK13: =LOOKUP($AJ13,Pipes!$D$4:$D$16,Pipes!$D$4:$D$16) -> 97 | AL13: =LOOKUP(AK13,Pipes!$D$4:$D$16,Pipes!$B$4:$B$16) -> 100 | AM13: =LOOKUP($AK13,Pipes!$D$4:$D$16,Pipes!$E$4:$E$16) -> Steel | AN13: =LOOKUP($AK13,Pipes!$D$4:$D$16,Pipes!$F$4:$F$16) -> 140 | AO13: =POWER(100/AN13,1.852)*POWER(AH13*15.852,1.852)/POWER($AK13*0.03937,4.8655)*0.2083*304.8*3.28 -> 1023.6266 | AP13: =+AO13*9.81/1000 -> 10.041777 | AQ13: =+AO13*I13/100 -> 307.08799 | AR13: =+AQ13*9.81/1000 -> 3.0125332 | AS13: =AR13*1000/$I13 -> 100.41777 | AT13: =($D$78*J13*AK13/1000)+($D$80*K13*AK13/1000)+($D$76*L13*AK13/1000)+($D$77*M13*AK13/1000) -> 5.044 | AU13: =$AT13*AS13/1000 -> 0.50650725 | AV13: =AU13+AR13 -> 3.5190405 | AW13: =AV13/$AV$47 -> 0.017787881 | AX13: =POWER((AK13/2),2)*3.14159 -> 7389.8051 | AY13: =I13*AX13/1000 -> 221.69415 | AZ13: =AH13*1000/$AX13 -> 0.9542613 | BA13: =AA13*1000/AX13 -> 0.55675159 | BB13: =SQRT(($Z13*$AZ13*$AZ13)+((1-$Z13) * $BA13*$BA13)) -> 0.6016097 | BC13: =60*AY13/$D$56 -> 665.08246 | BD13: =BD14+BC13 -> 4480.6324 | BE13: =LOOKUP($AK13,Pipes!$D$4:$D$16,Pipes!$N$4:$N$16) -> 0.30819908 | BF13: 12 | BG13: =$D$51 -> 90 | BH13: =$D$52 -> 65 | BI13: =$D$52 -> 65 | BJ13: =BE13*I13*(BG13-BF13)/1000 -> 0.72118585 | BK13: =BE13*I13*(BH13-BF13)/1000 -> 0.49003654 | BL13: =BE13*I13*(BI13-BF13)/1000 -> 0.49003654 | BM13: =AY13*4200*($D$51-50)/(BJ13*1000*60*60) -> 14.345438 | BN13: =BL13*$N13 -> 0.49003654 | BO13: =BJ13*$N13 -> 0.72118585 | BP13: =BK13*$N13 -> 0.49003654 | BQ13: 0 | BR13: =(1-BQ13) * ($D$58/365) -> 0.32876712 | BS13: =(1-BQ13) * (1- ($D$58/365)) -> 0.67123288 | BT13: =(BQ13*BL13)+(BR13*BJ13)+(BS13*BK13) -> 0.56603083 | BU13: =BT13*N13 -> 0.56603083 | BV13: =1000*BT13/I13 -> 18.867694 | BW13: =BU13/$BU$47 -> 0.019620766 | BX13: =R13*1000/(4200*($D$52-$D$53)) -> 4.8805855 | BY13: =POWER(100/AN13,1.852)*POWER(BX13*15.852,1.852)/POWER($AK13*0.03937,4.8655)*0.2083*304.8*3.28 -> 517.77306 | BZ13: =+BY13*9.81/1000 -> 5.0793537 | CA13: =+BY13*$I13/100 -> 155.33192 | CB13: =+CA13*9.81/1000 -> 1.5238061 | CC13: =CB13*1000/$I13 -> 50.793537 | CD13: =$AT13*CC13/1000 -> 0.2562026 | CE13: =CD13+CB13 -> 1.7800087 | CF13: =$Y13*1000/$AX13 -> 0.42457402 | CG13: 0 | CH13: =SQRT(($Z13*$CF13*$CF13)+((1-$Z13) * $CG13*$CG13)) -> 0.12487859 | CI13: =LOOKUP($AK13,Pipes!$D$4:$D$16,Pipes!$I$4:$I$16) -> 33.333333 | CJ13: =CI13*O13 -> 1000
B14: 3F | C14: Run to 3rd Riser | D14: Flow | E14: =E15+48 -> 384 | F14: =Summary!$C$21 -> 0.5 | G14: =$D$55*E14 -> 1152 | H14: =(((E14*$D$59)+($D$60*G14))*4200*$D$61)/(1000*60*60) -> 1702.4 | I14: 30 | K14: 2 | L14: 1 | N14: 1 | O14: =N14*I14 -> 30 | P14: =(1.19*E14) + (18.8*POWER(E14,0.5)) + 17.6 -> 842.96326 | Q14: =P14/($R$29*E14) -> 0.048782596 | R14: =Q14*$R$29*E14 -> 842.96326 | S14: 19 | T14: =R14/$D$64 -> 70.246938 | U14: 0.8 | V14: =U14*$D$49*E14 -> 921.6 | W14: =$D$65*U14*S14*$D$49 -> 45.6 | X14: =V14-W14 -> 876 | Y14: =R14*1000/(4200*($D$51-$D$53)) -> 2.867222 | Z14: =((H14/R14))/24 -> 0.084147598 | AA14: =V14*1000/(4200*($D$51-$D$54)) -> 3.6571429 | AB14: =X14*1000/(4200*($D$51-$D$54)) -> 3.4761905 | AC14: =AB14/AH14 -> 0.54800007 | AD14: =(24*X14)/((24*X14)+H14) -> 0.92509152 | AE14: =(E14*(1-U14))*($D$63/3600) -> 0 | AF14: =(E14-S14)*($D$63/3600) -> 0 | AG14: =X14+R14 -> 1718.9633 | AH14: =AB14+Y14+AE14 -> 6.3434124 | AI14: =AH14*1000000/(F14*1000) -> 12686.825 | AJ14: =2*SQRT(AI14/3.14159) -> 127.09595 | AK14: =LOOKUP($AJ14,Pipes!$D$4:$D$16,Pipes!$D$4:$D$16) -> 97 | AL14: =LOOKUP(AK14,Pipes!$D$4:$D$16,Pipes!$B$4:$B$16) -> 100 | AM14: =LOOKUP($AK14,Pipes!$D$4:$D$16,Pipes!$E$4:$E$16) -> Steel | AN14: =LOOKUP($AK14,Pipes!$D$4:$D$16,Pipes!$F$4:$F$16) -> 140 | AO14: =POWER(100/AN14,1.852)*POWER(AH14*15.852,1.852)/POWER($AK14*0.03937,4.8655)*0.2083*304.8*3.28 -> 841.37876 | AP14: =+AO14*9.81/1000 -> 8.2539256 | AQ14: =+AO14*I14/100 -> 252.41363 | AR14: =+AQ14*9.81/1000 -> 2.4761777 | AS14: =AR14*1000/$I14 -> 82.539256 | AT14: =($D$78*J14*AK14/1000)+($D$80*K14*AK14/1000)+($D$76*L14*AK14/1000)+($D$77*M14*AK14/1000) -> 5.044 | AU14: =$AT14*AS14/1000 -> 0.41632801 | AV14: =AU14+AR14 -> 2.8925057 | AW14: =AV14/$AV$47 -> 0.014620902 | AX14: =POWER((AK14/2),2)*3.14159 -> 7389.8051 | AY14: =I14*AX14/1000 -> 221.69415 | AZ14: =AH14*1000/$AX14 -> 0.85840051 | BA14: =AA14*1000/AX14 -> 0.4948903 | BB14: =SQRT(($Z14*$AZ14*$AZ14)+((1-$Z14) * $BA14*$BA14)) -> 0.53508089 | BC14: =60*AY14/$D$56 -> 665.08246 | BD14: =BD15+BC14 -> 3815.5499 | BE14: =LOOKUP($AK14,Pipes!$D$4:$D$16,Pipes!$N$4:$N$16) -> 0.30819908 | BF14: 12 | BG14: =$D$51 -> 90 | BH14: =$D$52 -> 65 | BI14: =$D$52 -> 65 | BJ14: =BE14*I14*(BG14-BF14)/1000 -> 0.72118585 | BK14: =BE14*I14*(BH14-BF14)/1000 -> 0.49003654 | BL14: =BE14*I14*(BI14-BF14)/1000 -> 0.49003654 | BM14: =AY14*4200*($D$51-50)/(BJ14*1000*60*60) -> 14.345438 | BN14: =BL14*$N14 -> 0.49003654 | BO14: =BJ14*$N14 -> 0.72118585 | BP14: =BK14*$N14 -> 0.49003654 | BQ14: 0 | BR14: =(1-BQ14) * ($D$58/365) -> 0.32876712 | BS14: =(1-BQ14) * (1- ($D$58/365)) -> 0.67123288 | BT14: =(BQ14*BL14)+(BR14*BJ14)+(BS14*BK14) -> 0.56603083 | BU14: =BT14*N14 -> 0.56603083 | BV14: =1000*BT14/I14 -> 18.867694 | BW14: =BU14/$BU$47 -> 0.019620766 | BX14: =R14*1000/(4200*($D$52-$D$53)) -> 4.4601231 | BY14: =POWER(100/AN14,1.852)*POWER(BX14*15.852,1.852)/POWER($AK14*0.03937,4.8655)*0.2083*304.8*3.28 -> 438.20748 | BZ14: =+BY14*9.81/1000 -> 4.2988154 | CA14: =+BY14*$I14/100 -> 131.46225 | CB14: =+CA14*9.81/1000 -> 1.2896446 | CC14: =CB14*1000/$I14 -> 42.988154 | CD14: =$AT14*CC14/1000 -> 0.21683225 | CE14: =CD14+CB14 -> 1.5064769 | CF14: =$Y14*1000/$AX14 -> 0.38799697 | CG14: 0 | CH14: =SQRT(($Z14*$CF14*$CF14)+((1-$Z14) * $CG14*$CG14)) -> 0.11255096 | CI14: =LOOKUP($AK14,Pipes!$D$4:$D$16,Pipes!$I$4:$I$16) -> 33.333333 | CJ14: =CI14*O14 -> 1000
B15: 4F | C15: Run to 4th Riser | D15: Flow | E15: =E16+48 -> 336 | F15: =Summary!$C$21 -> 0.5 | G15: =$D$55*E15 -> 1008 | H15: =(((E15*$D$59)+($D$60*G15))*4200*$D$61)/(1000*60*60) -> 1489.6 | I15: 30 | K15: 2 | L15: 1 | N15: 1 | O15: =N15*I15 -> 30 | P15: =(1.19*E15) + (18.8*POWER(E15,0.5)) + 17.6 -> 762.04969 | Q15: =P15/($R$29*E15) -> 0.050400112 | R15: =Q15*$R$29*E15 -> 762.04969 | S15: 17 | T15: =R15/$D$64 -> 63.504141 | U15: 0.8 | V15: =U15*$D$49*E15 -> 806.4 | W15: =$D$65*U15*S15*$D$49 -> 40.8 | X15: =V15-W15 -> 765.6 | Y15: =R15*1000/(4200*($D$51-$D$53)) -> 2.5920058 | Z15: =((H15/R15))/24 -> 0.081447007 | AA15: =V15*1000/(4200*($D$51-$D$54)) -> 3.2 | AB15: =X15*1000/(4200*($D$51-$D$54)) -> 3.0380952 | AC15: =AB15/AH15 -> 0.53961647 | AD15: =(24*X15)/((24*X15)+H15) -> 0.92501007 | AE15: =(E15*(1-U15))*($D$63/3600) -> 0 | AF15: =(E15-S15)*($D$63/3600) -> 0 | AG15: =X15+R15 -> 1527.6497 | AH15: =AB15+Y15+AE15 -> 5.630101 | AI15: =AH15*1000000/(F15*1000) -> 11260.202 | AJ15: =2*SQRT(AI15/3.14159) -> 119.73699 | AK15: =LOOKUP($AJ15,Pipes!$D$4:$D$16,Pipes!$D$4:$D$16) -> 97 | AL15: =LOOKUP(AK15,Pipes!$D$4:$D$16,Pipes!$B$4:$B$16) -> 100 | AM15: =LOOKUP($AK15,Pipes!$D$4:$D$16,Pipes!$E$4:$E$16) -> Steel | AN15: =LOOKUP($AK15,Pipes!$D$4:$D$16,Pipes!$F$4:$F$16) -> 140 | AO15: =POWER(100/AN15,1.852)*POWER(AH15*15.852,1.852)/POWER($AK15*0.03937,4.8655)*0.2083*304.8*3.28 -> 674.59857 | AP15: =+AO15*9.81/1000 -> 6.617812 | AQ15: =+AO15*I15/100 -> 202.37957 | AR15: =+AQ15*9.81/1000 -> 1.9853436 | AS15: =AR15*1000/$I15 -> 66.17812 | AT15: =($D$78*J15*AK15/1000)+($D$80*K15*AK15/1000)+($D$76*L15*AK15/1000)+($D$77*M15*AK15/1000) -> 5.044 | AU15: =$AT15*AS15/1000 -> 0.33380244 | AV15: =AU15+AR15 -> 2.319146 | AW15: =AV15/$AV$47 -> 0.011722711 | AX15: =POWER((AK15/2),2)*3.14159 -> 7389.8051 | AY15: =I15*AX15/1000 -> 221.69415 | AZ15: =AH15*1000/$AX15 -> 0.76187409 | BA15: =AA15*1000/AX15 -> 0.43302901 | BB15: =SQRT(($Z15*$AZ15*$AZ15)+((1-$Z15) * $BA15*$BA15)) -> 0.46852721 | BC15: =60*AY15/$D$56 -> 665.08246 | BD15: =BD16+BC15 -> 3150.4674 | BE15: =LOOKUP($AK15,Pipes!$D$4:$D$16,Pipes!$N$4:$N$16) -> 0.30819908 | BF15: 12 | BG15: =$D$51 -> 90 | BH15: =$D$52 -> 65 | BI15: =$D$52 -> 65 | BJ15: =BE15*I15*(BG15-BF15)/1000 -> 0.72118585 | BK15: =BE15*I15*(BH15-BF15)/1000 -> 0.49003654 | BL15: =BE15*I15*(BI15-BF15)/1000 -> 0.49003654 | BM15: =AY15*4200*($D$51-50)/(BJ15*1000*60*60) -> 14.345438 | BN15: =BL15*$N15 -> 0.49003654 | BO15: =BJ15*$N15 -> 0.72118585 | BP15: =BK15*$N15 -> 0.49003654 | BQ15: 0 | BR15: =(1-BQ15) * ($D$58/365) -> 0.32876712 | BS15: =(1-BQ15) * (1- ($D$58/365)) -> 0.67123288 | BT15: =(BQ15*BL15)+(BR15*BJ15)+(BS15*BK15) -> 0.56603083 | BU15: =BT15*N15 -> 0.56603083 | BV15: =1000*BT15/I15 -> 18.867694 | BW15: =BU15/$BU$47 -> 0.019620766 | BX15: =R15*1000/(4200*($D$52-$D$53)) -> 4.032009 | BY15: =POWER(100/AN15,1.852)*POWER(BX15*15.852,1.852)/POWER($AK15*0.03937,4.8655)*0.2083*304.8*3.28 -> 363.50906 | BZ15: =+BY15*9.81/1000 -> 3.5660239 | CA15: =+BY15*$I15/100 -> 109.05272 | CB15: =+CA15*9.81/1000 -> 1.0698072 | CC15: =CB15*1000/$I15 -> 35.660239 | CD15: =$AT15*CC15/1000 -> 0.17987024 | CE15: =CD15+CB15 -> 1.2496774 | CF15: =$Y15*1000/$AX15 -> 0.35075428 | CG15: 0 | CH15: =SQRT(($Z15*$CF15*$CF15)+((1-$Z15) * $CG15*$CG15)) -> 0.10010149 | CI15: =LOOKUP($AK15,Pipes!$D$4:$D$16,Pipes!$I$4:$I$16) -> 33.333333 | CJ15: =CI15*O15 -> 1000
B16: 5F | C16: Run to 5th Riser | D16: Flow | E16: =E17+48 -> 288 | F16: =Summary!$C$21 -> 0.5 | G16: =$D$55*E16 -> 864 | H16: =(((E16*$D$59)+($D$60*G16))*4200*$D$61)/(1000*60*60) -> 1276.8 | I16: 30 | K16: 2 | L16: 1 | N16: 1 | O16: =N16*I16 -> 30 | P16: =(1.19*E16) + (18.8*POWER(E16,0.5)) + 17.6 -> 679.36658 | Q16: =P16/($R$29*E16) -> 0.052420261 | R16: =Q16*$R$29*E16 -> 679.36658 | S16: 16 | T16: =R16/$D$64 -> 56.613882 | U16: 0.85 | V16: =U16*$D$49*E16 -> 734.4 | W16: =$D$65*U16*S16*$D$49 -> 40.8 | X16: =V16-W16 -> 693.6 | Y16: =R16*1000/(4200*($D$51-$D$53)) -> 2.3107707 | Z16: =((H16/R16))/24 -> 0.078308238 | AA16: =V16*1000/(4200*($D$51-$D$54)) -> 2.9142857 | AB16: =X16*1000/(4200*($D$51-$D$54)) -> 2.752381 | AC16: =AB16/AH16 -> 0.54361022 | AD16: =(24*X16)/((24*X16)+H16) -> 0.92876272 | AE16: =(E16*(1-U16))*($D$63/3600) -> 0 | AF16: =(E16-S16)*($D$63/3600) -> 0 | AG16: =X16+R16 -> 1372.9666 | AH16: =AB16+Y16+AE16 -> 5.0631516 | AI16: =AH16*1000000/(F16*1000) -> 10126.303 | AJ16: =2*SQRT(AI16/3.14159) -> 113.54832 | AK16: =LOOKUP($AJ16,Pipes!$D$4:$D$16,Pipes!$D$4:$D$16) -> 97 | AL16: =LOOKUP(AK16,Pipes!$D$4:$D$16,Pipes!$B$4:$B$16) -> 100 | AM16: =LOOKUP($AK16,Pipes!$D$4:$D$16,Pipes!$E$4:$E$16) -> Steel | AN16: =LOOKUP($AK16,Pipes!$D$4:$D$16,Pipes!$F$4:$F$16) -> 140 | AO16: =POWER(100/AN16,1.852)*POWER(AH16*15.852,1.852)/POWER($AK16*0.03937,4.8655)*0.2083*304.8*3.28 -> 554.21339 | AP16: =+AO16*9.81/1000 -> 5.4368333 | AQ16: =+AO16*I16/100 -> 166.26402 | AR16: =+AQ16*9.81/1000 -> 1.63105 | AS16: =AR16*1000/$I16 -> 54.368333 | AT16: =($D$78*J16*AK16/1000)+($D$80*K16*AK16/1000)+($D$76*L16*AK16/1000)+($D$77*M16*AK16/1000) -> 5.044 | AU16: =$AT16*AS16/1000 -> 0.27423387 | AV16: =AU16+AR16 -> 1.9052839 | AW16: =AV16/$AV$47 -> 0.0096307397 | AX16: =POWER((AK16/2),2)*3.14159 -> 7389.8051 | AY16: =I16*AX16/1000 -> 221.69415 | AZ16: =AH16*1000/$AX16 -> 0.68515361 | BA16: =AA16*1000/AX16 -> 0.39436571 | BB16: =SQRT(($Z16*$AZ16*$AZ16)+((1-$Z16) * $BA16*$BA16)) -> 0.42438914 | BC16: =60*AY16/$D$56 -> 665.08246 | BD16: =BD17+BC16 -> 2485.385 | BE16: =LOOKUP($AK16,Pipes!$D$4:$D$16,Pipes!$N$4:$N$16) -> 0.30819908 | BF16: 12 | BG16: =$D$51 -> 90 | BH16: =$D$52 -> 65 | BI16: =$D$52 -> 65 | BJ16: =BE16*I16*(BG16-BF16)/1000 -> 0.72118585 | BK16: =BE16*I16*(BH16-BF16)/1000 -> 0.49003654 | BL16: =BE16*I16*(BI16-BF16)/1000 -> 0.49003654 | BM16: =AY16*4200*($D$51-50)/(BJ16*1000*60*60) -> 14.345438 | BN16: =BL16*$N16 -> 0.49003654 | BO16: =BJ16*$N16 -> 0.72118585 | BP16: =BK16*$N16 -> 0.49003654 | BQ16: 0 | BR16: =(1-BQ16) * ($D$58/365) -> 0.32876712 | BS16: =(1-BQ16) * (1- ($D$58/365)) -> 0.67123288 | BT16: =(BQ16*BL16)+(BR16*BJ16)+(BS16*BK16) -> 0.56603083 | BU16: =BT16*N16 -> 0.56603083 | BV16: =1000*BT16/I16 -> 18.867694 | BW16: =BU16/$BU$47 -> 0.019620766 | BX16: =R16*1000/(4200*($D$52-$D$53)) -> 3.5945322 | BY16: =POWER(100/AN16,1.852)*POWER(BX16*15.852,1.852)/POWER($AK16*0.03937,4.8655)*0.2083*304.8*3.28 -> 293.85908 | BZ16: =+BY16*9.81/1000 -> 2.8827576 | CA16: =+BY16*$I16/100 -> 88.157725 | CB16: =+CA16*9.81/1000 -> 0.86482728 | CC16: =CB16*1000/$I16 -> 28.827576 | CD16: =$AT16*CC16/1000 -> 0.14540629 | CE16: =CD16+CB16 -> 1.0102336 | CF16: =$Y16*1000/$AX16 -> 0.31269711 | CG16: 0 | CH16: =SQRT(($Z16*$CF16*$CF16)+((1-$Z16) * $CG16*$CG16)) -> 0.087503937 | CI16: =LOOKUP($AK16,Pipes!$D$4:$D$16,Pipes!$I$4:$I$16) -> 33.333333 | CJ16: =CI16*O16 -> 1000
B17: 6F | C17: Run to 6th Riser | D17: Flow | E17: =E18+48 -> 240 | F17: =Summary!$C$21 -> 0.5 | G17: =$D$55*E17 -> 720 | H17: =(((E17*$D$59)+($D$60*G17))*4200*$D$61)/(1000*60*60) -> 1064 | I17: 30 | K17: 2 | L17: 1 | N17: 1 | O17: =N17*I17 -> 30 | P17: =(1.19*E17) + (18.8*POWER(E17,0.5)) + 17.6 -> 594.44835 | Q17: =P17/($R$29*E17) -> 0.055041514 | R17: =Q17*$R$29*E17 -> 594.44835 | S17: 14 | T17: =R17/$D$64 -> 49.537362 | U17: 0.85 | V17: =U17*$D$49*E17 -> 612 | W17: =$D$65*U17*S17*$D$49 -> 35.7 | X17: =V17-W17 -> 576.3 | Y17: =R17*1000/(4200*($D$51-$D$53)) -> 2.0219332 | Z17: =((H17/R17))/24 -> 0.07457895 | AA17: =V17*1000/(4200*($D$51-$D$54)) -> 2.4285714 | AB17: =X17*1000/(4200*($D$51-$D$54)) -> 2.2869048 | AC17: =AB17/AH17 -> 0.53074746 | AD17: =(24*X17)/((24*X17)+H17) -> 0.92856759 | AE17: =(E17*(1-U17))*($D$63/3600) -> 0 | AF17: =(E17-S17)*($D$63/3600) -> 0 | AG17: =X17+R17 -> 1170.7483 | AH17: =AB17+Y17+AE17 -> 4.3088379 | AI17: =AH17*1000000/(F17*1000) -> 8617.6758 | AJ17: =2*SQRT(AI17/3.14159) -> 104.7491 | AK17: =LOOKUP($AJ17,Pipes!$D$4:$D$16,Pipes!$D$4:$D$16) -> 97 | AL17: =LOOKUP(AK17,Pipes!$D$4:$D$16,Pipes!$B$4:$B$16) -> 100 | AM17: =LOOKUP($AK17,Pipes!$D$4:$D$16,Pipes!$E$4:$E$16) -> Steel | AN17: =LOOKUP($AK17,Pipes!$D$4:$D$16,Pipes!$F$4:$F$16) -> 140 | AO17: =POWER(100/AN17,1.852)*POWER(AH17*15.852,1.852)/POWER($AK17*0.03937,4.8655)*0.2083*304.8*3.28 -> 411.07821 | AP17: =+AO17*9.81/1000 -> 4.0326772 | AQ17: =+AO17*I17/100 -> 123.32346 | AR17: =+AQ17*9.81/1000 -> 1.2098032 | AS17: =AR17*1000/$I17 -> 40.326772 | AT17: =($D$78*J17*AK17/1000)+($D$80*K17*AK17/1000)+($D$76*L17*AK17/1000)+($D$77*M17*AK17/1000) -> 5.044 | AU17: =$AT17*AS17/1000 -> 0.20340824 | AV17: =AU17+AR17 -> 1.4132114 | AW17: =AV17/$AV$47 -> 0.0071434348 | AX17: =POWER((AK17/2),2)*3.14159 -> 7389.8051 | AY17: =I17*AX17/1000 -> 221.69415 | AZ17: =AH17*1000/$AX17 -> 0.5830787 | BA17: =AA17*1000/AX17 -> 0.32863809 | BB17: =SQRT(($Z17*$AZ17*$AZ17)+((1-$Z17) * $BA17*$BA17)) -> 0.35398256 | BC17: =60*AY17/$D$56 -> 665.08246 | BD17: =BD18+BC17 -> 1820.3025 | BE17: =LOOKUP($AK17,Pipes!$D$4:$D$16,Pipes!$N$4:$N$16) -> 0.30819908 | BF17: 12 | BG17: =$D$51 -> 90 | BH17: =$D$52 -> 65 | BI17: =$D$52 -> 65 | BJ17: =BE17*I17*(BG17-BF17)/1000 -> 0.72118585 | BK17: =BE17*I17*(BH17-BF17)/1000 -> 0.49003654 | BL17: =BE17*I17*(BI17-BF17)/1000 -> 0.49003654 | BM17: =AY17*4200*($D$51-50)/(BJ17*1000*60*60) -> 14.345438 | BN17: =BL17*$N17 -> 0.49003654 | BO17: =BJ17*$N17 -> 0.72118585 | BP17: =BK17*$N17 -> 0.49003654 | BQ17: 0 | BR17: =(1-BQ17) * ($D$58/365) -> 0.32876712 | BS17: =(1-BQ17) * (1- ($D$58/365)) -> 0.67123288 | BT17: =(BQ17*BL17)+(BR17*BJ17)+(BS17*BK17) -> 0.56603083 | BU17: =BT17*N17 -> 0.56603083 | BV17: =1000*BT17/I17 -> 18.867694 | BW17: =BU17/$BU$47 -> 0.019620766 | BX17: =R17*1000/(4200*($D$52-$D$53)) -> 3.1452294 | BY17: =POWER(100/AN17,1.852)*POWER(BX17*15.852,1.852)/POWER($AK17*0.03937,4.8655)*0.2083*304.8*3.28 -> 229.47825 | BZ17: =+BY17*9.81/1000 -> 2.2511817 | CA17: =+BY17*$I17/100 -> 68.843476 | CB17: =+CA17*9.81/1000 -> 0.6753545 | CC17: =CB17*1000/$I17 -> 22.511817 | CD17: =$AT17*CC17/1000 -> 0.1135496 | CE17: =CD17+CB17 -> 0.78890411 | CF17: =$Y17*1000/$AX17 -> 0.27361116 | CG17: 0 | CH17: =SQRT(($Z17*$CF17*$CF17)+((1-$Z17) * $CG17*$CG17)) -> 0.074720874 | CI17: =LOOKUP($AK17,Pipes!$D$4:$D$16,Pipes!$I$4:$I$16) -> 33.333333 | CJ17: =CI17*O17 -> 1000
B18: 7F | C18: Run to 7th Riser | D18: Flow | E18: =E19+48 -> 192 | F18: =Summary!$C$21 -> 0.5 | G18: =$D$55*E18 -> 576 | H18: =(((E18*$D$59)+($D$60*G18))*4200*$D$61)/(1000*60*60) -> 851.2 | I18: 30 | K18: 2 | L18: 1 | N18: 1 | O18: =N18*I18 -> 30 | P18: =(1.19*E18) + (18.8*POWER(E18,0.5)) + 17.6 -> 506.58044 | Q18: =P18/($R$29*E18) -> 0.058631996 | R18: =Q18*$R$29*E18 -> 506.58044 | S18: 12 | T18: =R18/$D$64 -> 42.215037 | U18: 0.85 | V18: =U18*$D$49*E18 -> 489.6 | W18: =$D$65*U18*S18*$D$49 -> 30.6 | X18: =V18-W18 -> 459 | Y18: =R18*1000/(4200*($D$51-$D$53)) -> 1.7230627 | Z18: =((H18/R18))/24 -> 0.070011915 | AA18: =V18*1000/(4200*($D$51-$D$54)) -> 1.9428571 | AB18: =X18*1000/(4200*($D$51-$D$54)) -> 1.8214286 | AC18: =AB18/AH18 -> 0.51387588 | AD18: =(24*X18)/((24*X18)+H18) -> 0.92827289 | AE18: =(E18*(1-U18))*($D$63/3600) -> 0 | AF18: =(E18-S18)*($D$63/3600) -> 0 | AG18: =X18+R18 -> 965.58044 | AH18: =AB18+Y18+AE18 -> 3.5444913 | AI18: =AH18*1000000/(F18*1000) -> 7088.9826 | AJ18: =2*SQRT(AI18/3.14159) -> 95.005161 | AK18: =LOOKUP($AJ18,Pipes!$D$4:$D$16,Pipes!$D$4:$D$16) -> 72 | AL18: =LOOKUP(AK18,Pipes!$D$4:$D$16,Pipes!$B$4:$B$16) -> 75 | AM18: =LOOKUP($AK18,Pipes!$D$4:$D$16,Pipes!$E$4:$E$16) -> Steel | AN18: =LOOKUP($AK18,Pipes!$D$4:$D$16,Pipes!$F$4:$F$16) -> 140 | AO18: =POWER(100/AN18,1.852)*POWER(AH18*15.852,1.852)/POWER($AK18*0.03937,4.8655)*0.2083*304.8*3.28 -> 1220.8151 | AP18: =+AO18*9.81/1000 -> 11.976196 | AQ18: =+AO18*I18/100 -> 366.24454 | AR18: =+AQ18*9.81/1000 -> 3.5928589 | AS18: =AR18*1000/$I18 -> 119.76196 | AT18: =($D$78*J18*AK18/1000)+($D$80*K18*AK18/1000)+($D$76*L18*AK18/1000)+($D$77*M18*AK18/1000) -> 3.744 | AU18: =$AT18*AS18/1000 -> 0.44838879 | AV18: =AU18+AR18 -> 4.0412477 | AW18: =AV18/$AV$47 -> 0.02042751 | AX18: =POWER((AK18/2),2)*3.14159 -> 4071.5006 | AY18: =I18*AX18/1000 -> 122.14502 | AZ18: =AH18*1000/$AX18 -> 0.8705614 | BA18: =AA18*1000/AX18 -> 0.47718454 | BB18: =SQRT(($Z18*$AZ18*$AZ18)+((1-$Z18) * $BA18*$BA18)) -> 0.51460999 | BC18: =60*AY18/$D$56 -> 366.43506 | BD18: =BD19+BC18 -> 1155.2201 | BE18: =LOOKUP($AK18,Pipes!$D$4:$D$16,Pipes!$N$4:$N$16) -> 0.25212768 | BF18: 12 | BG18: =$D$51 -> 90 | BH18: =$D$52 -> 65 | BI18: =$D$52 -> 65 | BJ18: =BE18*I18*(BG18-BF18)/1000 -> 0.58997878 | BK18: =BE18*I18*(BH18-BF18)/1000 -> 0.40088302 | BL18: =BE18*I18*(BI18-BF18)/1000 -> 0.40088302 | BM18: =AY18*4200*($D$51-50)/(BJ18*1000*60*60) -> 9.6615354 | BN18: =BL18*$N18 -> 0.40088302 | BO18: =BJ18*$N18 -> 0.58997878 | BP18: =BK18*$N18 -> 0.40088302 | BQ18: 0 | BR18: =(1-BQ18) * ($D$58/365) -> 0.32876712 | BS18: =(1-BQ18) * (1- ($D$58/365)) -> 0.67123288 | BT18: =(BQ18*BL18)+(BR18*BJ18)+(BS18*BK18) -> 0.46305149 | BU18: =BT18*N18 -> 0.46305149 | BV18: =1000*BT18/I18 -> 15.43505 | BW18: =BU18/$BU$47 -> 0.016051113 | BX18: =R18*1000/(4200*($D$52-$D$53)) -> 2.6803198 | BY18: =POWER(100/AN18,1.852)*POWER(BX18*15.852,1.852)/POWER($AK18*0.03937,4.8655)*0.2083*304.8*3.28 -> 727.57482 | BZ18: =+BY18*9.81/1000 -> 7.137509 | CA18: =+BY18*$I18/100 -> 218.27245 | CB18: =+CA18*9.81/1000 -> 2.1412527 | CC18: =CB18*1000/$I18 -> 71.37509 | CD18: =$AT18*CC18/1000 -> 0.26722834 | CE18: =CD18+CB18 -> 2.408481 | CF18: =$Y18*1000/$AX18 -> 0.4232009 | CG18: 0 | CH18: =SQRT(($Z18*$CF18*$CF18)+((1-$Z18) * $CG18*$CG18)) -> 0.11197796 | CI18: =LOOKUP($AK18,Pipes!$D$4:$D$16,Pipes!$I$4:$I$16) -> 25 | CJ18: =CI18*O18 -> 750
B19: 8F | C19: Run to 8th Riser | D19: Flow | E19: =E20+48 -> 144 | F19: =Summary!$C$21 -> 0.5 | G19: =$D$55*E19 -> 432 | H19: =(((E19*$D$59)+($D$60*G19))*4200*$D$61)/(1000*60*60) -> 638.4 | I19: 30 | K19: 2 | L19: 1 | N19: 1 | O19: =N19*I19 -> 30 | P19: =(1.19*E19) + (18.8*POWER(E19,0.5)) + 17.6 -> 414.56 | Q19: =P19/($R$29*E19) -> 0.063975309 | R19: =Q19*$R$29*E19 -> 414.56 | S19: 10 | T19: =R19/$D$64 -> 34.546667 | U19: 0.9 | V19: =U19*$D$49*E19 -> 388.8 | W19: =$D$65*U19*S19*$D$49 -> 27 | X19: =V19-W19 -> 361.8 | Y19: =R19*1000/(4200*($D$51-$D$53)) -> 1.410068 | Z19: =((H19/R19))/24 -> 0.064164415 | AA19: =V19*1000/(4200*($D$51-$D$54)) -> 1.5428571 | AB19: =X19*1000/(4200*($D$51-$D$54)) -> 1.4357143 | AC19: =AB19/AH19 -> 0.50450601 | AD19: =(24*X19)/((24*X19)+H19) -> 0.9315139 | AE19: =(E19*(1-U19))*($D$63/3600) -> 0 | AF19: =(E19-S19)*($D$63/3600) -> 0 | AG19: =X19+R19 -> 776.36 | AH19: =AB19+Y19+AE19 -> 2.8457823 | AI19: =AH19*1000000/(F19*1000) -> 5691.5646 | AJ19: =2*SQRT(AI19/3.14159) -> 85.127735 | AK19: =LOOKUP($AJ19,Pipes!$D$4:$D$16,Pipes!$D$4:$D$16) -> 72 | AL19: =LOOKUP(AK19,Pipes!$D$4:$D$16,Pipes!$B$4:$B$16) -> 75 | AM19: =LOOKUP($AK19,Pipes!$D$4:$D$16,Pipes!$E$4:$E$16) -> Steel | AN19: =LOOKUP($AK19,Pipes!$D$4:$D$16,Pipes!$F$4:$F$16) -> 140 | AO19: =POWER(100/AN19,1.852)*POWER(AH19*15.852,1.852)/POWER($AK19*0.03937,4.8655)*0.2083*304.8*3.28 -> 812.93825 | AP19: =+AO19*9.81/1000 -> 7.9749242 | AQ19: =+AO19*I19/100 -> 243.88147 | AR19: =+AQ19*9.81/1000 -> 2.3924773 | AS19: =AR19*1000/$I19 -> 79.749242 | AT19: =($D$78*J19*AK19/1000)+($D$80*K19*AK19/1000)+($D$76*L19*AK19/1000)+($D$77*M19*AK19/1000) -> 3.744 | AU19: =$AT19*AS19/1000 -> 0.29858116 | AV19: =AU19+AR19 -> 2.6910584 | AW19: =AV19/$AV$47 -> 0.013602636 | AX19: =POWER((AK19/2),2)*3.14159 -> 4071.5006 | AY19: =I19*AX19/1000 -> 122.14502 | AZ19: =AH19*1000/$AX19 -> 0.6989517 | BA19: =AA19*1000/AX19 -> 0.37894066 | BB19: =SQRT(($Z19*$AZ19*$AZ19)+((1-$Z19) * $BA19*$BA19)) -> 0.40709794 | BC19: =60*AY19/$D$56 -> 366.43506 | BD19: =BD20+BC19 -> 788.78501 | BE19: =LOOKUP($AK19,Pipes!$D$4:$D$16,Pipes!$N$4:$N$16) -> 0.25212768 | BF19: 12 | BG19: =$D$51 -> 90 | BH19: =$D$52 -> 65 | BI19: =$D$52 -> 65 | BJ19: =BE19*I19*(BG19-BF19)/1000 -> 0.58997878 | BK19: =BE19*I19*(BH19-BF19)/1000 -> 0.40088302 | BL19: =BE19*I19*(BI19-BF19)/1000 -> 0.40088302 | BM19: =AY19*4200*($D$51-50)/(BJ19*1000*60*60) -> 9.6615354 | BN19: =BL19*$N19 -> 0.40088302 | BO19: =BJ19*$N19 -> 0.58997878 | BP19: =BK19*$N19 -> 0.40088302 | BQ19: 0 | BR19: =(1-BQ19) * ($D$58/365) -> 0.32876712 | BS19: =(1-BQ19) * (1- ($D$58/365)) -> 0.67123288 | BT19: =(BQ19*BL19)+(BR19*BJ19)+(BS19*BK19) -> 0.46305149 | BU19: =BT19*N19 -> 0.46305149 | BV19: =1000*BT19/I19 -> 15.43505 | BW19: =BU19/$BU$47 -> 0.016051113 | BX19: =R19*1000/(4200*($D$52-$D$53)) -> 2.1934392 | BY19: =POWER(100/AN19,1.852)*POWER(BX19*15.852,1.852)/POWER($AK19*0.03937,4.8655)*0.2083*304.8*3.28 -> 501.9271 | BZ19: =+BY19*9.81/1000 -> 4.9239049 | CA19: =+BY19*$I19/100 -> 150.57813 | CB19: =+CA19*9.81/1000 -> 1.4771715 | CC19: =CB19*1000/$I19 -> 49.239049 | CD19: =$AT19*CC19/1000 -> 0.184351 | CE19: =CD19+CB19 -> 1.6615225 | CF19: =$Y19*1000/$AX19 -> 0.34632637 | CG19: 0 | CH19: =SQRT(($Z19*$CF19*$CF19)+((1-$Z19) * $CG19*$CG19)) -> 0.087726879 | CI19: =LOOKUP($AK19,Pipes!$D$4:$D$16,Pipes!$I$4:$I$16) -> 25 | CJ19: =CI19*O19 -> 750
B20: 9F | C20: Run to 9th Riser | D20: Flow | E20: =E21+48 -> 96 | F20: =Summary!$C$21 -> 0.5 | G20: =$D$55*E20 -> 288 | H20: =(((E20*$D$59)+($D$60*G20))*4200*$D$61)/(1000*60*60) -> 425.6 | I20: 30 | K20: 2 | L20: 1 | N20: 1 | O20: =N20*I20 -> 30 | P20: =(1.19*E20) + (18.8*POWER(E20,0.5)) + 17.6 -> 316.04163 | Q20: =P20/($R$29*E20) -> 0.073157784 | R20: =Q20*$R$29*E20 -> 316.04163 | S20: 8 | T20: =R20/$D$64 -> 26.336802 | U20: 0.9 | V20: =U20*$D$49*E20 -> 259.2 | W20: =$D$65*U20*S20*$D$49 -> 21.6 | X20: =V20-W20 -> 237.6 | Y20: =R20*1000/(4200*($D$51-$D$53)) -> 1.0749715 | Z20: =((H20/R20))/24 -> 0.056110752 | AA20: =V20*1000/(4200*($D$51-$D$54)) -> 1.0285714 | AB20: =X20*1000/(4200*($D$51-$D$54)) -> 0.94285714 | AC20: =AB20/AH20 -> 0.46726323 | AD20: =(24*X20)/((24*X20)+H20) -> 0.9305483 | AE20: =(E20*(1-U20))*($D$63/3600) -> 0 | AF20: =(E20-S20)*($D$63/3600) -> 0 | AG20: =X20+R20 -> 553.64163 | AH20: =AB20+Y20+AE20 -> 2.0178287 | AI20: =AH20*1000000/(F20*1000) -> 4035.6573 | AJ20: =2*SQRT(AI20/3.14159) -> 71.682375 | AK20: =LOOKUP($AJ20,Pipes!$D$4:$D$16,Pipes!$D$4:$D$16) -> 51 | AL20: =LOOKUP(AK20,Pipes!$D$4:$D$16,Pipes!$B$4:$B$16) -> 54 | AM20: =LOOKUP($AK20,Pipes!$D$4:$D$16,Pipes!$E$4:$E$16) -> Copper | AN20: =LOOKUP($AK20,Pipes!$D$4:$D$16,Pipes!$F$4:$F$16) -> 140 | AO20: =POWER(100/AN20,1.852)*POWER(AH20*15.852,1.852)/POWER($AK20*0.03937,4.8655)*0.2083*304.8*3.28 -> 2302.4506 | AP20: =+AO20*9.81/1000 -> 22.587041 | AQ20: =+AO20*I20/100 -> 690.73519 | AR20: =+AQ20*9.81/1000 -> 6.7761122 | AS20: =AR20*1000/$I20 -> 225.87041 | AT20: =($D$78*J20*AK20/1000)+($D$80*K20*AK20/1000)+($D$76*L20*AK20/1000)+($D$77*M20*AK20/1000) -> 2.652 | AU20: =$AT20*AS20/1000 -> 0.59900832 | AV20: =AU20+AR20 -> 7.3751205 | AW20: =AV20/$AV$47 -> 0.037279414 | AX20: =POWER((AK20/2),2)*3.14159 -> 2042.8189 | AY20: =I20*AX20/1000 -> 61.284567 | AZ20: =AH20*1000/$AX20 -> 0.98776679 | BA20: =AA20*1000/AX20 -> 0.50350593 | BB20: =SQRT(($Z20*$AZ20*$AZ20)+((1-$Z20) * $BA20*$BA20)) -> 0.54225404 | BC20: =60*AY20/$D$56 -> 183.8537 | BD20: =BD21+BC20 -> 422.34996 | BE20: =LOOKUP($AK20,Pipes!$D$4:$D$16,Pipes!$N$4:$N$16) -> 0.2038488 | BF20: 12 | BG20: =$D$51 -> 90 | BH20: =$D$52 -> 65 | BI20: =$D$52 -> 65 | BJ20: =BE20*I20*(BG20-BF20)/1000 -> 0.47700619 | BK20: =BE20*I20*(BH20-BF20)/1000 -> 0.32411959 | BL20: =BE20*I20*(BI20-BF20)/1000 -> 0.32411959 | BM20: =AY20*4200*($D$51-50)/(BJ20*1000*60*60) -> 5.9956171 | BN20: =BL20*$N20 -> 0.32411959 | BO20: =BJ20*$N20 -> 0.47700619 | BP20: =BK20*$N20 -> 0.32411959 | BQ20: 0 | BR20: =(1-BQ20) * ($D$58/365) -> 0.32876712 | BS20: =(1-BQ20) * (1- ($D$58/365)) -> 0.67123288 | BT20: =(BQ20*BL20)+(BR20*BJ20)+(BS20*BK20) -> 0.37438368 | BU20: =BT20*N20 -> 0.37438368 | BV20: =1000*BT20/I20 -> 12.479456 | BW20: =BU20/$BU$47 -> 0.012977552 | BX20: =R20*1000/(4200*($D$52-$D$53)) -> 1.6721779 | BY20: =POWER(100/AN20,1.852)*POWER(BX20*15.852,1.852)/POWER($AK20*0.03937,4.8655)*0.2083*304.8*3.28 -> 1625.7875 | BZ20: =+BY20*9.81/1000 -> 15.948976 | CA20: =+BY20*$I20/100 -> 487.73626 | CB20: =+CA20*9.81/1000 -> 4.7846927 | CC20: =CB20*1000/$I20 -> 159.48976 | CD20: =$AT20*CC20/1000 -> 0.42296684 | CE20: =CD20+CB20 -> 5.2076595 | CF20: =$Y20*1000/$AX20 -> 0.52621969 | CG20: 0 | CH20: =SQRT(($Z20*$CF20*$CF20)+((1-$Z20) * $CG20*$CG20)) -> 0.12464938 | CI20: =LOOKUP($AK20,Pipes!$D$4:$D$16,Pipes!$I$4:$I$16) -> 17.466667 | CJ20: =CI20*O20 -> 524
B21: 10F | C21: Run to 10th riser (ground floor) | D21: Flow | E21: 48 | F21: =Summary!$C$21 -> 0.5 | G21: =$D$55*E21 -> 144 | H21: =(((E21*$D$59)+($D$60*G21))*4200*$D$61)/(1000*60*60) -> 212.8 | I21: 30 | J21: 1 | K21: 2 | N21: 1 | O21: =N21*I21 -> 30 | P21: =(1.19*E21) + (18.8*POWER(E21,0.5)) + 17.6 -> 204.97022 | Q21: =P21/($R$29*E21) -> 0.094893621 | R21: =Q21*$R$29*E21 -> 204.97022 | S21: 5 | T21: =R21/$D$64 -> 17.080852 | U21: 0.9 | V21: =U21*$D$49*E21 -> 129.6 | W21: =$D$65*U21*S21*$D$49 -> 13.5 | X21: =V21-W21 -> 116.1 | Y21: =R21*1000/(4200*($D$51-$D$53)) -> 0.69717762 | Z21: =((H21/R21))/24 -> 0.043258316 | AA21: =V21*1000/(4200*($D$51-$D$54)) -> 0.51428571 | AB21: =X21*1000/(4200*($D$51-$D$54)) -> 0.46071429 | AC21: =AB21/AH21 -> 0.39789058 | AD21: =(24*X21)/((24*X21)+H21) -> 0.92904775 | AE21: =(E21*(1-U21))*($D$63/3600) -> 0 | AF21: =(E21-S21)*($D$63/3600) -> 0 | AG21: =X21+R21 -> 321.07022 | AH21: =AB21+Y21+AE21 -> 1.1578919 | AI21: =AH21*1000000/(F21*1000) -> 2315.7838 | AJ21: =2*SQRT(AI21/3.14159) -> 54.300553 | AK21: =LOOKUP($AJ21,Pipes!$D$4:$D$16,Pipes!$D$4:$D$16) -> 51 | AL21: =LOOKUP(AK21,Pipes!$D$4:$D$16,Pipes!$B$4:$B$16) -> 54 | AM21: =LOOKUP($AK21,Pipes!$D$4:$D$16,Pipes!$E$4:$E$16) -> Copper | AN21: =LOOKUP($AK21,Pipes!$D$4:$D$16,Pipes!$F$4:$F$16) -> 140 | AO21: =POWER(100/AN21,1.852)*POWER(AH21*15.852,1.852)/POWER($AK21*0.03937,4.8655)*0.2083*304.8*3.28 -> 823.10984 | AP21: =+AO21*9.81/1000 -> 8.0747075 | AQ21: =+AO21*I21/100 -> 246.93295 | AR21: =+AQ21*9.81/1000 -> 2.4224123 | AS21: =AR21*1000/$I21 -> 80.747075 | AT21: =($D$78*J21*AK21/1000)+($D$80*K21*AK21/1000)+($D$76*L21*AK21/1000)+($D$77*M21*AK21/1000) -> 3.162 | AU21: =$AT21*AS21/1000 -> 0.25532225 | AV21: =AU21+AR21 -> 2.6777345 | AW21: =AV21/$AV$47 -> 0.013535287 | AX21: =POWER((AK21/2),2)*3.14159 -> 2042.8189 | AY21: =I21*AX21/1000 -> 61.284567 | AZ21: =AH21*1000/$AX21 -> 0.56681085 | BA21: =AA21*1000/AX21 -> 0.25175296 | BB21: =SQRT(($Z21*$AZ21*$AZ21)+((1-$Z21) * $BA21*$BA21)) -> 0.27301219 | BC21: =60*AY21/$D$56 -> 183.8537 | BD21: =BD22+BC21 -> 238.49626 | BE21: =LOOKUP($AK21,Pipes!$D$4:$D$16,Pipes!$N$4:$N$16) -> 0.2038488 | BF21: 25 | BG21: =$D$51 -> 90 | BH21: =$D$52 -> 65 | BI21: =$D$52 -> 65 | BJ21: =BE21*I21*(BG21-BF21)/1000 -> 0.39750516 | BK21: =BE21*I21*(BH21-BF21)/1000 -> 0.24461856 | BL21: =BE21*I21*(BI21-BF21)/1000 -> 0.24461856 | BM21: =AY21*4200*($D$51-50)/(BJ21*1000*60*60) -> 7.1947405 | BN21: =BL21*$N21 -> 0.24461856 | BO21: =BJ21*$N21 -> 0.39750516 | BP21: =BK21*$N21 -> 0.24461856 | BQ21: 0 | BR21: =(1-BQ21) * ($D$58/365) -> 0.32876712 | BS21: =(1-BQ21) * (1- ($D$58/365)) -> 0.67123288 | BT21: =(BQ21*BL21)+(BR21*BJ21)+(BS21*BK21) -> 0.29488265 | BU21: =BT21*N21 -> 0.29488265 | BV21: =1000*BT21/I21 -> 9.8294216 | BW21: =BU21/$BU$47 -> 0.010221746 | BX21: =R21*1000/(4200*($D$52-$D$53)) -> 1.0844985 | BY21: =POWER(100/AN21,1.852)*POWER(BX21*15.852,1.852)/POWER($AK21*0.03937,4.8655)*0.2083*304.8*3.28 -> 729.10263 | BZ21: =+BY21*9.81/1000 -> 7.1524968 | CA21: =+BY21*$I21/100 -> 218.73079 | CB21: =+CA21*9.81/1000 -> 2.145749 | CC21: =CB21*1000/$I21 -> 71.524968 | CD21: =$AT21*CC21/1000 -> 0.22616195 | CE21: =CD21+CB21 -> 2.371911 | CF21: =$Y21*1000/$AX21 -> 0.34128215 | CG21: 0 | CH21: =SQRT(($Z21*$CF21*$CF21)+((1-$Z21) * $CG21*$CG21)) -> 0.070982024 | CI21: =LOOKUP($AK21,Pipes!$D$4:$D$16,Pipes!$I$4:$I$16) -> 17.466667 | CJ21: =CI21*O21 -> 524
B22: 11F | C22: Riser to 1st floor | D22: Flow | E22: 36 | F22: =Summary!$C$22 -> 0.75 | G22: =$D$55*E22 -> 108 | H22: =(((E22*$D$59)+($D$60*G22))*4200*$D$61)/(1000*60*60) -> 159.6 | I22: 4 | L22: 1 | N22: 10 | O22: =N22*I22 -> 40 | P22: =(1.19*E22) + (18.8*POWER(E22,0.5)) + 17.6 -> 173.24 | Q22: =P22/($R$29*E22) -> 0.10693827 | R22: =Q22*$R$29*E22 -> 173.24 | S22: 4 | T22: =R22/$D$64 -> 14.436667 | U22: 0.95 | V22: =U22*$D$49*E22 -> 102.6 | W22: =$D$65*U22*S22*$D$49 -> 11.4 | X22: =V22-W22 -> 91.2 | Y22: =R22*1000/(4200*($D$51-$D$53)) -> 0.5892517 | Z22: =((H22/R22))/24 -> 0.038386054 | AA22: =V22*1000/(4200*($D$51-$D$54)) -> 0.40714286 | AB22: =X22*1000/(4200*($D$51-$D$54)) -> 0.36190476 | AC22: =AB22/AH22 -> 0.3804892 | AD22: =(24*X22)/((24*X22)+H22) -> 0.93203883 | AE22: =(E22*(1-U22))*($D$63/3600) -> 0 | AF22: =(E22-S22)*($D$63/3600) -> 0 | AG22: =X22+R22 -> 264.44 | AH22: =AB22+Y22+AE22 -> 0.95115646 | AI22: =AH22*1000000/(F22*1000) -> 1268.2086 | AJ22: =2*SQRT(AI22/3.14159) -> 40.183762 | AK22: =LOOKUP($AJ22,Pipes!$D$4:$D$16,Pipes!$D$4:$D$16) -> 39 | AL22: =LOOKUP(AK22,Pipes!$D$4:$D$16,Pipes!$B$4:$B$16) -> 42 | AM22: =LOOKUP($AK22,Pipes!$D$4:$D$16,Pipes!$E$4:$E$16) -> Copper | AN22: =LOOKUP($AK22,Pipes!$D$4:$D$16,Pipes!$F$4:$F$16) -> 140 | AO22: =POWER(100/AN22,1.852)*POWER(AH22*15.852,1.852)/POWER($AK22*0.03937,4.8655)*0.2083*304.8*3.28 -> 2109.2357 | AP22: =+AO22*9.81/1000 -> 20.691602 | AQ22: =+AO22*I22/100 -> 84.369426 | AR22: =+AQ22*9.81/1000 -> 0.82766407 | AS22: =AR22*1000/$I22 -> 206.91602 | AT22: =($D$78*J22*AK22/1000)+($D$80*K22*AK22/1000)+($D$76*L22*AK22/1000)+($D$77*M22*AK22/1000) -> 0.78 | AU22: =$AT22*AS22/1000 -> 0.16139449 | AV22: =AU22+AR22 -> 0.98905857 | AW22: =AV22/$AV$47 -> 0.0049994469 | AX22: =POWER((AK22/2),2)*3.14159 -> 1194.5896 | AY22: =I22*AX22/1000 -> 4.7783584 | AZ22: =AH22*1000/$AX22 -> 0.79622028 | BA22: =AA22*1000/AX22 -> 0.34082237 | BB22: =SQRT(($Z22*$AZ22*$AZ22)+((1-$Z22) * $BA22*$BA22)) -> 0.36883119 | BC22: =60*AY22/$D$56 -> 14.335075 | BD22: =BD23+BC22 -> 54.642555 | BE22: =LOOKUP($AK22,Pipes!$D$4:$D$16,Pipes!$N$4:$N$16) -> 0.17536897 | BF22: 25 | BG22: =$D$51 -> 90 | BH22: =$D$52 -> 65 | BI22: =$D$52 -> 65 | BJ22: =BE22*I22*(BG22-BF22)/1000 -> 0.045595933 | BK22: =BE22*I22*(BH22-BF22)/1000 -> 0.028059036 | BL22: =BE22*I22*(BI22-BF22)/1000 -> 0.028059036 | BM22: =AY22*4200*($D$51-50)/(BJ22*1000*60*60) -> 4.8905691 | BN22: =BL22*$N22 -> 0.28059036 | BO22: =BJ22*$N22 -> 0.45595933 | BP22: =BK22*$N22 -> 0.28059036 | BQ22: 0.01 | BR22: =(1-BQ22) * ($D$58/365) -> 0.32547945 | BS22: =(1-BQ22) * (1- ($D$58/365)) -> 0.66452055 | BT22: =(BQ22*BL22)+(BR22*BJ22)+(BS22*BK22) -> 0.033766935 | BU22: =BT22*N22 -> 0.33766935 | BV22: =1000*BT22/I22 -> 8.4417338 | BW22: =BU22/$BU$47 -> 0.011704895 | BX22: =R22*1000/(4200*($D$52-$D$53)) -> 0.91661376 | BY22: =POWER(100/AN22,1.852)*POWER(BX22*15.852,1.852)/POWER($AK22*0.03937,4.8655)*0.2083*304.8*3.28 -> 1969.5709 | BZ22: =+BY22*9.81/1000 -> 19.321491 | CA22: =+BY22*$I22/100 -> 78.782838 | CB22: =+CA22*9.81/1000 -> 0.77285964 | CC22: =CB22*1000/$I22 -> 193.21491 | CD22: =$AT22*CC22/1000 -> 0.15070763 | CE22: =CD22+CB22 -> 0.92356727 | CF22: =$Y22*1000/$AX22 -> 0.49326706 | CG22: 0 | CH22: =SQRT(($Z22*$CF22*$CF22)+((1-$Z22) * $CG22*$CG22)) -> 0.096642655 | CI22: =LOOKUP($AK22,Pipes!$D$4:$D$16,Pipes!$I$4:$I$16) -> 13.393333 | CJ22: =CI22*O22 -> 535.73333
B23: 12F | C23: Riser to 2nd floor | D23: Flow | E23: 24 | F23: =Summary!$C$22 -> 0.75 | G23: =$D$55*E23 -> 72 | H23: =(((E23*$D$59)+($D$60*G23))*4200*$D$61)/(1000*60*60) -> 106.4 | I23: 4 | L23: 1 | N23: 10 | O23: =N23*I23 -> 40 | P23: =(1.19*E23) + (18.8*POWER(E23,0.5)) + 17.6 -> 138.26081 | Q23: =P23/($R$29*E23) -> 0.12801927 | R23: =Q23*$R$29*E23 -> 138.26081 | S23: 4 | T23: =R23/$D$64 -> 11.521735 | U23: 0.95 | V23: =U23*$D$49*E23 -> 68.4 | W23: =$D$65*U23*S23*$D$49 -> 11.4 | X23: =V23-W23 -> 57 | Y23: =R23*1000/(4200*($D$51-$D$53)) -> 0.47027488 | Z23: =((H23/R23))/24 -> 0.032065002 | AA23: =V23*1000/(4200*($D$51-$D$54)) -> 0.27142857 | AB23: =X23*1000/(4200*($D$51-$D$54)) -> 0.22619048 | AC23: =AB23/AH23 -> 0.32476917 | AD23: =(24*X23)/((24*X23)+H23) -> 0.92783505 | AE23: =(E23*(1-U23))*($D$63/3600) -> 0 | AF23: =(E23-S23)*($D$63/3600) -> 0 | AG23: =X23+R23 -> 195.26081 | AH23: =AB23+Y23+AE23 -> 0.69646535 | AI23: =AH23*1000000/(F23*1000) -> 928.62047 | AJ23: =2*SQRT(AI23/3.14159) -> 34.385423 | AK23: =LOOKUP($AJ23,Pipes!$D$4:$D$16,Pipes!$D$4:$D$16) -> 32.6 | AL23: =LOOKUP(AK23,Pipes!$D$4:$D$16,Pipes!$B$4:$B$16) -> 35 | AM23: =LOOKUP($AK23,Pipes!$D$4:$D$16,Pipes!$E$4:$E$16) -> Copper | AN23: =LOOKUP($AK23,Pipes!$D$4:$D$16,Pipes!$F$4:$F$16) -> 140 | AO23: =POWER(100/AN23,1.852)*POWER(AH23*15.852,1.852)/POWER($AK23*0.03937,4.8655)*0.2083*304.8*3.28 -> 2832.807 | AP23: =+AO23*9.81/1000 -> 27.789837 | AQ23: =+AO23*I23/100 -> 113.31228 | AR23: =+AQ23*9.81/1000 -> 1.1115935 | AS23: =AR23*1000/$I23 -> 277.89837 | AT23: =($D$78*J23*AK23/1000)+($D$80*K23*AK23/1000)+($D$76*L23*AK23/1000)+($D$77*M23*AK23/1000) -> 0.652 | AU23: =$AT23*AS23/1000 -> 0.18118974 | AV23: =AU23+AR23 -> 1.2927832 | AW23: =AV23/$AV$47 -> 0.0065347 | AX23: =POWER((AK23/2),2)*3.14159 -> 834.68905 | AY23: =I23*AX23/1000 -> 3.3387562 | AZ23: =AH23*1000/$AX23 -> 0.83440098 | BA23: =AA23*1000/AX23 -> 0.32518526 | BB23: =SQRT(($Z23*$AZ23*$AZ23)+((1-$Z23) * $BA23*$BA23)) -> 0.35309939 | BC23: =60*AY23/$D$56 -> 10.016269 | BD23: =BD24+BC23 -> 40.307479 | BE23: =LOOKUP($AK23,Pipes!$D$4:$D$16,Pipes!$N$4:$N$16) -> 0.15825094 | BF23: 25 | BG23: =$D$51 -> 90 | BH23: =$D$52 -> 65 | BI23: =$D$52 -> 65 | BJ23: =BE23*I23*(BG23-BF23)/1000 -> 0.041145243 | BK23: =BE23*I23*(BH23-BF23)/1000 -> 0.02532015 | BL23: =BE23*I23*(BI23-BF23)/1000 -> 0.02532015 | BM23: =AY23*4200*($D$51-50)/(BJ23*1000*60*60) -> 3.7867955 | BN23: =BL23*$N23 -> 0.2532015 | BO23: =BJ23*$N23 -> 0.41145243 | BP23: =BK23*$N23 -> 0.2532015 | BQ23: 0.02 | BR23: =(1-BQ23) * ($D$58/365) -> 0.32219178 | BS23: =(1-BQ23) * (1- ($D$58/365)) -> 0.65780822 | BT23: =(BQ23*BL23)+(BR23*BJ23)+(BS23*BK23) -> 0.030418865 | BU23: =BT23*N23 -> 0.30418865 | BV23: =1000*BT23/I23 -> 7.6047162 | BW23: =BU23/$BU$47 -> 0.010544327 | BX23: =R23*1000/(4200*($D$52-$D$53)) -> 0.7315387 | BY23: =POWER(100/AN23,1.852)*POWER(BX23*15.852,1.852)/POWER($AK23*0.03937,4.8655)*0.2083*304.8*3.28 -> 3102.6628 | BZ23: =+BY23*9.81/1000 -> 30.437122 | CA23: =+BY23*$I23/100 -> 124.10651 | CB23: =+CA23*9.81/1000 -> 1.2174849 | CC23: =CB23*1000/$I23 -> 304.37122 | CD23: =$AT23*CC23/1000 -> 0.19845003 | CE23: =CD23+CB23 -> 1.4159349 | CF23: =$Y23*1000/$AX23 -> 0.56341326 | CG23: 0 | CH23: =SQRT(($Z23*$CF23*$CF23)+((1-$Z23) * $CG23*$CG23)) -> 0.10088874 | CI23: =LOOKUP($AK23,Pipes!$D$4:$D$16,Pipes!$I$4:$I$16) -> 10.98 | CJ23: =CI23*O23 -> 439.2
B24: 13F | C24: Riser to 3rd floor | D24: Flow | E24: 12 | F24: =Summary!$C$22 -> 0.75 | G24: =$D$55*E24 -> 36 | H24: =(((E24*$D$59)+($D$60*G24))*4200*$D$61)/(1000*60*60) -> 53.2 | I24: 4 | M24: 1 | N24: 10 | O24: =N24*I24 -> 40 | P24: =(1.19*E24) + (18.8*POWER(E24,0.5)) + 17.6 -> 97.00511 | Q24: =P24/($R$29*E24) -> 0.17963909 | R24: =Q24*$R$29*E24 -> 97.00511 | S24: 3 | T24: =R24/$D$64 -> 8.0837592 | U24: 0.95 | V24: =U24*$D$49*E24 -> 34.2 | W24: =$D$65*U24*S24*$D$49 -> 8.55 | X24: =V24-W24 -> 25.65 | Y24: =R24*1000/(4200*($D$51-$D$53)) -> 0.32994935 | Z24: =((H24/R24))/24 -> 0.02285103 | AA24: =V24*1000/(4200*($D$51-$D$54)) -> 0.13571429 | AB24: =X24*1000/(4200*($D$51-$D$54)) -> 0.10178571 | AC24: =AB24/AH24 -> 0.23575966 | AD24: =(24*X24)/((24*X24)+H24) -> 0.92045455 | AE24: =(E24*(1-U24))*($D$63/3600) -> 0 | AF24: =(E24-S24)*($D$63/3600) -> 0 | AG24: =X24+R24 -> 122.65511 | AH24: =AB24+Y24+AE24 -> 0.43173507 | AI24: =AH24*1000000/(F24*1000) -> 575.64676 | AJ24: =2*SQRT(AI24/3.14159) -> 27.072806 | AK24: =LOOKUP($AJ24,Pipes!$D$4:$D$16,Pipes!$D$4:$D$16) -> 26 | AL24: =LOOKUP(AK24,Pipes!$D$4:$D$16,Pipes!$B$4:$B$16) -> 28 | AM24: =LOOKUP($AK24,Pipes!$D$4:$D$16,Pipes!$E$4:$E$16) -> Copper | AN24: =LOOKUP($AK24,Pipes!$D$4:$D$16,Pipes!$F$4:$F$16) -> 140 | AO24: =POWER(100/AN24,1.852)*POWER(AH24*15.852,1.852)/POWER($AK24*0.03937,4.8655)*0.2083*304.8*3.28 -> 3512.3435 | AP24: =+AO24*9.81/1000 -> 34.45609 | AQ24: =+AO24*I24/100 -> 140.49374 | AR24: =+AQ24*9.81/1000 -> 1.3782436 | AS24: =AR24*1000/$I24 -> 344.5609 | AT24: =($D$78*J24*AK24/1000)+($D$80*K24*AK24/1000)+($D$76*L24*AK24/1000)+($D$77*M24*AK24/1000) -> 1.56 | AU24: =$AT24*AS24/1000 -> 0.537515 | AV24: =AU24+AR24 -> 1.9157586 | AW24: =AV24/$AV$47 -> 0.0096836868 | AX24: =POWER((AK24/2),2)*3.14159 -> 530.92871 | AY24: =I24*AX24/1000 -> 2.1237148 | AZ24: =AH24*1000/$AX24 -> 0.81316957 | BA24: =AA24*1000/AX24 -> 0.25561678 | BB24: =SQRT(($Z24*$AZ24*$AZ24)+((1-$Z24) * $BA24*$BA24)) -> 0.28099284 | BC24: =60*AY24/$D$56 -> 6.3711445 | BD24: =BD25+BC24 -> 30.291211 | BE24: =LOOKUP($AK24,Pipes!$D$4:$D$16,Pipes!$N$4:$N$16) -> 0.14056035 | BF24: 25 | BG24: =$D$51 -> 90 | BH24: =$D$52 -> 65 | BI24: =$D$52 -> 65 | BJ24: =BE24*I24*(BG24-BF24)/1000 -> 0.03654569 | BK24: =BE24*I24*(BH24-BF24)/1000 -> 0.022489656 | BL24: =BE24*I24*(BI24-BF24)/1000 -> 0.022489656 | BM24: =AY24*4200*($D$51-50)/(BJ24*1000*60*60) -> 2.7118572 | BN24: =BL24*$N24 -> 0.22489656 | BO24: =BJ24*$N24 -> 0.3654569 | BP24: =BK24*$N24 -> 0.22489656 | BQ24: 0.03 | BR24: =(1-BQ24) * ($D$58/365) -> 0.31890411 | BS24: =(1-BQ24) * (1- ($D$58/365)) -> 0.65109589 | BT24: =(BQ24*BL24)+(BR24*BJ24)+(BS24*BK24) -> 0.026972183 | BU24: =BT24*N24 -> 0.26972183 | BV24: =1000*BT24/I24 -> 6.7430457 | BW24: =BU24/$BU$47 -> 0.0093495772 | BX24: =R24*1000/(4200*($D$52-$D$53)) -> 0.51325455 | BY24: =POWER(100/AN24,1.852)*POWER(BX24*15.852,1.852)/POWER($AK24*0.03937,4.8655)*0.2083*304.8*3.28 -> 4838.5012 | BZ24: =+BY24*9.81/1000 -> 47.465697 | CA24: =+BY24*$I24/100 -> 193.54005 | CB24: =+CA24*9.81/1000 -> 1.8986279 | CC24: =CB24*1000/$I24 -> 474.65697 | CD24: =$AT24*CC24/1000 -> 0.74046487 | CE24: =CD24+CB24 -> 2.6390927 | CF24: =$Y24*1000/$AX24 -> 0.62145698 | CG24: 0 | CH24: =SQRT(($Z24*$CF24*$CF24)+((1-$Z24) * $CG24*$CG24)) -> 0.0939429 | CI24: =LOOKUP($AK24,Pipes!$D$4:$D$16,Pipes!$I$4:$I$16) -> 5.7133333 | CJ24: =CI24*O24 -> 228.53333
B25: 14F | C25: Lateral | D25: Periphery | E25: 6 | F25: =Summary!$C$22 -> 0.75 | G25: =$D$55*E25 -> 18 | H25: =(((E25*$D$59)+($D$60*G25))*4200*$D$61)/(1000*60*60) -> 26.6 | I25: 10 | L25: 1 | N25: 80 | O25: =N25*I25 -> 800 | P25: =(1.19*E25) + (18.8*POWER(E25,0.5)) + 17.6 -> 70.790407 | Q25: 0.35 | R25: =Q25*$R$29*E25 -> 94.5 | S25: 3 | T25: =R25/$D$64 -> 7.875 | U25: 1 | V25: =U25*$D$49*E25 -> 18 | W25: =$D$65*U25*S25*$D$49 -> 9 | X25: =V25-W25 -> 9 | Y25: =R25*1000/(4200*($D$51-$D$53)) -> 0.32142857 | Z25: =((H25/R25))/24 -> 0.011728395 | AA25: =V25*1000/(4200*($D$51-$D$54)) -> 0.071428571 | AB25: =X25*1000/(4200*($D$51-$D$54)) -> 0.035714286 | AC25: =AB25/AH25 -> 0.1 | AD25: =(24*X25)/((24*X25)+H25) -> 0.89035449 | AE25: =(E25*(1-U25))*($D$63/3600) -> 0 | AF25: =(E25-S25)*($D$63/3600) -> 0 | AG25: =X25+R25 -> 103.5 | AH25: =AB25+Y25+AE25 -> 0.35714286 | AI25: =AH25*1000000/(F25*1000) -> 476.19048 | AJ25: =2*SQRT(AI25/3.14159) -> 24.623263 | AK25: =LOOKUP($AJ25,Pipes!$D$4:$D$16,Pipes!$D$4:$D$16) -> 20 | AL25: =LOOKUP(AK25,Pipes!$D$4:$D$16,Pipes!$B$4:$B$16) -> 22 | AM25: =LOOKUP($AK25,Pipes!$D$4:$D$16,Pipes!$E$4:$E$16) -> Copper | AN25: =LOOKUP($AK25,Pipes!$D$4:$D$16,Pipes!$F$4:$F$16) -> 140 | AO25: =POWER(100/AN25,1.852)*POWER(AH25*15.852,1.852)/POWER($AK25*0.03937,4.8655)*0.2083*304.8*3.28 -> 8859.9077 | AP25: =+AO25*9.81/1000 -> 86.915694 | AQ25: =+AO25*I25/100 -> 885.99077 | AR25: =+AQ25*9.81/1000 -> 8.6915694 | AS25: =AR25*1000/I25 -> 869.15694 | AT25: =($D$78*J25*AK25/1000)+($D$80*K25*AK25/1000)+($D$76*L25*AK25/1000)+($D$77*M25*AK25/1000) -> 0.4 | AU25: =AT25*AS25/1000 -> 0.34766278 | AV25: =AU25+AR25 -> 9.0392322 | AW25: =AV25/$AV$47 -> 0.045691088 | AX25: =POWER((AK25/2),2)*3.14159 -> 314.159 | AY25: =I25*AX25/1000 -> 3.14159 | AZ25: =AH25*1000/$AX25 -> 1.136822 | BA25: =AA25*1000/AX25 -> 0.2273644 | BB25: =SQRT(($Z25*$AZ25*$AZ25)+((1-$Z25) * $BA25*$BA25)) -> 0.25738227 | BC25: =60*AY25/$D$56 -> 9.42477 | BD25: =BD26+BC25 -> 23.920066 | BE25: =LOOKUP($AK25,Pipes!$D$4:$D$16,Pipes!$N$4:$N$16) -> 0.12471091 | BF25: 25 | BG25: =$D$51 -> 90 | BH25: =$D$52 -> 65 | BI25: =MAX(BF25,$D$62+5) -> 30 | BJ25: =BE25*I25*(BG25-BF25)/1000 -> 0.081062089 | BK25: =BE25*I25*(BH25-BF25)/1000 -> 0.049884362 | BL25: =BE25*I25*(BI25-BF25)/1000 -> 0.0062355453 | BM25: =AY25*4200*($D$51-50)/(BJ25*1000*60*60) -> 1.8085832 | BN25: =BL25*$N25 -> 0.49884362 | BO25: =BJ25*$N25 -> 6.4849671 | BP25: =BK25*$N25 -> 3.990749 | BQ25: 0.1 | BR25: =(1-BQ25) * ($D$58/365) -> 0.29589041 | BS25: =(1-BQ25) * (1- ($D$58/365)) -> 0.60410959 | BT25: =(BQ25*BL25)+(BR25*BJ25)+(BS25*BK25) -> 0.054744671 | BU25: =BT25*N25 -> 4.3795737 | BV25: =1000*BT25/I25 -> 5.4744671 | BW25: =BU25/$BU$47 -> 0.15181256 | BX25: =R25*1000/(4200*($D$52-$D$53)) -> 0.5 | BY25: =POWER(100/AN25,1.852)*POWER(BX25*15.852,1.852)/POWER($AK25*0.03937,4.8655)*0.2083*304.8*3.28 -> 16521.836 | BZ25: =+BY25*9.81/1000 -> 162.07922 | CA25: =+BY25*$I25/100 -> 1652.1836 | CB25: =+CA25*9.81/1000 -> 16.207922 | CC25: =CB25*1000/$I25 -> 1620.7922 | CD25: =$AT25*CC25/1000 -> 0.64831686 | CE25: =CD25+CB25 -> 16.856238 | CF25: =$Y25*1000/$AX25 -> 1.0231398 | CG25: 0 | CH25: =SQRT(($Z25*$CF25*$CF25)+((1-$Z25) * $CG25*$CG25)) -> 0.1108037 | CI25: =LOOKUP($AK25,Pipes!$D$4:$D$16,Pipes!$I$4:$I$16) -> 4.4866667 | CJ25: =CI25*O25 -> 3589.3333
B26: 15F | C26: Lateral | D26: Periphery | E26: 4 | F26: =Summary!$C$22 -> 0.75 | G26: =$D$55*E26 -> 12 | H26: =(((E26*$D$59)+($D$60*G26))*4200*$D$61)/(1000*60*60) -> 17.733333 | I26: 6 | L26: 1 | N26: 80 | O26: =N26*I26 -> 480 | P26: =(1.19*E26) + (18.8*POWER(E26,0.5)) + 17.6 -> 59.96 | Q26: 0.5 | R26: =Q26*$R$29*E26 -> 90 | S26: 2 | T26: =R26/$D$64 -> 7.5 | U26: 1 | V26: =U26*$D$49*E26 -> 12 | W26: =$D$65*U26*S26*$D$49 -> 6 | X26: =V26-W26 -> 6 | Y26: =R26*1000/(4200*($D$51-$D$53)) -> 0.30612245 | Z26: =((H26/R26))/24 -> 0.0082098765 | AA26: =V26*1000/(4200*($D$51-$D$54)) -> 0.047619048 | AB26: =X26*1000/(4200*($D$51-$D$54)) -> 0.023809524 | AC26: =AB26/AH26 -> 0.072164948 | AD26: =(24*X26)/((24*X26)+H26) -> 0.89035449 | AE26: =(E26*(1-U26))*($D$63/3600) -> 0 | AF26: =(E26-S26)*($D$63/3600) -> 0 | AG26: =X26+R26 -> 96 | AH26: =AB26+Y26+AE26 -> 0.32993197 | AI26: =AH26*1000000/(F26*1000) -> 439.9093 | AJ26: =2*SQRT(AI26/3.14159) -> 23.666651 | AK26: =LOOKUP($AJ26,Pipes!$D$4:$D$16,Pipes!$D$4:$D$16) -> 20 | AL26: =LOOKUP(AK26,Pipes!$D$4:$D$16,Pipes!$B$4:$B$16) -> 22 | AM26: =LOOKUP($AK26,Pipes!$D$4:$D$16,Pipes!$E$4:$E$16) -> Copper | AN26: =LOOKUP($AK26,Pipes!$D$4:$D$16,Pipes!$F$4:$F$16) -> 140 | AO26: =POWER(100/AN26,1.852)*POWER(AH26*15.852,1.852)/POWER($AK26*0.03937,4.8655)*0.2083*304.8*3.28 -> 7650.4656 | AP26: =+AO26*9.81/1000 -> 75.051068 | AQ26: =+AO26*I26/100 -> 459.02794 | AR26: =+AQ26*9.81/1000 -> 4.5030641 | AS26: =AR26*1000/I26 -> 750.51068 | AT26: =($D$78*J26*AK26/1000)+($D$80*K26*AK26/1000)+($D$76*L26*AK26/1000)+($D$77*M26*AK26/1000) -> 0.4 | AU26: =AT26*AS26/1000 -> 0.30020427 | AV26: =AU26+AR26 -> 4.8032683 | AW26: =AV26/$AV$47 -> 0.024279336 | AX26: =POWER((AK26/2),2)*3.14159 -> 314.159 | AY26: =I26*AX26/1000 -> 1.884954 | AZ26: =AH26*1000/$AX26 -> 1.050207 | BA26: =AA26*1000/AX26 -> 0.15157626 | BB26: =SQRT(($Z26*$AZ26*$AZ26)+((1-$Z26) * $BA26*$BA26)) -> 0.17844242 | BC26: =60*AY26/$D$56 -> 5.654862 | BD26: =BD27+BC26 -> 14.495296 | BE26: =LOOKUP($AK26,Pipes!$D$4:$D$16,Pipes!$N$4:$N$16) -> 0.12471091 | BF26: 25 | BG26: =$D$51 -> 90 | BH26: =$D$52 -> 65 | BI26: =MAX(BF26,$D$62+5) -> 30 | BJ26: =BE26*I26*(BG26-BF26)/1000 -> 0.048637253 | BK26: =BE26*I26*(BH26-BF26)/1000 -> 0.029930617 | BL26: =BE26*I26*(BI26-BF26)/1000 -> 0.0037413272 | BM26: =AY26*4200*($D$51-50)/(BJ26*1000*60*60) -> 1.8085832 | BN26: =BL26*$N26 -> 0.29930617 | BO26: =BJ26*$N26 -> 3.8909803 | BP26: =BK26*$N26 -> 2.3944494 | BQ26: 0.15 | BR26: =(1-BQ26) * ($D$58/365) -> 0.27945205 | BS26: =(1-BQ26) * (1- ($D$58/365)) -> 0.57054795 | BT26: =(BQ26*BL26)+(BR26*BJ26)+(BS26*BK26) -> 0.031229832 | BU26: =BT26*N26 -> 2.4983865 | BV26: =1000*BT26/I26 -> 5.204972 | BW26: =BU26/$BU$47 -> 0.086603512 | BX26: =R26*1000/(4200*($D$52-$D$53)) -> 0.47619048 | BY26: =POWER(100/AN26,1.852)*POWER(BX26*15.852,1.852)/POWER($AK26*0.03937,4.8655)*0.2083*304.8*3.28 -> 15094.396 | BZ26: =+BY26*9.81/1000 -> 148.07602 | CA26: =+BY26*$I26/100 -> 905.66375 | CB26: =+CA26*9.81/1000 -> 8.8845614 | CC26: =CB26*1000/$I26 -> 1480.7602 | CD26: =$AT26*CC26/1000 -> 0.5923041 | CE26: =CD26+CB26 -> 9.4768655 | CF26: =$Y26*1000/$AX26 -> 0.97441884 | CG26: 0 | CH26: =SQRT(($Z26*$CF26*$CF26)+((1-$Z26) * $CG26*$CG26)) -> 0.088290502 | CI26: =LOOKUP($AK26,Pipes!$D$4:$D$16,Pipes!$I$4:$I$16) -> 4.4866667 | CJ26: =CI26*O26 -> 2153.6
B27: 16F | C27: Lateral | D27: Periphery | E27: 2 | F27: =Summary!$C$22 -> 0.75 | G27: =$D$55*E27 -> 6 | H27: =(((E27*$D$59)+($D$60*G27))*4200*$D$61)/(1000*60*60) -> 8.8666667 | I27: 6 | M27: 1 | N27: 80 | O27: =N27*I27 -> 480 | P27: =(1.19*E27) + (18.8*POWER(E27,0.5)) + 17.6 -> 46.567215 | Q27: 0.8 | R27: =Q27*$R$29*E27 -> 72 | S27: 2 | T27: =R27/$D$64 -> 6 | U27: 1 | V27: =U27*$D$49*E27 -> 6 | W27: =$D$65*U27*S27*$D$49 -> 6 | X27: =V27-W27 -> 0 | Y27: =R27*1000/(4200*($D$51-$D$53)) -> 0.24489796 | Z27: =((H27/R27))/24 -> 0.0051311728 | AA27: =V27*1000/(4200*($D$51-$D$54)) -> 0.023809524 | AB27: =X27*1000/(4200*($D$51-$D$54)) -> 0 | AC27: =AB27/AH27 -> 0 | AD27: =(24*X27)/((24*X27)+H27) -> 0 | AE27: =(E27*(1-U27))*($D$63/3600) -> 0 | AF27: =(E27-S27)*($D$63/3600) -> 0 | AG27: =X27+R27 -> 72 | AH27: =AB27+Y27+AE27 -> 0.24489796 | AI27: =AH27*1000000/(F27*1000) -> 326.53061 | AJ27: =2*SQRT(AI27/3.14159) -> 20.389999 | AK27: =LOOKUP($AJ27,Pipes!$D$4:$D$16,Pipes!$D$4:$D$16) -> 20 | AL27: =LOOKUP(AK27,Pipes!$D$4:$D$16,Pipes!$B$4:$B$16) -> 22 | AM27: =LOOKUP($AK27,Pipes!$D$4:$D$16,Pipes!$E$4:$E$16) -> Copper | AN27: =LOOKUP($AK27,Pipes!$D$4:$D$16,Pipes!$F$4:$F$16) -> 140 | AO27: =POWER(100/AN27,1.852)*POWER(AH27*15.852,1.852)/POWER($AK27*0.03937,4.8655)*0.2083*304.8*3.28 -> 4405.2078 | AP27: =+AO27*9.81/1000 -> 43.215088 | AQ27: =+AO27*I27/100 -> 264.31247 | AR27: =+AQ27*9.81/1000 -> 2.5929053 | AS27: =AR27*1000/I27 -> 432.15088 | AT27: =($D$78*J27*AK27/1000)+($D$80*K27*AK27/1000)+($D$76*L27*AK27/1000)+($D$77*M27*AK27/1000) -> 1.2 | AU27: =AT27*AS27/1000 -> 0.51858106 | AV27: =AU27+AR27 -> 3.1114864 | AW27: =AV27/$AV$47 -> 0.015727796 | AX27: =POWER((AK27/2),2)*3.14159 -> 314.159 | AY27: =I27*AX27/1000 -> 1.884954 | AZ27: =AH27*1000/$AX27 -> 0.77953507 | BA27: =AA27*1000/AX27 -> 0.075788132 | BB27: =SQRT(($Z27*$AZ27*$AZ27)+((1-$Z27) * $BA27*$BA27)) -> 0.093981133 | BC27: =60*AY27/$D$56 -> 5.654862 | BD27: =BD28+BC27 -> 8.8404343 | BE27: =LOOKUP($AK27,Pipes!$D$4:$D$16,Pipes!$N$4:$N$16) -> 0.12471091 | BF27: 25 | BG27: =$D$51 -> 90 | BH27: =$D$52 -> 65 | BI27: =MAX(BF27,$D$62+5) -> 30 | BJ27: =BE27*I27*(BG27-BF27)/1000 -> 0.048637253 | BK27: =BE27*I27*(BH27-BF27)/1000 -> 0.029930617 | BL27: =BE27*I27*(BI27-BF27)/1000 -> 0.0037413272 | BM27: =AY27*4200*($D$51-50)/(BJ27*1000*60*60) -> 1.8085832 | BN27: =BL27*$N27 -> 0.29930617 | BO27: =BJ27*$N27 -> 3.8909803 | BP27: =BK27*$N27 -> 2.3944494 | BQ27: 0.2 | BR27: =(1-BQ27) * ($D$58/365) -> 0.2630137 | BS27: =(1-BQ27) * (1- ($D$58/365)) -> 0.5369863 | BT27: =(BQ27*BL27)+(BR27*BJ27)+(BS27*BK27) -> 0.029612861 | BU27: =BT27*N27 -> 2.3690289 | BV27: =1000*BT27/I27 -> 4.9354768 | BW27: =BU27/$BU$47 -> 0.082119487 | BX27: =R27*1000/(4200*($D$52-$D$53)) -> 0.38095238 | BY27: =POWER(100/AN27,1.852)*POWER(BX27*15.852,1.852)/POWER($AK27*0.03937,4.8655)*0.2083*304.8*3.28 -> 9984.7775 | BZ27: =+BY27*9.81/1000 -> 97.950668 | CA27: =+BY27*$I27/100 -> 599.08665 | CB27: =+CA27*9.81/1000 -> 5.8770401 | CC27: =CB27*1000/$I27 -> 979.50668 | CD27: =$AT27*CC27/1000 -> 1.175408 | CE27: =CD27+CB27 -> 7.0524481 | CF27: =$Y27*1000/$AX27 -> 0.77953507 | CG27: 0 | CH27: =SQRT(($Z27*$CF27*$CF27)+((1-$Z27) * $CG27*$CG27)) -> 0.055839816 | CI27: =LOOKUP($AK27,Pipes!$D$4:$D$16,Pipes!$I$4:$I$16) -> 4.4866667 | CJ27: =CI27*O27 -> 2153.6
B28: 18F | C28: Feed | D28: Periphery | E28: 1 | F28: =Summary!$C$22 -> 0.75 | G28: =$D$55*E28 -> 3 | H28: =(((E28*$D$59)+($D$60*G28))*4200*$D$61)/(1000*60*60) -> 4.4333333 | I28: 8 | J28: 5 | N28: 480 | O28: =N28*I28 -> 3840 | P28: =(1.19*E28) + (18.8*POWER(E28,0.5)) + 17.6 -> 37.59 | Q28: 1 | R28: =Q28*$R$29*E28 -> 45 | S28: 1 | T28: =R28/$D$64 -> 3.75 | U28: 1 | V28: =U28*$D$49*E28 -> 3 | W28: =$D$65*U28*S28*$D$49 -> 3 | X28: =V28-W28 -> 0 | Y28: =R28*1000/(4200*($D$51-$D$53)) -> 0.15306122 | Z28: =((H28/R28))/24 -> 0.0041049383 | AA28: =V28*1000/(4200*($D$51-$D$54)) -> 0.011904762 | AB28: =X28*1000/(4200*($D$51-$D$54)) -> 0 | AC28: =AB28/AH28 -> 0 | AD28: =(24*X28)/((24*X28)+H28) -> 0 | AE28: =(E28*(1-U28))*($D$63/3600) -> 0 | AF28: =(E28-S28)*($D$63/3600) -> 0 | AG28: =X28+R28 -> 45 | AH28: =AB28+Y28+AE28 -> 0.15306122 | AI28: =AH28*1000000/(F28*1000) -> 204.08163 | AJ28: =2*SQRT(AI28/3.14159) -> 16.119709 | AK28: =LOOKUP($AJ28,Pipes!$D$4:$D$16,Pipes!$D$4:$D$16) -> 13 | AL28: =LOOKUP(AK28,Pipes!$D$4:$D$16,Pipes!$B$4:$B$16) -> 15 | AM28: =LOOKUP($AK28,Pipes!$D$4:$D$16,Pipes!$E$4:$E$16) -> Copper | AN28: =LOOKUP($AK28,Pipes!$D$4:$D$16,Pipes!$F$4:$F$16) -> 140 | AO28: =POWER(100/AN28,1.852)*POWER(AH28*15.852,1.852)/POWER($AK28*0.03937,4.8655)*0.2083*304.8*3.28 -> 15003.972 | AP28: =+AO28*9.81/1000 -> 147.18897 | AQ28: =+AO28*I28/100 -> 1200.3178 | AR28: =+AQ28*9.81/1000 -> 11.775117 | AS28: =AR28*1000/I28 -> 1471.8897 | AT28: =($D$78*J28*AK28/1000)+($D$80*K28*AK28/1000)+($D$76*L28*AK28/1000)+($D$77*M28*AK28/1000) -> 1.95 | AU28: =AT28*AS28/1000 -> 2.8701849 | AV28: =AU28+AR28 -> 14.645302 | AW28: =AV28/$AV$47 -> 0.074028389 | AX28: =POWER((AK28/2),2)*3.14159 -> 132.73218 | AY28: =I28*AX28/1000 -> 1.0618574 | AZ28: =AH28*1000/$AX28 -> 1.1531584 | BA28: =AA28*1000/AX28 -> 0.089690097 | BB28: =SQRT(($Z28*$AZ28*$AZ28)+((1-$Z28) * $BA28*$BA28)) -> 0.11606004 | BC28: =60*AY28/$D$56 -> 3.1855723 | BD28: =BC28 -> 3.1855723 | BE28: =LOOKUP($AK28,Pipes!$D$4:$D$16,Pipes!$N$4:$N$16) -> 0.10487935 | BF28: 25 | BG28: =$D$51 -> 90 | BH28: =$D$52 -> 65 | BI28: =MAX(BF28,$D$62+5) -> 30 | BJ28: =BE28*I28*(BG28-BF28)/1000 -> 0.054537261 | BK28: =BE28*I28*(BH28-BF28)/1000 -> 0.033561391 | BL28: =BE28*I28*(BI28-BF28)/1000 -> 0.0041951739 | BM28: =AY28*4200*($D$51-50)/(BJ28*1000*60*60) -> 0.90861451 | BN28: =BL28*$N28 -> 2.0136835 | BO28: =BJ28*$N28 -> 26.177885 | BP28: =BK28*$N28 -> 16.109468 | BQ28: 0.3 | BR28: =(1-BQ28) * ($D$58/365) -> 0.23013699 | BS28: =(1-BQ28) * (1- ($D$58/365)) -> 0.46986301 | BT28: =(BQ28*BL28)+(BR28*BJ28)+(BS28*BK28) -> 0.029578849 | BU28: =BT28*N28 -> 14.197848 | BV28: =1000*BT28/I28 -> 3.6973562 | BW28: =BU28/$BU$47 -> 0.49215102 | BX28: =R28*1000/(4200*($D$52-$D$53)) -> 0.23809524 | BY28: =POWER(100/AN28,1.852)*POWER(BX28*15.852,1.852)/POWER($AK28*0.03937,4.8655)*0.2083*304.8*3.28 -> 34007.777 | BZ28: =+BY28*9.81/1000 -> 333.6163 | CA28: =+BY28*$I28/100 -> 2720.6222 | CB28: =+CA28*9.81/1000 -> 26.689304 | CC28: =CB28*1000/$I28 -> 3336.163 | CD28: =$AT28*CC28/1000 -> 6.5055178 | CE28: =CD28+CB28 -> 33.194821 | CF28: =$Y28*1000/$AX28 -> 1.1531584 | CG28: 0 | CH28: =SQRT(($Z28*$CF28*$CF28)+((1-$Z28) * $CG28*$CG28)) -> 0.073882619 | CI28: =LOOKUP($AK28,Pipes!$D$4:$D$16,Pipes!$I$4:$I$16) -> 2.0933333 | CJ28: =CI28*O28 -> 8038.4
B29: HIU | C29: Load | D29: Load | E29: 1 | G29: =$D$55*E29 -> 3 | H29: =(((E29*$D$59)+($D$60*G29))*4200*$D$61)/(1000*60*60) -> 4.4333333 | N29: 480 | P29: =(1.19*E29) + (18.8*POWER(E29,0.5)) + 17.6 -> 37.59 | Q29: 1 | R29: =D48 -> 45 | S29: 1 | T29: =R29/$D$64 -> 3.75 | U29: 1 | V29: =U29*$D$49*E29 -> 3 | W29: =$D$65*U29*S29*$D$49 -> 3 | X29: =V29-W29 -> 0 | Y29: =R29*1000/(4200*($D$51-$D$53)) -> 0.15306122 | Z29: =((H29/R29))/24 -> 0.0041049383 | AA29: =V29*1000/(4200*($D$51-$D$54)) -> 0.011904762 | AB29: =X29*1000/(4200*($D$51-$D$54)) -> 0 | AC29: =AB29/AH29 -> 0 | AD29: =(24*X29)/((24*X29)+H29) -> 0 | AE29: =(E29*(1-U29))*($D$63/3600) -> 0 | AF29: =(E29-S29)*($D$63/3600) -> 0 | AG29: =X29+R29 -> 45 | AH29: =AB29+Y29+AE29 -> 0.15306122 | AV29: =$D$50 -> 55 | AW29: =AV29/$AV$47 -> 0.27801143 | BG29: =((AB29*$D$54)+(Y29*$D$53))/(AB29+Y29) -> 20 | BX29: =R29*1000/(4200*($D$52-$D$53)) -> 0.23809524 | CA29: =+BY29*$I29/100 -> 0 | CE29: =AV29 -> 55
B30: 1F | C30: Run to 1st riser | D30: Return | E30: =E12 -> 480 | F30: =Summary!$D$21 -> 0.5 | G30: =$D$55*E30 -> 1440 | H30: =(((E30*$D$59)+($D$60*G30))*4200*$D$61)/(1000*60*60) -> 2128 | I30: =I12 -> 100 | J30: =J12 -> 4 | K30: =K12 -> 0 | L30: =L12 -> 1 | M30: =M12 -> 0 | N30: =N12 -> 1 | O30: =N30*I30 -> 100 | P30: =(1.19*E30) + (18.8*POWER(E30,0.5)) + 17.6 -> 1000.6874 | Q30: =Q12 -> 0.046328119 | R30: =R12 -> 1000.6874 | S30: 23 | T30: =R30/$D$64 -> 83.390614 | U30: =U12 -> 0.75 | V30: =U30*$D$49*E30 -> 1080 | W30: =$D$65*U30*S30*$D$49 -> 51.75 | X30: =V30-W30 -> 1028.25 | Y30: =R30*1000/(4200*($D$51-$D$53)) -> 3.4036985 | Z30: =((H30/R30))/24 -> 0.088605762 | AA30: =V30*1000/(4200*($D$51-$D$54)) -> 4.2857143 | AB30: =X30*1000/(4200*($D$51-$D$54)) -> 4.0803571 | AC30: =AB30/AH30 -> 0.54520668 | AD30: =(24*X30)/((24*X30)+H30) -> 0.92061479 | AE30: =(E30*(1-U30))*($D$63/3600) -> 0 | AF30: =(E30-S30)*($D$63/3600) -> 0 | AG30: =X30+R30 -> 2028.9374 | AH30: =AB30+Y30+AE30 -> 7.4840557 | AI30: =AH30*1000000/(F30*1000) -> 14968.111 | AJ30: =2*SQRT(AI30/3.14159) -> 138.05074 | AK30: =LOOKUP($AJ30,Pipes!$D$4:$D$16,Pipes!$D$4:$D$16) -> 97 | AL30: =LOOKUP($AK30,Pipes!$D$4:$D$16,Pipes!$B$4:$B$16) -> 100 | AM30: =LOOKUP($AK30,Pipes!$D$4:$D$16,Pipes!$E$4:$E$16) -> Steel | AN30: =LOOKUP($AK30,Pipes!$D$4:$D$16,Pipes!$F$4:$F$16) -> 140 | AO30: =POWER(100/AN30,1.852)*POWER(AH30*15.852,1.852)/POWER($AK30*0.03937,4.8655)*0.2083*304.8*3.28 -> 1142.8551 | AP30: =+AO30*9.81/1000 -> 11.211409 | AQ30: =+AO30*I30/100 -> 1142.8551 | AR30: =+AQ30*9.81/1000 -> 11.211409 | AS30: =AR30*1000/I30 -> 112.11409 | AT30: =($D$78*J30*AK30/1000)+($D$80*K30*AK30/1000)+($D$76*L30*AK30/1000)+($D$77*M30*AK30/1000) -> 13.58 | AU30: =AT30*AS30/1000 -> 1.5225093 | AV30: =AU30+AR30 -> 12.733918 | AW30: =AV30/$AV$47 -> 0.064366813 | AX30: =POWER((AK30/2),2)*3.14159 -> 7389.8051 | AY30: =I30*AX30/1000 -> 738.98051 | AZ30: =AH30*1000/AX30 -> 1.0127541 | BA30: =AA30*1000/AX30 -> 0.57994957 | BB30: =SQRT((Z30*AZ30*AZ30)+((1-Z30) * BA30*BA30)) -> 0.63041262 | BE30: =LOOKUP($AK30,Pipes!$D$4:$D$16,Pipes!$Q$4:$Q$16) -> 0.45452191 | BF30: 12 | BG30: =((AB30*$D$54)+(Y30*$D$53))/(AB30+Y30) -> 25.452067 | BH30: =((AF30*$D$62)+(Y30*$D$53))/(AF30+Y30) -> 20 | BI30: =$D$62 -> 25 | BJ30: =BE30*I30*(BG30-BF30)/1000 -> 0.61142591 | BK30: =BE30*I30*(BH30-BF30)/1000 -> 0.36361753 | BL30: =BE30*I30*(BI30-BF30)/1000 -> 0.59087848 | BN30: =BL30*$N30 -> 0.59087848 | BO30: =BJ30*$N30 -> 0.61142591 | BP30: =BK30*$N30 -> 0.36361753 | BQ30: =BQ12 -> 0 | BR30: =(1-BQ30) * ($D$58/365) -> 0.32876712 | BS30: =(1-BQ30) * (1- ($D$58/365)) -> 0.67123288 | BT30: =(BQ30*BL30)+(BR30*BJ30)+(BS30*BK30) -> 0.44508877 | BU30: =BT30*N30 -> 0.44508877 | BV30: =1000*BT30/I30 -> 4.4508877 | BW30: =BU30/$BU$47 -> 0.015428458 | BX30: =R30*1000/(4200*($D$52-$D$53)) -> 5.2946421 | BY30: =POWER(100/AN30,1.852)*POWER(BX30*15.852,1.852)/POWER($AK30*0.03937,4.8655)*0.2083*304.8*3.28 -> 602.05317 | BZ30: =+BY30*9.81/1000 -> 5.9061416 | CA30: =+BY30*$I30/100 -> 602.05317 | CB30: =+CA30*9.81/1000 -> 5.9061416 | CC30: =CB30*1000/$I30 -> 59.061416 | CD30: =$AT30*CC30/1000 -> 0.80205403 | CE30: =CD30+CB30 -> 6.7081956 | CF30: =$Y30*1000/$AX30 -> 0.46059382 | CG30: 0 | CH30: =SQRT(($Z30*$CF30*$CF30)+((1-$Z30) * $CG30*$CG30)) -> 0.13710367 | CI30: =LOOKUP($AK30,Pipes!$D$4:$D$16,Pipes!$I$4:$I$16) -> 33.333333 | CJ30: =CI30*O30 -> 3333.3333
B31: 2F | C31: Run to 2nd Riser | D31: Return | E31: =E13 -> 432 | F31: =Summary!$D$21 -> 0.5 | G31: =$D$55*E31 -> 1296 | H31: =(((E31*$D$59)+($D$60*G31))*4200*$D$61)/(1000*60*60) -> 1915.2 | I31: =I13 -> 30 | J31: =J13 -> 0 | K31: =K13 -> 2 | L31: =L13 -> 1 | M31: =M13 -> 0 | N31: =N13 -> 1 | O31: =N31*I31 -> 30 | P31: =(1.19*E31) + (18.8*POWER(E31,0.5)) + 17.6 -> 922.43066 | Q31: =Q13 -> 0.047450137 | R31: =R13 -> 922.43066 | S31: 21 | T31: =R31/$D$64 -> 76.869222 | U31: =U13 -> 0.8 | V31: =U31*$D$49*E31 -> 1036.8 | W31: =$D$65*U31*S31*$D$49 -> 50.4 | X31: =V31-W31 -> 986.4 | Y31: =R31*1000/(4200*($D$51-$D$53)) -> 3.1375193 | Z31: =((H31/R31))/24 -> 0.086510567 | AA31: =V31*1000/(4200*($D$51-$D$54)) -> 4.1142857 | AB31: =X31*1000/(4200*($D$51-$D$54)) -> 3.9142857 | AC31: =AB31/AH31 -> 0.55507572 | AD31: =(24*X31)/((24*X31)+H31) -> 0.92515476 | AE31: =(E31*(1-U31))*($D$63/3600) -> 0 | AF31: =(E31-S31)*($D$63/3600) -> 0 | AG31: =X31+R31 -> 1908.8307 | AH31: =AB31+Y31+AE31 -> 7.051805 | AI31: =AH31*1000000/(F31*1000) -> 14103.61 | AJ31: =2*SQRT(AI31/3.14159) -> 134.00481 | AK31: =LOOKUP($AJ31,Pipes!$D$4:$D$16,Pipes!$D$4:$D$16) -> 97 | AL31: =LOOKUP($AK31,Pipes!$D$4:$D$16,Pipes!$B$4:$B$16) -> 100 | AM31: =LOOKUP($AK31,Pipes!$D$4:$D$16,Pipes!$E$4:$E$16) -> Steel | AN31: =LOOKUP($AK31,Pipes!$D$4:$D$16,Pipes!$F$4:$F$16) -> 140 | AO31: =POWER(100/AN31,1.852)*POWER(AH31*15.852,1.852)/POWER($AK31*0.03937,4.8655)*0.2083*304.8*3.28 -> 1023.6266 | AP31: =+AO31*9.81/1000 -> 10.041777 | AQ31: =+AO31*I31/100 -> 307.08799 | AR31: =+AQ31*9.81/1000 -> 3.0125332 | AS31: =AR31*1000/I31 -> 100.41777 | AT31: =($D$78*J31*AK31/1000)+($D$80*K31*AK31/1000)+($D$76*L31*AK31/1000)+($D$77*M31*AK31/1000) -> 5.044 | AU31: =AT31*AS31/1000 -> 0.50650725 | AV31: =AU31+AR31 -> 3.5190405 | AW31: =AV31/$AV$47 -> 0.017787881 | AX31: =POWER((AK31/2),2)*3.14159 -> 7389.8051 | AY31: =I31*AX31/1000 -> 221.69415 | AZ31: =AH31*1000/AX31 -> 0.9542613 | BA31: =AA31*1000/AX31 -> 0.55675159 | BB31: =SQRT((Z31*AZ31*AZ31)+((1-Z31) * BA31*BA31)) -> 0.6016097 | BE31: =LOOKUP($AK31,Pipes!$D$4:$D$16,Pipes!$Q$4:$Q$16) -> 0.45452191 | BF31: 12 | BG31: =((AB31*$D$54)+(Y31*$D$53))/(AB31+Y31) -> 25.550757 | BH31: =((AF31*$D$62)+(Y31*$D$53))/(AF31+Y31) -> 20 | BI31: =$D$62 -> 25 | BJ31: =BE31*I31*(BG31-BF31)/1000 -> 0.18477348 | BK31: =BE31*I31*(BH31-BF31)/1000 -> 0.10908526 | BL31: =BE31*I31*(BI31-BF31)/1000 -> 0.17726354 | BN31: =BL31*$N31 -> 0.17726354 | BO31: =BJ31*$N31 -> 0.18477348 | BP31: =BK31*$N31 -> 0.10908526 | BQ31: =BQ13 -> 0 | BR31: =(1-BQ31) * ($D$58/365) -> 0.32876712 | BS31: =(1-BQ31) * (1- ($D$58/365)) -> 0.67123288 | BT31: =(BQ31*BL31)+(BR31*BJ31)+(BS31*BK31) -> 0.13396906 | BU31: =BT31*N31 -> 0.13396906 | BV31: =1000*BT31/I31 -> 4.4656352 | BW31: =BU31/$BU$47 -> 0.0046438734 | BX31: =R31*1000/(4200*($D$52-$D$53)) -> 4.8805855 | BY31: =POWER(100/AN31,1.852)*POWER(BX31*15.852,1.852)/POWER($AK31*0.03937,4.8655)*0.2083*304.8*3.28 -> 517.77306 | BZ31: =+BY31*9.81/1000 -> 5.0793537 | CA31: =+BY31*$I31/100 -> 155.33192 | CB31: =+CA31*9.81/1000 -> 1.5238061 | CC31: =CB31*1000/$I31 -> 50.793537 | CD31: =$AT31*CC31/1000 -> 0.2562026 | CE31: =CD31+CB31 -> 1.7800087 | CF31: =$Y31*1000/$AX31 -> 0.42457402 | CG31: 0 | CH31: =SQRT(($Z31*$CF31*$CF31)+((1-$Z31) * $CG31*$CG31)) -> 0.12487859 | CI31: =LOOKUP($AK31,Pipes!$D$4:$D$16,Pipes!$I$4:$I$16) -> 33.333333 | CJ31: =CI31*O31 -> 1000
B32: 3F | C32: Run to 3rd Riser | D32: Return | E32: =E14 -> 384 | F32: =Summary!$D$21 -> 0.5 | G32: =$D$55*E32 -> 1152 | H32: =(((E32*$D$59)+($D$60*G32))*4200*$D$61)/(1000*60*60) -> 1702.4 | I32: =I14 -> 30 | J32: =J14 -> 0 | K32: =K14 -> 2 | L32: =L14 -> 1 | M32: =M14 -> 0 | N32: =N14 -> 1 | O32: =N32*I32 -> 30 | P32: =(1.19*E32) + (18.8*POWER(E32,0.5)) + 17.6 -> 842.96326 | Q32: =Q14 -> 0.048782596 | R32: =R14 -> 842.96326 | S32: 19 | T32: =R32/$D$64 -> 70.246938 | U32: =U14 -> 0.8 | V32: =U32*$D$49*E32 -> 921.6 | W32: =$D$65*U32*S32*$D$49 -> 45.6 | X32: =V32-W32 -> 876 | Y32: =R32*1000/(4200*($D$51-$D$53)) -> 2.867222 | Z32: =((H32/R32))/24 -> 0.084147598 | AA32: =V32*1000/(4200*($D$51-$D$54)) -> 3.6571429 | AB32: =X32*1000/(4200*($D$51-$D$54)) -> 3.4761905 | AC32: =AB32/AH32 -> 0.54800007 | AD32: =(24*X32)/((24*X32)+H32) -> 0.92509152 | AE32: =(E32*(1-U32))*($D$63/3600) -> 0 | AF32: =(E32-S32)*($D$63/3600) -> 0 | AG32: =X32+R32 -> 1718.9633 | AH32: =AB32+Y32+AE32 -> 6.3434124 | AI32: =AH32*1000000/(F32*1000) -> 12686.825 | AJ32: =2*SQRT(AI32/3.14159) -> 127.09595 | AK32: =LOOKUP($AJ32,Pipes!$D$4:$D$16,Pipes!$D$4:$D$16) -> 97 | AL32: =LOOKUP($AK32,Pipes!$D$4:$D$16,Pipes!$B$4:$B$16) -> 100 | AM32: =LOOKUP($AK32,Pipes!$D$4:$D$16,Pipes!$E$4:$E$16) -> Steel | AN32: =LOOKUP($AK32,Pipes!$D$4:$D$16,Pipes!$F$4:$F$16) -> 140 | AO32: =POWER(100/AN32,1.852)*POWER(AH32*15.852,1.852)/POWER($AK32*0.03937,4.8655)*0.2083*304.8*3.28 -> 841.37876 | AP32: =+AO32*9.81/1000 -> 8.2539256 | AQ32: =+AO32*I32/100 -> 252.41363 | AR32: =+AQ32*9.81/1000 -> 2.4761777 | AS32: =AR32*1000/I32 -> 82.539256 | AT32: =($D$78*J32*AK32/1000)+($D$80*K32*AK32/1000)+($D$76*L32*AK32/1000)+($D$77*M32*AK32/1000) -> 5.044 | AU32: =AT32*AS32/1000 -> 0.41632801 | AV32: =AU32+AR32 -> 2.8925057 | AW32: =AV32/$AV$47 -> 0.014620902 | AX32: =POWER((AK32/2),2)*3.14159 -> 7389.8051 | AY32: =I32*AX32/1000 -> 221.69415 | AZ32: =AH32*1000/AX32 -> 0.85840051 | BA32: =AA32*1000/AX32 -> 0.4948903 | BB32: =SQRT((Z32*AZ32*AZ32)+((1-Z32) * BA32*BA32)) -> 0.53508089 | BE32: =LOOKUP($AK32,Pipes!$D$4:$D$16,Pipes!$Q$4:$Q$16) -> 0.45452191 | BF32: 12 | BG32: =((AB32*$D$54)+(Y32*$D$53))/(AB32+Y32) -> 25.480001 | BH32: =((AF32*$D$62)+(Y32*$D$53))/(AF32+Y32) -> 20 | BI32: =$D$62 -> 25 | BJ32: =BE32*I32*(BG32-BF32)/1000 -> 0.18380867 | BK32: =BE32*I32*(BH32-BF32)/1000 -> 0.10908526 | BL32: =BE32*I32*(BI32-BF32)/1000 -> 0.17726354 | BN32: =BL32*$N32 -> 0.17726354 | BO32: =BJ32*$N32 -> 0.18380867 | BP32: =BK32*$N32 -> 0.10908526 | BQ32: =BQ14 -> 0 | BR32: =(1-BQ32) * ($D$58/365) -> 0.32876712 | BS32: =(1-BQ32) * (1- ($D$58/365)) -> 0.67123288 | BT32: =(BQ32*BL32)+(BR32*BJ32)+(BS32*BK32) -> 0.13365186 | BU32: =BT32*N32 -> 0.13365186 | BV32: =1000*BT32/I32 -> 4.455062 | BW32: =BU32/$BU$47 -> 0.0046328781 | BX32: =R32*1000/(4200*($D$52-$D$53)) -> 4.4601231 | BY32: =POWER(100/AN32,1.852)*POWER(BX32*15.852,1.852)/POWER($AK32*0.03937,4.8655)*0.2083*304.8*3.28 -> 438.20748 | BZ32: =+BY32*9.81/1000 -> 4.2988154 | CA32: =+BY32*$I32/100 -> 131.46225 | CB32: =+CA32*9.81/1000 -> 1.2896446 | CC32: =CB32*1000/$I32 -> 42.988154 | CD32: =$AT32*CC32/1000 -> 0.21683225 | CE32: =CD32+CB32 -> 1.5064769 | CF32: =$Y32*1000/$AX32 -> 0.38799697 | CG32: 0 | CH32: =SQRT(($Z32*$CF32*$CF32)+((1-$Z32) * $CG32*$CG32)) -> 0.11255096 | CI32: =LOOKUP($AK32,Pipes!$D$4:$D$16,Pipes!$I$4:$I$16) -> 33.333333 | CJ32: =CI32*O32 -> 1000
B33: 4F | C33: Run to 4th Riser | D33: Return | E33: =E15 -> 336 | F33: =Summary!$D$21 -> 0.5 | G33: =$D$55*E33 -> 1008 | H33: =(((E33*$D$59)+($D$60*G33))*4200*$D$61)/(1000*60*60) -> 1489.6 | I33: =I15 -> 30 | J33: =J15 -> 0 | K33: =K15 -> 2 | L33: =L15 -> 1 | M33: =M15 -> 0 | N33: =N15 -> 1 | O33: =N33*I33 -> 30 | P33: =(1.19*E33) + (18.8*POWER(E33,0.5)) + 17.6 -> 762.04969 | Q33: =Q15 -> 0.050400112 | R33: =R15 -> 762.04969 | S33: 17 | T33: =R33/$D$64 -> 63.504141 | U33: =U15 -> 0.8 | V33: =U33*$D$49*E33 -> 806.4 | W33: =$D$65*U33*S33*$D$49 -> 40.8 | X33: =V33-W33 -> 765.6 | Y33: =R33*1000/(4200*($D$51-$D$53)) -> 2.5920058 | Z33: =((H33/R33))/24 -> 0.081447007 | AA33: =V33*1000/(4200*($D$51-$D$54)) -> 3.2 | AB33: =X33*1000/(4200*($D$51-$D$54)) -> 3.0380952 | AC33: =AB33/AH33 -> 0.53961647 | AD33: =(24*X33)/((24*X33)+H33) -> 0.92501007 | AE33: =(E33*(1-U33))*($D$63/3600) -> 0 | AF33: =(E33-S33)*($D$63/3600) -> 0 | AG33: =X33+R33 -> 1527.6497 | AH33: =AB33+Y33+AE33 -> 5.630101 | AI33: =AH33*1000000/(F33*1000) -> 11260.202 | AJ33: =2*SQRT(AI33/3.14159) -> 119.73699 | AK33: =LOOKUP($AJ33,Pipes!$D$4:$D$16,Pipes!$D$4:$D$16) -> 97 | AL33: =LOOKUP($AK33,Pipes!$D$4:$D$16,Pipes!$B$4:$B$16) -> 100 | AM33: =LOOKUP($AK33,Pipes!$D$4:$D$16,Pipes!$E$4:$E$16) -> Steel | AN33: =LOOKUP($AK33,Pipes!$D$4:$D$16,Pipes!$F$4:$F$16) -> 140 | AO33: =POWER(100/AN33,1.852)*POWER(AH33*15.852,1.852)/POWER($AK33*0.03937,4.8655)*0.2083*304.8*3.28 -> 674.59857 | AP33: =+AO33*9.81/1000 -> 6.617812 | AQ33: =+AO33*I33/100 -> 202.37957 | AR33: =+AQ33*9.81/1000 -> 1.9853436 | AS33: =AR33*1000/I33 -> 66.17812 | AT33: =($D$78*J33*AK33/1000)+($D$80*K33*AK33/1000)+($D$76*L33*AK33/1000)+($D$77*M33*AK33/1000) -> 5.044 | AU33: =AT33*AS33/1000 -> 0.33380244 | AV33: =AU33+AR33 -> 2.319146 | AW33: =AV33/$AV$47 -> 0.011722711 | AX33: =POWER((AK33/2),2)*3.14159 -> 7389.8051 | AY33: =I33*AX33/1000 -> 221.69415 | AZ33: =AH33*1000/AX33 -> 0.76187409 | BA33: =AA33*1000/AX33 -> 0.43302901 | BB33: =SQRT((Z33*AZ33*AZ33)+((1-Z33) * BA33*BA33)) -> 0.46852721 | BE33: =LOOKUP($AK33,Pipes!$D$4:$D$16,Pipes!$Q$4:$Q$16) -> 0.45452191 | BF33: 12 | BG33: =((AB33*$D$54)+(Y33*$D$53))/(AB33+Y33) -> 25.396165 | BH33: =((AF33*$D$62)+(Y33*$D$53))/(AF33+Y33) -> 20 | BI33: =$D$62 -> 25 | BJ33: =BE33*I33*(BG33-BF33)/1000 -> 0.18266551 | BK33: =BE33*I33*(BH33-BF33)/1000 -> 0.10908526 | BL33: =BE33*I33*(BI33-BF33)/1000 -> 0.17726354 | BN33: =BL33*$N33 -> 0.17726354 | BO33: =BJ33*$N33 -> 0.18266551 | BP33: =BK33*$N33 -> 0.10908526 | BQ33: =BQ15 -> 0 | BR33: =(1-BQ33) * ($D$58/365) -> 0.32876712 | BS33: =(1-BQ33) * (1- ($D$58/365)) -> 0.67123288 | BT33: =(BQ33*BL33)+(BR33*BJ33)+(BS33*BK33) -> 0.13327603 | BU33: =BT33*N33 -> 0.13327603 | BV33: =1000*BT33/I33 -> 4.4425342 | BW33: =BU33/$BU$47 -> 0.0046198503 | BX33: =R33*1000/(4200*($D$52-$D$53)) -> 4.032009 | BY33: =POWER(100/AN33,1.852)*POWER(BX33*15.852,1.852)/POWER($AK33*0.03937,4.8655)*0.2083*304.8*3.28 -> 363.50906 | BZ33: =+BY33*9.81/1000 -> 3.5660239 | CA33: =+BY33*$I33/100 -> 109.05272 | CB33: =+CA33*9.81/1000 -> 1.0698072 | CC33: =CB33*1000/$I33 -> 35.660239 | CD33: =$AT33*CC33/1000 -> 0.17987024 | CE33: =CD33+CB33 -> 1.2496774 | CF33: =$Y33*1000/$AX33 -> 0.35075428 | CG33: 0 | CH33: =SQRT(($Z33*$CF33*$CF33)+((1-$Z33) * $CG33*$CG33)) -> 0.10010149 | CI33: =LOOKUP($AK33,Pipes!$D$4:$D$16,Pipes!$I$4:$I$16) -> 33.333333 | CJ33: =CI33*O33 -> 1000
B34: 5F | C34: Run to 5th Riser | D34: Return | E34: =E16 -> 288 | F34: =Summary!$D$21 -> 0.5 | G34: =$D$55*E34 -> 864 | H34: =(((E34*$D$59)+($D$60*G34))*4200*$D$61)/(1000*60*60) -> 1276.8 | I34: =I16 -> 30 | J34: =J16 -> 0 | K34: =K16 -> 2 | L34: =L16 -> 1 | M34: =M16 -> 0 | N34: =N16 -> 1 | O34: =N34*I34 -> 30 | P34: =(1.19*E34) + (18.8*POWER(E34,0.5)) + 17.6 -> 679.36658 | Q34: =Q16 -> 0.052420261 | R34: =R16 -> 679.36658 | S34: 16 | T34: =R34/$D$64 -> 56.613882 | U34: =U16 -> 0.85 | V34: =U34*$D$49*E34 -> 734.4 | W34: =$D$65*U34*S34*$D$49 -> 40.8 | X34: =V34-W34 -> 693.6 | Y34: =R34*1000/(4200*($D$51-$D$53)) -> 2.3107707 | Z34: =((H34/R34))/24 -> 0.078308238 | AA34: =V34*1000/(4200*($D$51-$D$54)) -> 2.9142857 | AB34: =X34*1000/(4200*($D$51-$D$54)) -> 2.752381 | AC34: =AB34/AH34 -> 0.54361022 | AD34: =(24*X34)/((24*X34)+H34) -> 0.92876272 | AE34: =(E34*(1-U34))*($D$63/3600) -> 0 | AF34: =(E34-S34)*($D$63/3600) -> 0 | AG34: =X34+R34 -> 1372.9666 | AH34: =AB34+Y34+AE34 -> 5.0631516 | AI34: =AH34*1000000/(F34*1000) -> 10126.303 | AJ34: =2*SQRT(AI34/3.14159) -> 113.54832 | AK34: =LOOKUP($AJ34,Pipes!$D$4:$D$16,Pipes!$D$4:$D$16) -> 97 | AL34: =LOOKUP($AK34,Pipes!$D$4:$D$16,Pipes!$B$4:$B$16) -> 100 | AM34: =LOOKUP($AK34,Pipes!$D$4:$D$16,Pipes!$E$4:$E$16) -> Steel | AN34: =LOOKUP($AK34,Pipes!$D$4:$D$16,Pipes!$F$4:$F$16) -> 140 | AO34: =POWER(100/AN34,1.852)*POWER(AH34*15.852,1.852)/POWER($AK34*0.03937,4.8655)*0.2083*304.8*3.28 -> 554.21339 | AP34: =+AO34*9.81/1000 -> 5.4368333 | AQ34: =+AO34*I34/100 -> 166.26402 | AR34: =+AQ34*9.81/1000 -> 1.63105 | AS34: =AR34*1000/I34 -> 54.368333 | AT34: =($D$78*J34*AK34/1000)+($D$80*K34*AK34/1000)+($D$76*L34*AK34/1000)+($D$77*M34*AK34/1000) -> 5.044 | AU34: =AT34*AS34/1000 -> 0.27423387 | AV34: =AU34+AR34 -> 1.9052839 | AW34: =AV34/$AV$47 -> 0.0096307397 | AX34: =POWER((AK34/2),2)*3.14159 -> 7389.8051 | AY34: =I34*AX34/1000 -> 221.69415 | AZ34: =AH34*1000/AX34 -> 0.68515361 | BA34: =AA34*1000/AX34 -> 0.39436571 | BB34: =SQRT((Z34*AZ34*AZ34)+((1-Z34) * BA34*BA34)) -> 0.42438914 | BE34: =LOOKUP($AK34,Pipes!$D$4:$D$16,Pipes!$Q$4:$Q$16) -> 0.45452191 | BF34: 12 | BG34: =((AB34*$D$54)+(Y34*$D$53))/(AB34+Y34) -> 25.436102 | BH34: =((AF34*$D$62)+(Y34*$D$53))/(AF34+Y34) -> 20 | BI34: =$D$62 -> 25 | BJ34: =BE34*I34*(BG34-BF34)/1000 -> 0.18321008 | BK34: =BE34*I34*(BH34-BF34)/1000 -> 0.10908526 | BL34: =BE34*I34*(BI34-BF34)/1000 -> 0.17726354 | BN34: =BL34*$N34 -> 0.17726354 | BO34: =BJ34*$N34 -> 0.18321008 | BP34: =BK34*$N34 -> 0.10908526 | BQ34: =BQ16 -> 0 | BR34: =(1-BQ34) * ($D$58/365) -> 0.32876712 | BS34: =(1-BQ34) * (1- ($D$58/365)) -> 0.67123288 | BT34: =(BQ34*BL34)+(BR34*BJ34)+(BS34*BK34) -> 0.13345506 | BU34: =BT34*N34 -> 0.13345506 | BV34: =1000*BT34/I34 -> 4.4485021 | BW34: =BU34/$BU$47 -> 0.0046260565 | BX34: =R34*1000/(4200*($D$52-$D$53)) -> 3.5945322 | BY34: =POWER(100/AN34,1.852)*POWER(BX34*15.852,1.852)/POWER($AK34*0.03937,4.8655)*0.2083*304.8*3.28 -> 293.85908 | BZ34: =+BY34*9.81/1000 -> 2.8827576 | CA34: =+BY34*$I34/100 -> 88.157725 | CB34: =+CA34*9.81/1000 -> 0.86482728 | CC34: =CB34*1000/$I34 -> 28.827576 | CD34: =$AT34*CC34/1000 -> 0.14540629 | CE34: =CD34+CB34 -> 1.0102336 | CF34: =$Y34*1000/$AX34 -> 0.31269711 | CG34: 0 | CH34: =SQRT(($Z34*$CF34*$CF34)+((1-$Z34) * $CG34*$CG34)) -> 0.087503937 | CI34: =LOOKUP($AK34,Pipes!$D$4:$D$16,Pipes!$I$4:$I$16) -> 33.333333 | CJ34: =CI34*O34 -> 1000
B35: 6F | C35: Run to 6th Riser | D35: Return | E35: =E17 -> 240 | F35: =Summary!$D$21 -> 0.5 | G35: =$D$55*E35 -> 720 | H35: =(((E35*$D$59)+($D$60*G35))*4200*$D$61)/(1000*60*60) -> 1064 | I35: =I17 -> 30 | J35: =J17 -> 0 | K35: =K17 -> 2 | L35: =L17 -> 1 | M35: =M17 -> 0 | N35: =N17 -> 1 | O35: =N35*I35 -> 30 | P35: =(1.19*E35) + (18.8*POWER(E35,0.5)) + 17.6 -> 594.44835 | Q35: =Q17 -> 0.055041514 | R35: =R17 -> 594.44835 | S35: 14 | T35: =R35/$D$64 -> 49.537362 | U35: =U17 -> 0.85 | V35: =U35*$D$49*E35 -> 612 | W35: =$D$65*U35*S35*$D$49 -> 35.7 | X35: =V35-W35 -> 576.3 | Y35: =R35*1000/(4200*($D$51-$D$53)) -> 2.0219332 | Z35: =((H35/R35))/24 -> 0.07457895 | AA35: =V35*1000/(4200*($D$51-$D$54)) -> 2.4285714 | AB35: =X35*1000/(4200*($D$51-$D$54)) -> 2.2869048 | AC35: =AB35/AH35 -> 0.53074746 | AD35: =(24*X35)/((24*X35)+H35) -> 0.92856759 | AE35: =(E35*(1-U35))*($D$63/3600) -> 0 | AF35: =(E35-S35)*($D$63/3600) -> 0 | AG35: =X35+R35 -> 1170.7483 | AH35: =AB35+Y35+AE35 -> 4.3088379 | AI35: =AH35*1000000/(F35*1000) -> 8617.6758 | AJ35: =2*SQRT(AI35/3.14159) -> 104.7491 | AK35: =LOOKUP($AJ35,Pipes!$D$4:$D$16,Pipes!$D$4:$D$16) -> 97 | AL35: =LOOKUP($AK35,Pipes!$D$4:$D$16,Pipes!$B$4:$B$16) -> 100 | AM35: =LOOKUP($AK35,Pipes!$D$4:$D$16,Pipes!$E$4:$E$16) -> Steel | AN35: =LOOKUP($AK35,Pipes!$D$4:$D$16,Pipes!$F$4:$F$16) -> 140 | AO35: =POWER(100/AN35,1.852)*POWER(AH35*15.852,1.852)/POWER($AK35*0.03937,4.8655)*0.2083*304.8*3.28 -> 411.07821 | AP35: =+AO35*9.81/1000 -> 4.0326772 | AQ35: =+AO35*I35/100 -> 123.32346 | AR35: =+AQ35*9.81/1000 -> 1.2098032 | AS35: =AR35*1000/I35 -> 40.326772 | AT35: =($D$78*J35*AK35/1000)+($D$80*K35*AK35/1000)+($D$76*L35*AK35/1000)+($D$77*M35*AK35/1000) -> 5.044 | AU35: =AT35*AS35/1000 -> 0.20340824 | AV35: =AU35+AR35 -> 1.4132114 | AW35: =AV35/$AV$47 -> 0.0071434348 | AX35: =POWER((AK35/2),2)*3.14159 -> 7389.8051 | AY35: =I35*AX35/1000 -> 221.69415 | AZ35: =AH35*1000/AX35 -> 0.5830787 | BA35: =AA35*1000/AX35 -> 0.32863809 | BB35: =SQRT((Z35*AZ35*AZ35)+((1-Z35) * BA35*BA35)) -> 0.35398256 | BE35: =LOOKUP($AK35,Pipes!$D$4:$D$16,Pipes!$Q$4:$Q$16) -> 0.45452191 | BF35: 12 | BG35: =((AB35*$D$54)+(Y35*$D$53))/(AB35+Y35) -> 25.307475 | BH35: =((AF35*$D$62)+(Y35*$D$53))/(AF35+Y35) -> 20 | BI35: =$D$62 -> 25 | BJ35: =BE35*I35*(BG35-BF35)/1000 -> 0.18145616 | BK35: =BE35*I35*(BH35-BF35)/1000 -> 0.10908526 | BL35: =BE35*I35*(BI35-BF35)/1000 -> 0.17726354 | BN35: =BL35*$N35 -> 0.17726354 | BO35: =BJ35*$N35 -> 0.18145616 | BP35: =BK35*$N35 -> 0.10908526 | BQ35: =BQ17 -> 0 | BR35: =(1-BQ35) * ($D$58/365) -> 0.32876712 | BS35: =(1-BQ35) * (1- ($D$58/365)) -> 0.67123288 | BT35: =(BQ35*BL35)+(BR35*BJ35)+(BS35*BK35) -> 0.13287843 | BU35: =BT35*N35 -> 0.13287843 | BV35: =1000*BT35/I35 -> 4.4292811 | BW35: =BU35/$BU$47 -> 0.0046060682 | BX35: =R35*1000/(4200*($D$52-$D$53)) -> 3.1452294 | BY35: =POWER(100/AN35,1.852)*POWER(BX35*15.852,1.852)/POWER($AK35*0.03937,4.8655)*0.2083*304.8*3.28 -> 229.47825 | BZ35: =+BY35*9.81/1000 -> 2.2511817 | CA35: =+BY35*$I35/100 -> 68.843476 | CB35: =+CA35*9.81/1000 -> 0.6753545 | CC35: =CB35*1000/$I35 -> 22.511817 | CD35: =$AT35*CC35/1000 -> 0.1135496 | CE35: =CD35+CB35 -> 0.78890411 | CF35: =$Y35*1000/$AX35 -> 0.27361116 | CG35: 0 | CH35: =SQRT(($Z35*$CF35*$CF35)+((1-$Z35) * $CG35*$CG35)) -> 0.074720874 | CI35: =LOOKUP($AK35,Pipes!$D$4:$D$16,Pipes!$I$4:$I$16) -> 33.333333 | CJ35: =CI35*O35 -> 1000
B36: 7F | C36: Run to 7th Riser | D36: Return | E36: =E18 -> 192 | F36: =Summary!$D$21 -> 0.5 | G36: =$D$55*E36 -> 576 | H36: =(((E36*$D$59)+($D$60*G36))*4200*$D$61)/(1000*60*60) -> 851.2 | I36: =I18 -> 30 | J36: =J18 -> 0 | K36: =K18 -> 2 | L36: =L18 -> 1 | M36: =M18 -> 0 | N36: =N18 -> 1 | O36: =N36*I36 -> 30 | P36: =(1.19*E36) + (18.8*POWER(E36,0.5)) + 17.6 -> 506.58044 | Q36: =Q18 -> 0.058631996 | R36: =R18 -> 506.58044 | S36: 12 | T36: =R36/$D$64 -> 42.215037 | U36: =U18 -> 0.85 | V36: =U36*$D$49*E36 -> 489.6 | W36: =$D$65*U36*S36*$D$49 -> 30.6 | X36: =V36-W36 -> 459 | Y36: =R36*1000/(4200*($D$51-$D$53)) -> 1.7230627 | Z36: =((H36/R36))/24 -> 0.070011915 | AA36: =V36*1000/(4200*($D$51-$D$54)) -> 1.9428571 | AB36: =X36*1000/(4200*($D$51-$D$54)) -> 1.8214286 | AC36: =AB36/AH36 -> 0.51387588 | AD36: =(24*X36)/((24*X36)+H36) -> 0.92827289 | AE36: =(E36*(1-U36))*($D$63/3600) -> 0 | AF36: =(E36-S36)*($D$63/3600) -> 0 | AG36: =X36+R36 -> 965.58044 | AH36: =AB36+Y36+AE36 -> 3.5444913 | AI36: =AH36*1000000/(F36*1000) -> 7088.9826 | AJ36: =2*SQRT(AI36/3.14159) -> 95.005161 | AK36: =LOOKUP($AJ36,Pipes!$D$4:$D$16,Pipes!$D$4:$D$16) -> 72 | AL36: =LOOKUP($AK36,Pipes!$D$4:$D$16,Pipes!$B$4:$B$16) -> 75 | AM36: =LOOKUP($AK36,Pipes!$D$4:$D$16,Pipes!$E$4:$E$16) -> Steel | AN36: =LOOKUP($AK36,Pipes!$D$4:$D$16,Pipes!$F$4:$F$16) -> 140 | AO36: =POWER(100/AN36,1.852)*POWER(AH36*15.852,1.852)/POWER($AK36*0.03937,4.8655)*0.2083*304.8*3.28 -> 1220.8151 | AP36: =+AO36*9.81/1000 -> 11.976196 | AQ36: =+AO36*I36/100 -> 366.24454 | AR36: =+AQ36*9.81/1000 -> 3.5928589 | AS36: =AR36*1000/I36 -> 119.76196 | AT36: =($D$78*J36*AK36/1000)+($D$80*K36*AK36/1000)+($D$76*L36*AK36/1000)+($D$77*M36*AK36/1000) -> 3.744 | AU36: =AT36*AS36/1000 -> 0.44838879 | AV36: =AU36+AR36 -> 4.0412477 | AW36: =AV36/$AV$47 -> 0.02042751 | AX36: =POWER((AK36/2),2)*3.14159 -> 4071.5006 | AY36: =I36*AX36/1000 -> 122.14502 | AZ36: =AH36*1000/AX36 -> 0.8705614 | BA36: =AA36*1000/AX36 -> 0.47718454 | BB36: =SQRT((Z36*AZ36*AZ36)+((1-Z36) * BA36*BA36)) -> 0.51460999 | BE36: =LOOKUP($AK36,Pipes!$D$4:$D$16,Pipes!$Q$4:$Q$16) -> 0.36344285 | BF36: 12 | BG36: =((AB36*$D$54)+(Y36*$D$53))/(AB36+Y36) -> 25.138759 | BH36: =((AF36*$D$62)+(Y36*$D$53))/(AF36+Y36) -> 20 | BI36: =$D$62 -> 25 | BJ36: =BE36*I36*(BG36-BF36)/1000 -> 0.14325564 | BK36: =BE36*I36*(BH36-BF36)/1000 -> 0.087226285 | BL36: =BE36*I36*(BI36-BF36)/1000 -> 0.14174271 | BN36: =BL36*$N36 -> 0.14174271 | BO36: =BJ36*$N36 -> 0.14325564 | BP36: =BK36*$N36 -> 0.087226285 | BQ36: =BQ18 -> 0 | BR36: =(1-BQ36) * ($D$58/365) -> 0.32876712 | BS36: =(1-BQ36) * (1- ($D$58/365)) -> 0.67123288 | BT36: =(BQ36*BL36)+(BR36*BJ36)+(BS36*BK36) -> 0.10564689 | BU36: =BT36*N36 -> 0.10564689 | BV36: =1000*BT36/I36 -> 3.5215631 | BW36: =BU36/$BU$47 -> 0.0036621203 | BX36: =R36*1000/(4200*($D$52-$D$53)) -> 2.6803198 | BY36: =POWER(100/AN36,1.852)*POWER(BX36*15.852,1.852)/POWER($AK36*0.03937,4.8655)*0.2083*304.8*3.28 -> 727.57482 | BZ36: =+BY36*9.81/1000 -> 7.137509 | CA36: =+BY36*$I36/100 -> 218.27245 | CB36: =+CA36*9.81/1000 -> 2.1412527 | CC36: =CB36*1000/$I36 -> 71.37509 | CD36: =$AT36*CC36/1000 -> 0.26722834 | CE36: =CD36+CB36 -> 2.408481 | CF36: =$Y36*1000/$AX36 -> 0.4232009 | CG36: 0 | CH36: =SQRT(($Z36*$CF36*$CF36)+((1-$Z36) * $CG36*$CG36)) -> 0.11197796 | CI36: =LOOKUP($AK36,Pipes!$D$4:$D$16,Pipes!$I$4:$I$16) -> 25 | CJ36: =CI36*O36 -> 750
B37: 8F | C37: Run to 8th Riser | D37: Return | E37: =E19 -> 144 | F37: =Summary!$D$21 -> 0.5 | G37: =$D$55*E37 -> 432 | H37: =(((E37*$D$59)+($D$60*G37))*4200*$D$61)/(1000*60*60) -> 638.4 | I37: =I19 -> 30 | J37: =J19 -> 0 | K37: =K19 -> 2 | L37: =L19 -> 1 | M37: =M19 -> 0 | N37: =N19 -> 1 | O37: =N37*I37 -> 30 | P37: =(1.19*E37) + (18.8*POWER(E37,0.5)) + 17.6 -> 414.56 | Q37: =Q19 -> 0.063975309 | R37: =R19 -> 414.56 | S37: 10 | T37: =R37/$D$64 -> 34.546667 | U37: =U19 -> 0.9 | V37: =U37*$D$49*E37 -> 388.8 | W37: =$D$65*U37*S37*$D$49 -> 27 | X37: =V37-W37 -> 361.8 | Y37: =R37*1000/(4200*($D$51-$D$53)) -> 1.410068 | Z37: =((H37/R37))/24 -> 0.064164415 | AA37: =V37*1000/(4200*($D$51-$D$54)) -> 1.5428571 | AB37: =X37*1000/(4200*($D$51-$D$54)) -> 1.4357143 | AC37: =AB37/AH37 -> 0.50450601 | AD37: =(24*X37)/((24*X37)+H37) -> 0.9315139 | AE37: =(E37*(1-U37))*($D$63/3600) -> 0 | AF37: =(E37-S37)*($D$63/3600) -> 0 | AG37: =X37+R37 -> 776.36 | AH37: =AB37+Y37+AE37 -> 2.8457823 | AI37: =AH37*1000000/(F37*1000) -> 5691.5646 | AJ37: =2*SQRT(AI37/3.14159) -> 85.127735 | AK37: =LOOKUP($AJ37,Pipes!$D$4:$D$16,Pipes!$D$4:$D$16) -> 72 | AL37: =LOOKUP($AK37,Pipes!$D$4:$D$16,Pipes!$B$4:$B$16) -> 75 | AM37: =LOOKUP($AK37,Pipes!$D$4:$D$16,Pipes!$E$4:$E$16) -> Steel | AN37: =LOOKUP($AK37,Pipes!$D$4:$D$16,Pipes!$F$4:$F$16) -> 140 | AO37: =POWER(100/AN37,1.852)*POWER(AH37*15.852,1.852)/POWER($AK37*0.03937,4.8655)*0.2083*304.8*3.28 -> 812.93825 | AP37: =+AO37*9.81/1000 -> 7.9749242 | AQ37: =+AO37*I37/100 -> 243.88147 | AR37: =+AQ37*9.81/1000 -> 2.3924773 | AS37: =AR37*1000/I37 -> 79.749242 | AT37: =($D$78*J37*AK37/1000)+($D$80*K37*AK37/1000)+($D$76*L37*AK37/1000)+($D$77*M37*AK37/1000) -> 3.744 | AU37: =AT37*AS37/1000 -> 0.29858116 | AV37: =AU37+AR37 -> 2.6910584 | AW37: =AV37/$AV$47 -> 0.013602636 | AX37: =POWER((AK37/2),2)*3.14159 -> 4071.5006 | AY37: =I37*AX37/1000 -> 122.14502 | AZ37: =AH37*1000/AX37 -> 0.6989517 | BA37: =AA37*1000/AX37 -> 0.37894066 | BB37: =SQRT((Z37*AZ37*AZ37)+((1-Z37) * BA37*BA37)) -> 0.40709794 | BE37: =LOOKUP($AK37,Pipes!$D$4:$D$16,Pipes!$Q$4:$Q$16) -> 0.36344285 | BF37: 12 | BG37: =((AB37*$D$54)+(Y37*$D$53))/(AB37+Y37) -> 25.04506 | BH37: =((AF37*$D$62)+(Y37*$D$53))/(AF37+Y37) -> 20 | BI37: =$D$62 -> 25 | BJ37: =BE37*I37*(BG37-BF37)/1000 -> 0.14223402 | BK37: =BE37*I37*(BH37-BF37)/1000 -> 0.087226285 | BL37: =BE37*I37*(BI37-BF37)/1000 -> 0.14174271 | BN37: =BL37*$N37 -> 0.14174271 | BO37: =BJ37*$N37 -> 0.14223402 | BP37: =BK37*$N37 -> 0.087226285 | BQ37: =BQ19 -> 0 | BR37: =(1-BQ37) * ($D$58/365) -> 0.32876712 | BS37: =(1-BQ37) * (1- ($D$58/365)) -> 0.67123288 | BT37: =(BQ37*BL37)+(BR37*BJ37)+(BS37*BK37) -> 0.10531102 | BU37: =BT37*N37 -> 0.10531102 | BV37: =1000*BT37/I37 -> 3.5103673 | BW37: =BU37/$BU$47 -> 0.0036504776 | BX37: =R37*1000/(4200*($D$52-$D$53)) -> 2.1934392 | BY37: =POWER(100/AN37,1.852)*POWER(BX37*15.852,1.852)/POWER($AK37*0.03937,4.8655)*0.2083*304.8*3.28 -> 501.9271 | BZ37: =+BY37*9.81/1000 -> 4.9239049 | CA37: =+BY37*$I37/100 -> 150.57813 | CB37: =+CA37*9.81/1000 -> 1.4771715 | CC37: =CB37*1000/$I37 -> 49.239049 | CD37: =$AT37*CC37/1000 -> 0.184351 | CE37: =CD37+CB37 -> 1.6615225 | CF37: =$Y37*1000/$AX37 -> 0.34632637 | CG37: 0 | CH37: =SQRT(($Z37*$CF37*$CF37)+((1-$Z37) * $CG37*$CG37)) -> 0.087726879 | CI37: =LOOKUP($AK37,Pipes!$D$4:$D$16,Pipes!$I$4:$I$16) -> 25 | CJ37: =CI37*O37 -> 750
B38: 9F | C38: Run to 9th Riser | D38: Return | E38: =E20 -> 96 | F38: =Summary!$D$21 -> 0.5 | G38: =$D$55*E38 -> 288 | H38: =(((E38*$D$59)+($D$60*G38))*4200*$D$61)/(1000*60*60) -> 425.6 | I38: =I20 -> 30 | J38: =J20 -> 0 | K38: =K20 -> 2 | L38: =L20 -> 1 | M38: =M20 -> 0 | N38: =N20 -> 1 | O38: =N38*I38 -> 30 | P38: =(1.19*E38) + (18.8*POWER(E38,0.5)) + 17.6 -> 316.04163 | Q38: =Q20 -> 0.073157784 | R38: =R20 -> 316.04163 | S38: 8 | T38: =R38/$D$64 -> 26.336802 | U38: =U20 -> 0.9 | V38: =U38*$D$49*E38 -> 259.2 | W38: =$D$65*U38*S38*$D$49 -> 21.6 | X38: =V38-W38 -> 237.6 | Y38: =R38*1000/(4200*($D$51-$D$53)) -> 1.0749715 | Z38: =((H38/R38))/24 -> 0.056110752 | AA38: =V38*1000/(4200*($D$51-$D$54)) -> 1.0285714 | AB38: =X38*1000/(4200*($D$51-$D$54)) -> 0.94285714 | AC38: =AB38/AH38 -> 0.46726323 | AD38: =(24*X38)/((24*X38)+H38) -> 0.9305483 | AE38: =(E38*(1-U38))*($D$63/3600) -> 0 | AF38: =(E38-S38)*($D$63/3600) -> 0 | AG38: =X38+R38 -> 553.64163 | AH38: =AB38+Y38+AE38 -> 2.0178287 | AI38: =AH38*1000000/(F38*1000) -> 4035.6573 | AJ38: =2*SQRT(AI38/3.14159) -> 71.682375 | AK38: =LOOKUP($AJ38,Pipes!$D$4:$D$16,Pipes!$D$4:$D$16) -> 51 | AL38: =LOOKUP($AK38,Pipes!$D$4:$D$16,Pipes!$B$4:$B$16) -> 54 | AM38: =LOOKUP($AK38,Pipes!$D$4:$D$16,Pipes!$E$4:$E$16) -> Copper | AN38: =LOOKUP($AK38,Pipes!$D$4:$D$16,Pipes!$F$4:$F$16) -> 140 | AO38: =POWER(100/AN38,1.852)*POWER(AH38*15.852,1.852)/POWER($AK38*0.03937,4.8655)*0.2083*304.8*3.28 -> 2302.4506 | AP38: =+AO38*9.81/1000 -> 22.587041 | AQ38: =+AO38*I38/100 -> 690.73519 | AR38: =+AQ38*9.81/1000 -> 6.7761122 | AS38: =AR38*1000/I38 -> 225.87041 | AT38: =($D$78*J38*AK38/1000)+($D$80*K38*AK38/1000)+($D$76*L38*AK38/1000)+($D$77*M38*AK38/1000) -> 2.652 | AU38: =AT38*AS38/1000 -> 0.59900832 | AV38: =AU38+AR38 -> 7.3751205 | AW38: =AV38/$AV$47 -> 0.037279414 | AX38: =POWER((AK38/2),2)*3.14159 -> 2042.8189 | AY38: =I38*AX38/1000 -> 61.284567 | AZ38: =AH38*1000/AX38 -> 0.98776679 | BA38: =AA38*1000/AX38 -> 0.50350593 | BB38: =SQRT((Z38*AZ38*AZ38)+((1-Z38) * BA38*BA38)) -> 0.54225404 | BE38: =LOOKUP($AK38,Pipes!$D$4:$D$16,Pipes!$Q$4:$Q$16) -> 0.28589751 | BF38: 12 | BG38: =((AB38*$D$54)+(Y38*$D$53))/(AB38+Y38) -> 24.672632 | BH38: =((AF38*$D$62)+(Y38*$D$53))/(AF38+Y38) -> 20 | BI38: =$D$62 -> 25 | BJ38: =BE38*I38*(BG38-BF38)/1000 -> 0.10869222 | BK38: =BE38*I38*(BH38-BF38)/1000 -> 0.068615402 | BL38: =BE38*I38*(BI38-BF38)/1000 -> 0.11150003 | BN38: =BL38*$N38 -> 0.11150003 | BO38: =BJ38*$N38 -> 0.10869222 | BP38: =BK38*$N38 -> 0.068615402 | BQ38: =BQ20 -> 0 | BR38: =(1-BQ38) * ($D$58/365) -> 0.32876712 | BS38: =(1-BQ38) * (1- ($D$58/365)) -> 0.67123288 | BT38: =(BQ38*BL38)+(BR38*BJ38)+(BS38*BK38) -> 0.081791342 | BU38: =BT38*N38 -> 0.081791342 | BV38: =1000*BT38/I38 -> 2.7263781 | BW38: =BU38/$BU$47 -> 0.0028351968 | BX38: =R38*1000/(4200*($D$52-$D$53)) -> 1.6721779 | BY38: =POWER(100/AN38,1.852)*POWER(BX38*15.852,1.852)/POWER($AK38*0.03937,4.8655)*0.2083*304.8*3.28 -> 1625.7875 | BZ38: =+BY38*9.81/1000 -> 15.948976 | CA38: =+BY38*$I38/100 -> 487.73626 | CB38: =+CA38*9.81/1000 -> 4.7846927 | CC38: =CB38*1000/$I38 -> 159.48976 | CD38: =$AT38*CC38/1000 -> 0.42296684 | CE38: =CD38+CB38 -> 5.2076595 | CF38: =$Y38*1000/$AX38 -> 0.52621969 | CG38: 0 | CH38: =SQRT(($Z38*$CF38*$CF38)+((1-$Z38) * $CG38*$CG38)) -> 0.12464938 | CI38: =LOOKUP($AK38,Pipes!$D$4:$D$16,Pipes!$I$4:$I$16) -> 17.466667 | CJ38: =CI38*O38 -> 524
B39: 10F | C39: Run to 10th riser (ground floor) | D39: Return | E39: =E21 -> 48 | F39: =Summary!$D$21 -> 0.5 | G39: =$D$55*E39 -> 144 | H39: =(((E39*$D$59)+($D$60*G39))*4200*$D$61)/(1000*60*60) -> 212.8 | I39: =I21 -> 30 | J39: =J21 -> 1 | K39: =K21 -> 2 | L39: =L21 -> 0 | M39: =M21 -> 0 | N39: =N21 -> 1 | O39: =N39*I39 -> 30 | P39: =(1.19*E39) + (18.8*POWER(E39,0.5)) + 17.6 -> 204.97022 | Q39: =Q21 -> 0.094893621 | R39: =R21 -> 204.97022 | S39: 5 | T39: =R39/$D$64 -> 17.080852 | U39: =U21 -> 0.9 | V39: =U39*$D$49*E39 -> 129.6 | W39: =$D$65*U39*S39*$D$49 -> 13.5 | X39: =V39-W39 -> 116.1 | Y39: =R39*1000/(4200*($D$51-$D$53)) -> 0.69717762 | Z39: =((H39/R39))/24 -> 0.043258316 | AA39: =V39*1000/(4200*($D$51-$D$54)) -> 0.51428571 | AB39: =X39*1000/(4200*($D$51-$D$54)) -> 0.46071429 | AC39: =AB39/AH39 -> 0.39789058 | AD39: =(24*X39)/((24*X39)+H39) -> 0.92904775 | AE39: =(E39*(1-U39))*($D$63/3600) -> 0 | AF39: =(E39-S39)*($D$63/3600) -> 0 | AG39: =X39+R39 -> 321.07022 | AH39: =AB39+Y39+AE39 -> 1.1578919 | AI39: =AH39*1000000/(F39*1000) -> 2315.7838 | AJ39: =2*SQRT(AI39/3.14159) -> 54.300553 | AK39: =LOOKUP($AJ39,Pipes!$D$4:$D$16,Pipes!$D$4:$D$16) -> 51 | AL39: =LOOKUP($AK39,Pipes!$D$4:$D$16,Pipes!$B$4:$B$16) -> 54 | AM39: =LOOKUP($AK39,Pipes!$D$4:$D$16,Pipes!$E$4:$E$16) -> Copper | AN39: =LOOKUP($AK39,Pipes!$D$4:$D$16,Pipes!$F$4:$F$16) -> 140 | AO39: =POWER(100/AN39,1.852)*POWER(AH39*15.852,1.852)/POWER($AK39*0.03937,4.8655)*0.2083*304.8*3.28 -> 823.10984 | AP39: =+AO39*9.81/1000 -> 8.0747075 | AQ39: =+AO39*I39/100 -> 246.93295 | AR39: =+AQ39*9.81/1000 -> 2.4224123 | AS39: =AR39*1000/I39 -> 80.747075 | AT39: =($D$78*J39*AK39/1000)+($D$80*K39*AK39/1000)+($D$76*L39*AK39/1000)+($D$77*M39*AK39/1000) -> 3.162 | AU39: =AT39*AS39/1000 -> 0.25532225 | AV39: =AU39+AR39 -> 2.6777345 | AW39: =AV39/$AV$47 -> 0.013535287 | AX39: =POWER((AK39/2),2)*3.14159 -> 2042.8189 | AY39: =I39*AX39/1000 -> 61.284567 | AZ39: =AH39*1000/AX39 -> 0.56681085 | BA39: =AA39*1000/AX39 -> 0.25175296 | BB39: =SQRT((Z39*AZ39*AZ39)+((1-Z39) * BA39*BA39)) -> 0.27301219 | BE39: =LOOKUP($AK39,Pipes!$D$4:$D$16,Pipes!$Q$4:$Q$16) -> 0.28589751 | BF39: 25 | BG39: =((AB39*$D$54)+(Y39*$D$53))/(AB39+Y39) -> 23.978906 | BH39: =((AF39*$D$62)+(Y39*$D$53))/(AF39+Y39) -> 20 | BI39: =$D$62 -> 25 | BJ39: =BE39*I39*(BG39-BF39)/1000 -> -0.0087578483 | BK39: =BE39*I39*(BH39-BF39)/1000 -> -0.042884626 | BL39: =BE39*I39*(BI39-BF39)/1000 -> 0 | BN39: =BL39*$N39 -> 0 | BO39: =BJ39*$N39 -> -0.0087578483 | BP39: =BK39*$N39 -> -0.042884626 | BQ39: =BQ21 -> 0 | BR39: =(1-BQ39) * ($D$58/365) -> 0.32876712 | BS39: =(1-BQ39) * (1- ($D$58/365)) -> 0.67123288 | BT39: =(BQ39*BL39)+(BR39*BJ39)+(BS39*BK39) -> -0.031664863 | BU39: =BT39*N39 -> -0.031664863 | BV39: =1000*BT39/I39 -> -1.0554954 | BW39: =BU39/$BU$47 -> -0.0010976237 | BX39: =R39*1000/(4200*($D$52-$D$53)) -> 1.0844985 | BY39: =POWER(100/AN39,1.852)*POWER(BX39*15.852,1.852)/POWER($AK39*0.03937,4.8655)*0.2083*304.8*3.28 -> 729.10263 | BZ39: =+BY39*9.81/1000 -> 7.1524968 | CA39: =+BY39*$I39/100 -> 218.73079 | CB39: =+CA39*9.81/1000 -> 2.145749 | CC39: =CB39*1000/$I39 -> 71.524968 | CD39: =$AT39*CC39/1000 -> 0.22616195 | CE39: =CD39+CB39 -> 2.371911 | CF39: =$Y39*1000/$AX39 -> 0.34128215 | CG39: 0 | CH39: =SQRT(($Z39*$CF39*$CF39)+((1-$Z39) * $CG39*$CG39)) -> 0.070982024 | CI39: =LOOKUP($AK39,Pipes!$D$4:$D$16,Pipes!$I$4:$I$16) -> 17.466667 | CJ39: =CI39*O39 -> 524
B40: 11F | C40: Riser to 1st floor | D40: Return | E40: =E22 -> 36 | F40: =Summary!$D$22 -> 0.5 | G40: =$D$55*E40 -> 108 | H40: =(((E40*$D$59)+($D$60*G40))*4200*$D$61)/(1000*60*60) -> 159.6 | I40: =I22 -> 4 | J40: =J22 -> 0 | K40: =K22 -> 0 | L40: =L22 -> 1 | M40: =M22 -> 0 | N40: =N22 -> 10 | O40: =N40*I40 -> 40 | P40: =(1.19*E40) + (18.8*POWER(E40,0.5)) + 17.6 -> 173.24 | Q40: =Q22 -> 0.10693827 | R40: =R22 -> 173.24 | S40: 4 | T40: =R40/$D$64 -> 14.436667 | U40: =U22 -> 0.95 | V40: =U40*$D$49*E40 -> 102.6 | W40: =$D$65*U40*S40*$D$49 -> 11.4 | X40: =V40-W40 -> 91.2 | Y40: =R40*1000/(4200*($D$51-$D$53)) -> 0.5892517 | Z40: =((H40/R40))/24 -> 0.038386054 | AA40: =V40*1000/(4200*($D$51-$D$54)) -> 0.40714286 | AB40: =X40*1000/(4200*($D$51-$D$54)) -> 0.36190476 | AC40: =AB40/AH40 -> 0.3804892 | AD40: =(24*X40)/((24*X40)+H40) -> 0.93203883 | AE40: =(E40*(1-U40))*($D$63/3600) -> 0 | AF40: =(E40-S40)*($D$63/3600) -> 0 | AG40: =X40+R40 -> 264.44 | AH40: =AB40+Y40+AE40 -> 0.95115646 | AI40: =AH40*1000000/(F40*1000) -> 1902.3129 | AJ40: =2*SQRT(AI40/3.14159) -> 49.214856 | AK40: =LOOKUP($AJ40,Pipes!$D$4:$D$16,Pipes!$D$4:$D$16) -> 39 | AL40: =LOOKUP($AK40,Pipes!$D$4:$D$16,Pipes!$B$4:$B$16) -> 42 | AM40: =LOOKUP($AK40,Pipes!$D$4:$D$16,Pipes!$E$4:$E$16) -> Copper | AN40: =LOOKUP($AK40,Pipes!$D$4:$D$16,Pipes!$F$4:$F$16) -> 140 | AO40: =POWER(100/AN40,1.852)*POWER(AH40*15.852,1.852)/POWER($AK40*0.03937,4.8655)*0.2083*304.8*3.28 -> 2109.2357 | AP40: =+AO40*9.81/1000 -> 20.691602 | AQ40: =+AO40*I40/100 -> 84.369426 | AR40: =+AQ40*9.81/1000 -> 0.82766407 | AS40: =AR40*1000/I40 -> 206.91602 | AT40: =($D$78*J40*AK40/1000)+($D$80*K40*AK40/1000)+($D$76*L40*AK40/1000)+($D$77*M40*AK40/1000) -> 0.78 | AU40: =AT40*AS40/1000 -> 0.16139449 | AV40: =AU40+AR40 -> 0.98905857 | AW40: =AV40/$AV$47 -> 0.0049994469 | AX40: =POWER((AK40/2),2)*3.14159 -> 1194.5896 | AY40: =I40*AX40/1000 -> 4.7783584 | AZ40: =AH40*1000/AX40 -> 0.79622028 | BA40: =AA40*1000/AX40 -> 0.34082237 | BB40: =SQRT((Z40*AZ40*AZ40)+((1-Z40) * BA40*BA40)) -> 0.36883119 | BE40: =LOOKUP($AK40,Pipes!$D$4:$D$16,Pipes!$Q$4:$Q$16) -> 0.24075943 | BF40: 25 | BG40: =((AB40*$D$54)+(Y40*$D$53))/(AB40+Y40) -> 23.804892 | BH40: =((AF40*$D$62)+(Y40*$D$53))/(AF40+Y40) -> 20 | BI40: =$D$62 -> 25 | BJ40: =BE40*I40*(BG40-BF40)/1000 -> -0.0011509341 | BK40: =BE40*I40*(BH40-BF40)/1000 -> -0.0048151885 | BL40: =BE40*I40*(BI40-BF40)/1000 -> 0 | BN40: =BL40*$N40 -> 0 | BO40: =BJ40*$N40 -> -0.011509341 | BP40: =BK40*$N40 -> -0.048151885 | BQ40: =BQ22 -> 0.01 | BR40: =(1-BQ40) * ($D$58/365) -> 0.32547945 | BS40: =(1-BQ40) * (1- ($D$58/365)) -> 0.66452055 | BT40: =(BQ40*BL40)+(BR40*BJ40)+(BS40*BK40) -> -0.0035743971 | BU40: =BT40*N40 -> -0.035743971 | BV40: =1000*BT40/I40 -> -0.89359927 | BW40: =BU40/$BU$47 -> -0.001239021 | BX40: =R40*1000/(4200*($D$52-$D$53)) -> 0.91661376 | BY40: =POWER(100/AN40,1.852)*POWER(BX40*15.852,1.852)/POWER($AK40*0.03937,4.8655)*0.2083*304.8*3.28 -> 1969.5709 | BZ40: =+BY40*9.81/1000 -> 19.321491 | CA40: =+BY40*$I40/100 -> 78.782838 | CB40: =+CA40*9.81/1000 -> 0.77285964 | CC40: =CB40*1000/$I40 -> 193.21491 | CD40: =$AT40*CC40/1000 -> 0.15070763 | CE40: =CD40+CB40 -> 0.92356727 | CF40: =$Y40*1000/$AX40 -> 0.49326706 | CG40: 0 | CH40: =SQRT(($Z40*$CF40*$CF40)+((1-$Z40) * $CG40*$CG40)) -> 0.096642655 | CI40: =LOOKUP($AK40,Pipes!$D$4:$D$16,Pipes!$I$4:$I$16) -> 13.393333 | CJ40: =CI40*O40 -> 535.73333
B41: 12F | C41: Riser to 2nd floor | D41: Return | E41: 24 | F41: =Summary!$D$22 -> 0.5 | G41: =$D$55*E41 -> 72 | H41: =(((E41*$D$59)+($D$60*G41))*4200*$D$61)/(1000*60*60) -> 106.4 | I41: =I23 -> 4 | J41: =J23 -> 0 | K41: =K23 -> 0 | L41: =L23 -> 1 | M41: =M23 -> 0 | N41: =N23 -> 10 | O41: =N41*I41 -> 40 | P41: =(1.19*E41) + (18.8*POWER(E41,0.5)) + 17.6 -> 138.26081 | Q41: =Q23 -> 0.12801927 | R41: =R23 -> 138.26081 | S41: 4 | T41: =R41/$D$64 -> 11.521735 | U41: =U23 -> 0.95 | V41: =U41*$D$49*E41 -> 68.4 | W41: =$D$65*U41*S41*$D$49 -> 11.4 | X41: =V41-W41 -> 57 | Y41: =R41*1000/(4200*($D$51-$D$53)) -> 0.47027488 | Z41: =((H41/R41))/24 -> 0.032065002 | AA41: =V41*1000/(4200*($D$51-$D$54)) -> 0.27142857 | AB41: =X41*1000/(4200*($D$51-$D$54)) -> 0.22619048 | AC41: =AB41/AH41 -> 0.32476917 | AD41: =(24*X41)/((24*X41)+H41) -> 0.92783505 | AE41: =(E41*(1-U41))*($D$63/3600) -> 0 | AF41: =(E41-S41)*($D$63/3600) -> 0 | AG41: =X41+R41 -> 195.26081 | AH41: =AB41+Y41+AE41 -> 0.69646535 | AI41: =AH41*1000000/(F41*1000) -> 1392.9307 | AJ41: =2*SQRT(AI41/3.14159) -> 42.11337 | AK41: =LOOKUP($AJ41,Pipes!$D$4:$D$16,Pipes!$D$4:$D$16) -> 39 | AL41: =LOOKUP($AK41,Pipes!$D$4:$D$16,Pipes!$B$4:$B$16) -> 42 | AM41: =LOOKUP($AK41,Pipes!$D$4:$D$16,Pipes!$E$4:$E$16) -> Copper | AN41: =LOOKUP($AK41,Pipes!$D$4:$D$16,Pipes!$F$4:$F$16) -> 140 | AO41: =POWER(100/AN41,1.852)*POWER(AH41*15.852,1.852)/POWER($AK41*0.03937,4.8655)*0.2083*304.8*3.28 -> 1184.2745 | AP41: =+AO41*9.81/1000 -> 11.617733 | AQ41: =+AO41*I41/100 -> 47.37098 | AR41: =+AQ41*9.81/1000 -> 0.46470931 | AS41: =AR41*1000/I41 -> 116.17733 | AT41: =($D$78*J41*AK41/1000)+($D$80*K41*AK41/1000)+($D$76*L41*AK41/1000)+($D$77*M41*AK41/1000) -> 0.78 | AU41: =AT41*AS41/1000 -> 0.090618316 | AV41: =AU41+AR41 -> 0.55532763 | AW41: =AV41/$AV$47 -> 0.0028070441 | AX41: =POWER((AK41/2),2)*3.14159 -> 1194.5896 | AY41: =I41*AX41/1000 -> 4.7783584 | AZ41: =AH41*1000/AX41 -> 0.58301642 | BA41: =AA41*1000/AX41 -> 0.22721491 | BB41: =SQRT((Z41*AZ41*AZ41)+((1-Z41) * BA41*BA41)) -> 0.2467192 | BE41: =LOOKUP($AK41,Pipes!$D$4:$D$16,Pipes!$Q$4:$Q$16) -> 0.24075943 | BF41: 25 | BG41: =((AB41*$D$54)+(Y41*$D$53))/(AB41+Y41) -> 23.247692 | BH41: =((AF41*$D$62)+(Y41*$D$53))/(AF41+Y41) -> 20 | BI41: =$D$62 -> 25 | BJ41: =BE41*I41*(BG41-BF41)/1000 -> -0.0016875389 | BK41: =BE41*I41*(BH41-BF41)/1000 -> -0.0048151885 | BL41: =BE41*I41*(BI41-BF41)/1000 -> 0 | BN41: =BL41*$N41 -> 0 | BO41: =BJ41*$N41 -> -0.016875389 | BP41: =BK41*$N41 -> -0.048151885 | BQ41: =BQ23 -> 0.02 | BR41: =(1-BQ41) * ($D$58/365) -> 0.32219178 | BS41: =(1-BQ41) * (1- ($D$58/365)) -> 0.65780822 | BT41: =(BQ41*BL41)+(BR41*BJ41)+(BS41*BK41) -> -0.0037111818 | BU41: =BT41*N41 -> -0.037111818 | BV41: =1000*BT41/I41 -> -0.92779544 | BW41: =BU41/$BU$47 -> -0.0012864357 | BX41: =R41*1000/(4200*($D$52-$D$53)) -> 0.7315387 | BY41: =POWER(100/AN41,1.852)*POWER(BX41*15.852,1.852)/POWER($AK41*0.03937,4.8655)*0.2083*304.8*3.28 -> 1297.0895 | BZ41: =+BY41*9.81/1000 -> 12.724448 | CA41: =+BY41*$I41/100 -> 51.883582 | CB41: =+CA41*9.81/1000 -> 0.50897794 | CC41: =CB41*1000/$I41 -> 127.24448 | CD41: =$AT41*CC41/1000 -> 0.099250698 | CE41: =CD41+CB41 -> 0.60822864 | CF41: =$Y41*1000/$AX41 -> 0.39367066 | CG41: 0 | CH41: =SQRT(($Z41*$CF41*$CF41)+((1-$Z41) * $CG41*$CG41)) -> 0.070493438 | CI41: =LOOKUP($AK41,Pipes!$D$4:$D$16,Pipes!$I$4:$I$16) -> 13.393333 | CJ41: =CI41*O41 -> 535.73333
B42: 13F | C42: Riser to 3rd floor | D42: Return | E42: 12 | F42: =Summary!$D$22 -> 0.5 | G42: =$D$55*E42 -> 36 | H42: =(((E42*$D$59)+($D$60*G42))*4200*$D$61)/(1000*60*60) -> 53.2 | I42: =I24 -> 4 | J42: =J24 -> 0 | K42: =K24 -> 0 | L42: =L24 -> 0 | M42: =M24 -> 1 | N42: =N24 -> 10 | O42: =N42*I42 -> 40 | P42: =(1.19*E42) + (18.8*POWER(E42,0.5)) + 17.6 -> 97.00511 | Q42: =Q24 -> 0.17963909 | R42: =R24 -> 97.00511 | S42: 3 | T42: =R42/$D$64 -> 8.0837592 | U42: =U24 -> 0.95 | V42: =U42*$D$49*E42 -> 34.2 | W42: =$D$65*U42*S42*$D$49 -> 8.55 | X42: =V42-W42 -> 25.65 | Y42: =R42*1000/(4200*($D$51-$D$53)) -> 0.32994935 | Z42: =((H42/R42))/24 -> 0.02285103 | AA42: =V42*1000/(4200*($D$51-$D$54)) -> 0.13571429 | AB42: =X42*1000/(4200*($D$51-$D$54)) -> 0.10178571 | AC42: =AB42/AH42 -> 0.23575966 | AD42: =(24*X42)/((24*X42)+H42) -> 0.92045455 | AE42: =(E42*(1-U42))*($D$63/3600) -> 0 | AF42: =(E42-S42)*($D$63/3600) -> 0 | AG42: =X42+R42 -> 122.65511 | AH42: =AB42+Y42+AE42 -> 0.43173507 | AI42: =AH42*1000000/(F42*1000) -> 863.47014 | AJ42: =2*SQRT(AI42/3.14159) -> 33.157281 | AK42: =LOOKUP($AJ42,Pipes!$D$4:$D$16,Pipes!$D$4:$D$16) -> 32.6 | AL42: =LOOKUP($AK42,Pipes!$D$4:$D$16,Pipes!$B$4:$B$16) -> 35 | AM42: =LOOKUP($AK42,Pipes!$D$4:$D$16,Pipes!$E$4:$E$16) -> Copper | AN42: =LOOKUP($AK42,Pipes!$D$4:$D$16,Pipes!$F$4:$F$16) -> 140 | AO42: =POWER(100/AN42,1.852)*POWER(AH42*15.852,1.852)/POWER($AK42*0.03937,4.8655)*0.2083*304.8*3.28 -> 1168.3947 | AP42: =+AO42*9.81/1000 -> 11.461952 | AQ42: =+AO42*I42/100 -> 46.735787 | AR42: =+AQ42*9.81/1000 -> 0.45847807 | AS42: =AR42*1000/I42 -> 114.61952 | AT42: =($D$78*J42*AK42/1000)+($D$80*K42*AK42/1000)+($D$76*L42*AK42/1000)+($D$77*M42*AK42/1000) -> 1.956 | AU42: =AT42*AS42/1000 -> 0.22419578 | AV42: =AU42+AR42 -> 0.68267385 | AW42: =AV42/$AV$47 -> 0.0034507478 | AX42: =POWER((AK42/2),2)*3.14159 -> 834.68905 | AY42: =I42*AX42/1000 -> 3.3387562 | AZ42: =AH42*1000/AX42 -> 0.51724061 | BA42: =AA42*1000/AX42 -> 0.16259263 | BB42: =SQRT((Z42*AZ42*AZ42)+((1-Z42) * BA42*BA42)) -> 0.17873382 | BE42: =LOOKUP($AK42,Pipes!$D$4:$D$16,Pipes!$Q$4:$Q$16) -> 0.21394158 | BF42: 25 | BG42: =((AB42*$D$54)+(Y42*$D$53))/(AB42+Y42) -> 22.357597 | BH42: =((AF42*$D$62)+(Y42*$D$53))/(AF42+Y42) -> 20 | BI42: =$D$62 -> 25 | BJ42: =BE42*I42*(BG42-BF42)/1000 -> -0.0022612798 | BK42: =BE42*I42*(BH42-BF42)/1000 -> -0.0042788315 | BL42: =BE42*I42*(BI42-BF42)/1000 -> 0 | BN42: =BL42*$N42 -> 0 | BO42: =BJ42*$N42 -> -0.022612798 | BP42: =BK42*$N42 -> -0.042788315 | BQ42: =BQ24 -> 0.03 | BR42: =(1-BQ42) * ($D$58/365) -> 0.31890411 | BS42: =(1-BQ42) * (1- ($D$58/365)) -> 0.65109589 | BT42: =(BQ42*BL42)+(BR42*BJ42)+(BS42*BK42) -> -0.003507061 | BU42: =BT42*N42 -> -0.03507061 | BV42: =1000*BT42/I42 -> -0.87676526 | BW42: =BU42/$BU$47 -> -0.0012156798 | BX42: =R42*1000/(4200*($D$52-$D$53)) -> 0.51325455 | BY42: =POWER(100/AN42,1.852)*POWER(BX42*15.852,1.852)/POWER($AK42*0.03937,4.8655)*0.2083*304.8*3.28 -> 1609.5462 | BZ42: =+BY42*9.81/1000 -> 15.789648 | CA42: =+BY42*$I42/100 -> 64.381848 | CB42: =+CA42*9.81/1000 -> 0.63158593 | CC42: =CB42*1000/$I42 -> 157.89648 | CD42: =$AT42*CC42/1000 -> 0.30884552 | CE42: =CD42+CB42 -> 0.94043144 | CF42: =$Y42*1000/$AX42 -> 0.39529614 | CG42: 0 | CH42: =SQRT(($Z42*$CF42*$CF42)+((1-$Z42) * $CG42*$CG42)) -> 0.059755166 | CI42: =LOOKUP($AK42,Pipes!$D$4:$D$16,Pipes!$I$4:$I$16) -> 10.98 | CJ42: =CI42*O42 -> 439.2
B43: 14F | C43: Lateral | D43: Return | E43: =E25 -> 6 | F43: =Summary!$D$22 -> 0.5 | G43: =$D$55*E43 -> 18 | H43: =(((E43*$D$59)+($D$60*G43))*4200*$D$61)/(1000*60*60) -> 26.6 | I43: =I25 -> 10 | J43: =J25 -> 0 | K43: =K25 -> 0 | L43: =L25 -> 1 | M43: =M25 -> 0 | N43: =N25 -> 80 | O43: =N43*I43 -> 800 | P43: =(1.19*E43) + (18.8*POWER(E43,0.5)) + 17.6 -> 70.790407 | Q43: =Q25 -> 0.35 | R43: =Q43*$R$29*E43 -> 94.5 | S43: 3 | T43: =R43/$D$64 -> 7.875 | U43: =U25 -> 1 | V43: =U43*$D$49*E43 -> 18 | W43: =$D$65*U43*S43*$D$49 -> 9 | X43: =V43-W43 -> 9 | Y43: =R43*1000/(4200*($D$51-$D$53)) -> 0.32142857 | Z43: =((H43/R43))/24 -> 0.011728395 | AA43: =V43*1000/(4200*($D$51-$D$54)) -> 0.071428571 | AB43: =X43*1000/(4200*($D$51-$D$54)) -> 0.035714286 | AC43: =AB43/AH43 -> 0.1 | AD43: =(24*X43)/((24*X43)+H43) -> 0.89035449 | AE43: =(E43*(1-U43))*($D$63/3600) -> 0 | AF43: =(E43-S43)*($D$63/3600) -> 0 | AG43: =X43+R43 -> 103.5 | AH43: =AB43+Y43+AE43 -> 0.35714286 | AI43: =AH43*1000000/(F43*1000) -> 714.28571 | AJ43: =2*SQRT(AI43/3.14159) -> 30.157214 | AK43: =LOOKUP($AJ43,Pipes!$D$4:$D$16,Pipes!$D$4:$D$16) -> 26 | AL43: =LOOKUP($AK43,Pipes!$D$4:$D$16,Pipes!$B$4:$B$16) -> 28 | AM43: =LOOKUP($AK43,Pipes!$D$4:$D$16,Pipes!$E$4:$E$16) -> Copper | AN43: =LOOKUP($AK43,Pipes!$D$4:$D$16,Pipes!$F$4:$F$16) -> 140 | AO43: =POWER(100/AN43,1.852)*POWER(AH43*15.852,1.852)/POWER($AK43*0.03937,4.8655)*0.2083*304.8*3.28 -> 2471.9394 | AP43: =+AO43*9.81/1000 -> 24.249725 | AQ43: =+AO43*I43/100 -> 247.19394 | AR43: =+AQ43*9.81/1000 -> 2.4249725 | AS43: =AR43*1000/I43 -> 242.49725 | AT43: =($D$78*J43*AK43/1000)+($D$80*K43*AK43/1000)+($D$76*L43*AK43/1000)+($D$77*M43*AK43/1000) -> 0.52 | AU43: =AT43*AS43/1000 -> 0.12609857 | AV43: =AU43+AR43 -> 2.5510711 | AW43: =AV43/$AV$47 -> 0.012895035 | AX43: =POWER((AK43/2),2)*3.14159 -> 530.92871 | AY43: =I43*AX43/1000 -> 5.3092871 | AZ43: =AH43*1000/AX43 -> 0.67267573 | BA43: =AA43*1000/AX43 -> 0.13453515 | BB43: =SQRT((Z43*AZ43*AZ43)+((1-Z43) * BA43*BA43)) -> 0.1522972 | BE43: =LOOKUP($AK43,Pipes!$D$4:$D$16,Pipes!$Q$4:$Q$16) -> 0.1865522 | BF43: 25 | BG43: =((AB43*$D$54)+(Y43*$D$53))/(AB43+Y43) -> 21 | BH43: =((AF43*$D$62)+(Y43*$D$53))/(AF43+Y43) -> 20 | BI43: =$D$62 -> 25 | BJ43: =BE43*I43*(BG43-BF43)/1000 -> -0.0074620879 | BK43: =BE43*I43*(BH43-BF43)/1000 -> -0.0093276099 | BL43: =BE43*I43*(BI43-BF43)/1000 -> 0 | BN43: =BL43*$N43 -> 0 | BO43: =BJ43*$N43 -> -0.59696703 | BP43: =BK43*$N43 -> -0.74620879 | BQ43: =BQ25 -> 0.1 | BR43: =(1-BQ43) * ($D$58/365) -> 0.29589041 | BS43: =(1-BQ43) * (1- ($D$58/365)) -> 0.60410959 | BT43: =(BQ43*BL43)+(BR43*BJ43)+(BS43*BK43) -> -0.0078428588 | BU43: =BT43*N43 -> -0.62742871 | BV43: =1000*BT43/I43 -> -0.78428588 | BW43: =BU43/$BU$47 -> -0.021749048 | BX43: =R43*1000/(4200*($D$52-$D$53)) -> 0.5 | BY43: =POWER(100/AN43,1.852)*POWER(BX43*15.852,1.852)/POWER($AK43*0.03937,4.8655)*0.2083*304.8*3.28 -> 4609.6392 | BZ43: =+BY43*9.81/1000 -> 45.220561 | CA43: =+BY43*$I43/100 -> 460.96392 | CB43: =+CA43*9.81/1000 -> 4.5220561 | CC43: =CB43*1000/$I43 -> 452.20561 | CD43: =$AT43*CC43/1000 -> 0.23514692 | CE43: =CD43+CB43 -> 4.757203 | CF43: =$Y43*1000/$AX43 -> 0.60540816 | CG43: 0 | CH43: =SQRT(($Z43*$CF43*$CF43)+((1-$Z43) * $CG43*$CG43)) -> 0.06556432 | CI43: =LOOKUP($AK43,Pipes!$D$4:$D$16,Pipes!$I$4:$I$16) -> 5.7133333 | CJ43: =CI43*O43 -> 4570.6667
B44: 15F | C44: Lateral | D44: Return | E44: =E26 -> 4 | F44: =Summary!$D$22 -> 0.5 | G44: =$D$55*E44 -> 12 | H44: =(((E44*$D$59)+($D$60*G44))*4200*$D$61)/(1000*60*60) -> 17.733333 | I44: =I26 -> 6 | J44: =J26 -> 0 | K44: =K26 -> 0 | L44: =L26 -> 1 | M44: =M26 -> 0 | N44: =N26 -> 80 | O44: =N44*I44 -> 480 | P44: =(1.19*E44) + (18.8*POWER(E44,0.5)) + 17.6 -> 59.96 | Q44: =Q26 -> 0.5 | R44: =Q44*$R$29*E44 -> 90 | S44: 2 | T44: =R44/$D$64 -> 7.5 | U44: =U26 -> 1 | V44: =U44*$D$49*E44 -> 12 | W44: =$D$65*U44*S44*$D$49 -> 6 | X44: =V44-W44 -> 6 | Y44: =R44*1000/(4200*($D$51-$D$53)) -> 0.30612245 | Z44: =((H44/R44))/24 -> 0.0082098765 | AA44: =V44*1000/(4200*($D$51-$D$54)) -> 0.047619048 | AB44: =X44*1000/(4200*($D$51-$D$54)) -> 0.023809524 | AC44: =AB44/AH44 -> 0.072164948 | AD44: =(24*X44)/((24*X44)+H44) -> 0.89035449 | AE44: =(E44*(1-U44))*($D$63/3600) -> 0 | AF44: =(E44-S44)*($D$63/3600) -> 0 | AG44: =X44+R44 -> 96 | AH44: =AB44+Y44+AE44 -> 0.32993197 | AI44: =AH44*1000000/(F44*1000) -> 659.86395 | AJ44: =2*SQRT(AI44/3.14159) -> 28.98561 | AK44: =LOOKUP($AJ44,Pipes!$D$4:$D$16,Pipes!$D$4:$D$16) -> 26 | AL44: =LOOKUP($AK44,Pipes!$D$4:$D$16,Pipes!$B$4:$B$16) -> 28 | AM44: =LOOKUP($AK44,Pipes!$D$4:$D$16,Pipes!$E$4:$E$16) -> Copper | AN44: =LOOKUP($AK44,Pipes!$D$4:$D$16,Pipes!$F$4:$F$16) -> 140 | AO44: =POWER(100/AN44,1.852)*POWER(AH44*15.852,1.852)/POWER($AK44*0.03937,4.8655)*0.2083*304.8*3.28 -> 2134.5016 | AP44: =+AO44*9.81/1000 -> 20.939461 | AQ44: =+AO44*I44/100 -> 128.0701 | AR44: =+AQ44*9.81/1000 -> 1.2563676 | AS44: =AR44*1000/I44 -> 209.39461 | AT44: =($D$78*J44*AK44/1000)+($D$80*K44*AK44/1000)+($D$76*L44*AK44/1000)+($D$77*M44*AK44/1000) -> 0.52 | AU44: =AT44*AS44/1000 -> 0.1088852 | AV44: =AU44+AR44 -> 1.3652528 | AW44: =AV44/$AV$47 -> 0.0069010162 | AX44: =POWER((AK44/2),2)*3.14159 -> 530.92871 | AY44: =I44*AX44/1000 -> 3.1855723 | AZ44: =AH44*1000/AX44 -> 0.62142425 | BA44: =AA44*1000/AX44 -> 0.089690097 | BB44: =SQRT((Z44*AZ44*AZ44)+((1-Z44) * BA44*BA44)) -> 0.10558723 | BE44: =LOOKUP($AK44,Pipes!$D$4:$D$16,Pipes!$Q$4:$Q$16) -> 0.1865522 | BF44: 25 | BG44: =((AB44*$D$54)+(Y44*$D$53))/(AB44+Y44) -> 20.721649 | BH44: =((AF44*$D$62)+(Y44*$D$53))/(AF44+Y44) -> 20 | BI44: =$D$62 -> 25 | BJ44: =BE44*I44*(BG44-BF44)/1000 -> -0.0047888141 | BK44: =BE44*I44*(BH44-BF44)/1000 -> -0.0055965659 | BL44: =BE44*I44*(BI44-BF44)/1000 -> 0 | BN44: =BL44*$N44 -> 0 | BO44: =BJ44*$N44 -> -0.38310513 | BP44: =BK44*$N44 -> -0.44772527 | BQ44: =BQ26 -> 0.15 | BR44: =(1-BQ44) * ($D$58/365) -> 0.27945205 | BS44: =(1-BQ44) * (1- ($D$58/365)) -> 0.57054795 | BT44: =(BQ44*BL44)+(BR44*BJ44)+(BS44*BK44) -> -0.0045313531 | BU44: =BT44*N44 -> -0.36250825 | BV44: =1000*BT44/I44 -> -0.75522552 | BW44: =BU44/$BU$47 -> -0.012565905 | BX44: =R44*1000/(4200*($D$52-$D$53)) -> 0.47619048 | BY44: =POWER(100/AN44,1.852)*POWER(BX44*15.852,1.852)/POWER($AK44*0.03937,4.8655)*0.2083*304.8*3.28 -> 4211.3793 | BZ44: =+BY44*9.81/1000 -> 41.313631 | CA44: =+BY44*$I44/100 -> 252.68276 | CB44: =+CA44*9.81/1000 -> 2.4788178 | CC44: =CB44*1000/$I44 -> 413.13631 | CD44: =$AT44*CC44/1000 -> 0.21483088 | CE44: =CD44+CB44 -> 2.6936487 | CF44: =$Y44*1000/$AX44 -> 0.5765792 | CG44: 0 | CH44: =SQRT(($Z44*$CF44*$CF44)+((1-$Z44) * $CG44*$CG44)) -> 0.052242901 | CI44: =LOOKUP($AK44,Pipes!$D$4:$D$16,Pipes!$I$4:$I$16) -> 5.7133333 | CJ44: =CI44*O44 -> 2742.4
B45: 16F | C45: Lateral | D45: Return | E45: =E27 -> 2 | F45: =Summary!$D$22 -> 0.5 | G45: =$D$55*E45 -> 6 | H45: =(((E45*$D$59)+($D$60*G45))*4200*$D$61)/(1000*60*60) -> 8.8666667 | I45: =I27 -> 6 | J45: =J27 -> 0 | K45: =K27 -> 0 | L45: =L27 -> 0 | M45: =M27 -> 1 | N45: =N27 -> 80 | O45: =N45*I45 -> 480 | P45: =(1.19*E45) + (18.8*POWER(E45,0.5)) + 17.6 -> 46.567215 | Q45: =Q27 -> 0.8 | R45: =Q45*$R$29*E45 -> 72 | S45: 2 | T45: =R45/$D$64 -> 6 | U45: =U27 -> 1 | V45: =U45*$D$49*E45 -> 6 | W45: =$D$65*U45*S45*$D$49 -> 6 | X45: =V45-W45 -> 0 | Y45: =R45*1000/(4200*($D$51-$D$53)) -> 0.24489796 | Z45: =((H45/R45))/24 -> 0.0051311728 | AA45: =V45*1000/(4200*($D$51-$D$54)) -> 0.023809524 | AB45: =X45*1000/(4200*($D$51-$D$54)) -> 0 | AC45: =AB45/AH45 -> 0 | AD45: =(24*X45)/((24*X45)+H45) -> 0 | AE45: =(E45*(1-U45))*($D$63/3600) -> 0 | AF45: =(E45-S45)*($D$63/3600) -> 0 | AG45: =X45+R45 -> 72 | AH45: =AB45+Y45+AE45 -> 0.24489796 | AI45: =AH45*1000000/(F45*1000) -> 489.79592 | AJ45: =2*SQRT(AI45/3.14159) -> 24.972546 | AK45: =LOOKUP($AJ45,Pipes!$D$4:$D$16,Pipes!$D$4:$D$16) -> 20 | AL45: =LOOKUP($AK45,Pipes!$D$4:$D$16,Pipes!$B$4:$B$16) -> 22 | AM45: =LOOKUP($AK45,Pipes!$D$4:$D$16,Pipes!$E$4:$E$16) -> Copper | AN45: =LOOKUP($AK45,Pipes!$D$4:$D$16,Pipes!$F$4:$F$16) -> 140 | AO45: =POWER(100/AN45,1.852)*POWER(AH45*15.852,1.852)/POWER($AK45*0.03937,4.8655)*0.2083*304.8*3.28 -> 4405.2078 | AP45: =+AO45*9.81/1000 -> 43.215088 | AQ45: =+AO45*I45/100 -> 264.31247 | AR45: =+AQ45*9.81/1000 -> 2.5929053 | AS45: =AR45*1000/I45 -> 432.15088 | AT45: =($D$78*J45*AK45/1000)+($D$80*K45*AK45/1000)+($D$76*L45*AK45/1000)+($D$77*M45*AK45/1000) -> 1.2 | AU45: =AT45*AS45/1000 -> 0.51858106 | AV45: =AU45+AR45 -> 3.1114864 | AW45: =AV45/$AV$47 -> 0.015727796 | AX45: =POWER((AK45/2),2)*3.14159 -> 314.159 | AY45: =I45*AX45/1000 -> 1.884954 | AZ45: =AH45*1000/AX45 -> 0.77953507 | BA45: =AA45*1000/AX45 -> 0.075788132 | BB45: =SQRT((Z45*AZ45*AZ45)+((1-Z45) * BA45*BA45)) -> 0.093981133 | BE45: =LOOKUP($AK45,Pipes!$D$4:$D$16,Pipes!$Q$4:$Q$16) -> 0.16237028 | BF45: 25 | BG45: =((AB45*$D$54)+(Y45*$D$53))/(AB45+Y45) -> 20 | BH45: =((AF45*$D$62)+(Y45*$D$53))/(AF45+Y45) -> 20 | BI45: =$D$62 -> 25 | BJ45: =BE45*I45*(BG45-BF45)/1000 -> -0.0048711084 | BK45: =BE45*I45*(BH45-BF45)/1000 -> -0.0048711084 | BL45: =BE45*I45*(BI45-BF45)/1000 -> 0 | BN45: =BL45*$N45 -> 0 | BO45: =BJ45*$N45 -> -0.38968867 | BP45: =BK45*$N45 -> -0.38968867 | BQ45: =BQ27 -> 0.2 | BR45: =(1-BQ45) * ($D$58/365) -> 0.2630137 | BS45: =(1-BQ45) * (1- ($D$58/365)) -> 0.5369863 | BT45: =(BQ45*BL45)+(BR45*BJ45)+(BS45*BK45) -> -0.0038968867 | BU45: =BT45*N45 -> -0.31175094 | BV45: =1000*BT45/I45 -> -0.64948112 | BW45: =BU45/$BU$47 -> -0.010806465 | BX45: =R45*1000/(4200*($D$52-$D$53)) -> 0.38095238 | BY45: =POWER(100/AN45,1.852)*POWER(BX45*15.852,1.852)/POWER($AK45*0.03937,4.8655)*0.2083*304.8*3.28 -> 9984.7775 | BZ45: =+BY45*9.81/1000 -> 97.950668 | CA45: =+BY45*$I45/100 -> 599.08665 | CB45: =+CA45*9.81/1000 -> 5.8770401 | CC45: =CB45*1000/$I45 -> 979.50668 | CD45: =$AT45*CC45/1000 -> 1.175408 | CE45: =CD45+CB45 -> 7.0524481 | CF45: =$Y45*1000/$AX45 -> 0.77953507 | CG45: 0 | CH45: =SQRT(($Z45*$CF45*$CF45)+((1-$Z45) * $CG45*$CG45)) -> 0.055839816 | CI45: =LOOKUP($AK45,Pipes!$D$4:$D$16,Pipes!$I$4:$I$16) -> 4.4866667 | CJ45: =CI45*O45 -> 2153.6
B46: 18F | C46: Feed | D46: Return | E46: =E28 -> 1 | F46: =Summary!$D$22 -> 0.5 | G46: =$D$55*E46 -> 3 | H46: =(((E46*$D$59)+($D$60*G46))*4200*$D$61)/(1000*60*60) -> 4.4333333 | I46: =I28 -> 8 | J46: =J28 -> 5 | K46: =K28 -> 0 | L46: =L28 -> 0 | M46: =M28 -> 0 | N46: =N28 -> 480 | O46: =N46*I46 -> 3840 | P46: =(1.19*E46) + (18.8*POWER(E46,0.5)) + 17.6 -> 37.59 | Q46: =Q28 -> 1 | R46: =Q46*$R$29*E46 -> 45 | S46: 1 | T46: =R46/$D$64 -> 3.75 | U46: =U28 -> 1 | V46: =U46*$D$49*E46 -> 3 | W46: =$D$65*U46*S46*$D$49 -> 3 | X46: =V46-W46 -> 0 | Y46: =R46*1000/(4200*($D$51-$D$53)) -> 0.15306122 | Z46: =((H46/R46))/24 -> 0.0041049383 | AA46: =V46*1000/(4200*($D$51-$D$54)) -> 0.011904762 | AB46: =X46*1000/(4200*($D$51-$D$54)) -> 0 | AC46: =AB46/AH46 -> 0 | AD46: =(24*X46)/((24*X46)+H46) -> 0 | AE46: =(E46*(1-U46))*($D$63/3600) -> 0 | AF46: =(E46-S46)*($D$63/3600) -> 0 | AG46: =X46+R46 -> 45 | AH46: =AB46+Y46+AE46 -> 0.15306122 | AI46: =AH46*1000000/(F46*1000) -> 306.12245 | AJ46: =2*SQRT(AI46/3.14159) -> 19.742531 | AK46: =LOOKUP($AJ46,Pipes!$D$4:$D$16,Pipes!$D$4:$D$16) -> 13 | AL46: =LOOKUP($AK46,Pipes!$D$4:$D$16,Pipes!$B$4:$B$16) -> 15 | AM46: =LOOKUP($AK46,Pipes!$D$4:$D$16,Pipes!$E$4:$E$16) -> Copper | AN46: =LOOKUP($AK46,Pipes!$D$4:$D$16,Pipes!$F$4:$F$16) -> 140 | AO46: =POWER(100/AN46,1.852)*POWER(AH46*15.852,1.852)/POWER($AK46*0.03937,4.8655)*0.2083*304.8*3.28 -> 15003.972 | AP46: =+AO46*9.81/1000 -> 147.18897 | AQ46: =+AO46*I46/100 -> 1200.3178 | AR46: =+AQ46*9.81/1000 -> 11.775117 | AS46: =AR46*1000/I46 -> 1471.8897 | AT46: =($D$78*J46*AK46/1000)+($D$80*K46*AK46/1000)+($D$76*L46*AK46/1000)+($D$77*M46*AK46/1000) -> 1.95 | AU46: =AT46*AS46/1000 -> 2.8701849 | AV46: =AU46+AR46 -> 14.645302 | AW46: =AV46/$AV$47 -> 0.074028389 | AX46: =POWER((AK46/2),2)*3.14159 -> 132.73218 | AY46: =I46*AX46/1000 -> 1.0618574 | AZ46: =AH46*1000/AX46 -> 1.1531584 | BA46: =AA46*1000/AX46 -> 0.089690097 | BB46: =SQRT((Z46*AZ46*AZ46)+((1-Z46) * BA46*BA46)) -> 0.11606004 | BE46: =LOOKUP($AK46,Pipes!$D$4:$D$16,Pipes!$Q$4:$Q$16) -> 0.13273361 | BF46: 25 | BG46: =((AB46*$D$54)+(Y46*$D$53))/(AB46+Y46) -> 20 | BH46: =((AF46*$D$62)+(Y46*$D$53))/(AF46+Y46) -> 20 | BI46: =$D$62 -> 25 | BJ46: =BE46*I46*(BG46-BF46)/1000 -> -0.0053093445 | BK46: =BE46*I46*(BH46-BF46)/1000 -> -0.0053093445 | BL46: =BE46*I46*(BI46-BF46)/1000 -> 0 | BN46: =BL46*$N46 -> 0 | BO46: =BJ46*$N46 -> -2.5484854 | BP46: =BK46*$N46 -> -2.5484854 | BQ46: =BQ28 -> 0.3 | BR46: =(1-BQ46) * ($D$58/365) -> 0.23013699 | BS46: =(1-BQ46) * (1- ($D$58/365)) -> 0.46986301 | BT46: =(BQ46*BL46)+(BR46*BJ46)+(BS46*BK46) -> -0.0037165412 | BU46: =BT46*N46 -> -1.7839398 | BV46: =1000*BT46/I46 -> -0.46456765 | BW46: =BU46/$BU$47 -> -0.061838089 | BX46: =R46*1000/(4200*($D$52-$D$53)) -> 0.23809524 | BY46: =POWER(100/AN46,1.852)*POWER(BX46*15.852,1.852)/POWER($AK46*0.03937,4.8655)*0.2083*304.8*3.28 -> 34007.777 | BZ46: =+BY46*9.81/1000 -> 333.6163 | CA46: =+BY46*$I46/100 -> 2720.6222 | CB46: =+CA46*9.81/1000 -> 26.689304 | CC46: =CB46*1000/$I46 -> 3336.163 | CD46: =$AT46*CC46/1000 -> 6.5055178 | CE46: =CD46+CB46 -> 33.194821 | CF46: =$Y46*1000/$AX46 -> 1.1531584 | CG46: 0 | CH46: =SQRT(($Z46*$CF46*$CF46)+((1-$Z46) * $CG46*$CG46)) -> 0.073882619 | CI46: =LOOKUP($AK46,Pipes!$D$4:$D$16,Pipes!$I$4:$I$16) -> 2.0933333 | CJ46: =CI46*O46 -> 8038.4
O47: =SUM(O12:O46) -> 12180 | AR47: =SUM(AR12:AR46) -> 124.10073 | AU47: =SUM(AU12:AU46) -> 18.73287 | AV47: =SUM(AV12:AV46) -> 197.8336 | AY47: =SUM(AY30:AY46) -> 2238.6476 | AZ47: =MIN(AZ12:AZ46) -> 0.51724061 | BB47: =MAX(BB12:BB46) -> 0.63041262 | BO47: =SUM(BO12:BO46) -> 47.685553 | BP47: =SUM(BP12:BP46) -> 27.939973 | BU47: =SUM(BU12:BU46) -> 28.848559 | CE47: =SUM(CE12:CE46) -> 226.11546 | CJ47: =SUM(CJ12:CJ46) -> 57916.8
C48: Dwelling Peak DHW | D48: =Summary!C5 -> 45 | F48: Kw | AY48: =AY47+AY11 -> 4471.1722 | AZ48: =MAX(AZ12:AZ46) -> 1.1531584
C49: Dwelling Peak CH | D49: =Summary!C6 -> 3 | F49: Kw | AV49: Building | BU49: =SUM(BU12:BU21)+SUM(BU30:BU39) -> 7.6856965 | CE49: Building | CJ49: per property
C50: DP across load (HIU+meter) | D50: =Summary!C7 -> 55 | F50: kPa | AV50: =SUM(AV22:AV29)+SUM(AV40:AV46) -> 114.69706 | BU50: on network | CE50: =SUM(CE22:CE29)+SUM(CE40:CE46) -> 176.72932 | CJ50: =CJ47/N29 -> 120.66
C51: Peak Load Flow Temperature | D51: =Summary!C8 -> 90 | F51: C | AV51: kPa | CE51: kPa
C52: Summer Flow Temperature | D52: =Summary!C9 -> 65 | F52: C | BU52: =BU47-BU49 -> 21.162863
C53: Return DHW | D53: =Summary!C10 -> 20 | F53: C | BU53: in buildings
C54: Return CH | D54: =Summary!C11 -> 30 | F54: C
C55: Occupants per property | D55: =Summary!C12 -> 3
C56: Flush Rate (HIU function) | D56: =Summary!C13 -> 20 | F56: l/m
C57: Peak continuous velocity | D57: =Summary!C14 -> 1 | F57: m/s
C58: Heating Season | D58: =Summary!C23 -> 120 | F58: days
C59: Fixed DHW/property/day | D59: =Summary!C15 -> 35 | F59: litres
C60: DHW/person/day | D60: =Summary!C16 -> 20 | F60: litres
C61: DHW Temp Rise (for above) | D61: =Summary!C17 -> 40 | F61: C
C62: HIU Standby Temp | D62: =Summary!C24 -> 25 | F62: C
C63: HIU Standby Flow | D63: =Summary!C25 -> 0 | F63: l/hour
C64: Average tap load | D64: 12 | F64: kW
C65: DHW Priority (0/1) | D65: =Summary!C26 -> 1
C72: http://www.katmarsoftware.com/articles/pipe-fitting-pressure-drop.htm
C73: Descroption | D73: L/D
C74: Ball valve, full bore | D74: 3
C75: Ball valve, reduced bore | D75: 25
C76: Tee, Inline | D76: 20
C77: Tee, Branch | D77: 60
C78: 90° screwed elbow | D78: 30
C79: 90° long radius bend | D79: 13
C80: 45° screwed elbow | D80: 16
C81: 45° long radius bend | D81: 10

Sheet Plantroom Sizing
B22: Hour | C22: EST Volume | D22: % | E22: DHW kWh | F22: Max time at peak diversity | G22: Start | H22: End of DHW | I22: Net kWh | J22: kWh at Start | K22: kWh end DHW | L22: Net kWh | M22: kWh at Start | N22: kWh end DHW | O22: Net kWh | P22: kWh at Start | Q22: kWh end DHW | R22: Net kWh | S22: kWh at Start | T22: kWh end DHW | U22: Net kWh | V22: kWh at Start | W22: kWh end DHW | X22: Net kWh | Y22: kWh at Start | Z22: kWh end DHW
B23: 1 | C23: 2.25 | D23: =C23/$C$57 -> 0.018277823 | E23: ='Pipe Sizing'!$H$12*D23 -> 38.895207 | F23: =E23/'Pipe Sizing'!$R$12 -> 0.03886849 | G23: 0 | H23: =G23+(F23*(1/24)) -> 0.0016195204 | I23: =$K$59-$E23 -> 57.854793 | J23: 0 | K23: =J23+(F23*$K$59)-$E23 -> -35.134681 | L23: =N$59-$E23 -> 182.85479 | M23: 0 | N23: =M23+(F23*N$59)-$E23 -> -30.276119 | O23: =Q$59-$E23 -> 282.85479 | P23: 0 | Q23: =P23+($F23*Q$59)-$E23 -> -26.38927 | R23: =T$59-$E23 -> 432.85479 | S23: 0 | T23: =S23+($F23*T$59)-$E23 -> -20.558997 | U23: =W$59-$E23 -> 532.85479 | V23: 0 | W23: =V23+($F23*W$59)-$E23 -> -16.672148 | X23: =Z$59-$E23 -> 632.85479 | Y23: 0 | Z23: =Y23+($F23*Z$59)-$E23 -> -12.785299
B24: 2 | C24: 1.5 | D24: =C24/$C$57 -> 0.012185215 | E24: ='Pipe Sizing'!$H$12*D24 -> 25.930138 | F24: =E24/'Pipe Sizing'!$R$12 -> 0.025912327 | G24: 0.041666667 | H24: =G24+(F24*(1/24)) -> 0.042746347 | I24: =$K$59-$E24 -> 70.819862 | J24: =MIN(0,J23+$K$59-$E23) -> 0 | K24: =J24+(F24*$K$59)-$E24 -> -23.42312 | L24: =N$59-$E24 -> 195.81986 | M24: =MIN(0,M23+N$59-$E23) -> 0 | N24: =M24+(F24*N$59)-$E24 -> -20.18408 | O24: =Q$59-$E24 -> 295.81986 | P24: =MIN(0,P23+Q$59-$E23) -> 0 | Q24: =P24+($F24*Q$59)-$E24 -> -17.592847 | R24: =T$59-$E24 -> 445.81986 | S24: =MIN(0,S23+T$59-$E23) -> 0 | T24: =S24+($F24*T$59)-$E24 -> -13.705998 | U24: =W$59-$E24 -> 545.81986 | V24: =MIN(0,V23+W$59-$E23) -> 0 | W24: =V24+($F24*W$59)-$E24 -> -11.114765 | X24: =Z$59-$E24 -> 645.81986 | Y24: =MIN(0,Y23+Z$59-$E23) -> 0 | Z24: =Y24+($F24*Z$59)-$E24 -> -8.5235325
B25: 3 | C25: 1.25 | D25: =C25/$C$57 -> 0.010154346 | E25: ='Pipe Sizing'!$H$12*D25 -> 21.608448 | F25: =E25/'Pipe Sizing'!$R$12 -> 0.021593606 | G25: 0.083333333 | H25: =G25+(F25*(1/24)) -> 0.084233067 | I25: =$K$59-$E25 -> 75.141552 | J25: =MIN(0,J24+$K$59-$E24) -> 0 | K25: =J25+(F25*$K$59)-$E25 -> -19.519267 | L25: =N$59-$E25 -> 200.14155 | M25: =MIN(0,M24+N$59-$E24) -> 0 | N25: =M25+(F25*N$59)-$E25 -> -16.820066 | O25: =Q$59-$E25 -> 300.14155 | P25: =MIN(0,P24+Q$59-$E24) -> 0 | Q25: =P25+($F25*Q$59)-$E25 -> -14.660706 | R25: =T$59-$E25 -> 450.14155 | S25: =MIN(0,S24+T$59-$E24) -> 0 | T25: =S25+($F25*T$59)-$E25 -> -11.421665 | U25: =W$59-$E25 -> 550.14155 | V25: =MIN(0,V24+W$59-$E24) -> 0 | W25: =V25+($F25*W$59)-$E25 -> -9.2623043 | X25: =Z$59-$E25 -> 650.14155 | Y25: =MIN(0,Y24+Z$59-$E24) -> 0 | Z25: =Y25+($F25*Z$59)-$E25 -> -7.1029437
B26: 4 | C26: 1 | D26: =C26/$C$57 -> 0.0081234768 | E26: ='Pipe Sizing'!$H$12*D26 -> 17.286759 | F26: =E26/'Pipe Sizing'!$R$12 -> 0.017274885 | G26: 0.125 | H26: =G26+(F26*(1/24)) -> 0.12571979 | I26: =$K$59-$E26 -> 79.463241 | J26: =MIN(0,J25+$K$59-$E25) -> 0 | K26: =J26+(F26*$K$59)-$E26 -> -15.615414 | L26: =N$59-$E26 -> 204.46324 | M26: =MIN(0,M25+N$59-$E25) -> 0 | N26: =M26+(F26*N$59)-$E26 -> -13.456053 | O26: =Q$59-$E26 -> 304.46324 | P26: =MIN(0,P25+Q$59-$E25) -> 0 | Q26: =P26+($F26*Q$59)-$E26 -> -11.728565 | R26: =T$59-$E26 -> 454.46324 | S26: =MIN(0,S25+T$59-$E25) -> 0 | T26: =S26+($F26*T$59)-$E26 -> -9.1373319 | U26: =W$59-$E26 -> 554.46324 | V26: =MIN(0,V25+W$59-$E25) -> 0 | W26: =V26+($F26*W$59)-$E26 -> -7.4098435 | X26: =Z$59-$E26 -> 654.46324 | Y26: =MIN(0,Y25+Z$59-$E25) -> 0 | Z26: =Y26+($F26*Z$59)-$E26 -> -5.682355
B27: 5 | C27: 1.6 | D27: =C27/$C$57 -> 0.012997563 | E27: ='Pipe Sizing'!$H$12*D27 -> 27.658814 | F27: =E27/'Pipe Sizing'!$R$12 -> 0.027639815 | G27: 0.16666667 | H27: =G27+(F27*(1/24)) -> 0.16781833 | I27: =$K$59-$E27 -> 69.091186 | J27: =MIN(0,J26+$K$59-$E26) -> 0 | K27: =J27+(F27*$K$59)-$E27 -> -24.984662 | L27: =N$59-$E27 -> 194.09119 | M27: =MIN(0,M26+N$59-$E26) -> 0 | N27: =M27+(F27*N$59)-$E27 -> -21.529685 | O27: =Q$59-$E27 -> 294.09119 | P27: =MIN(0,P26+Q$59-$E26) -> 0 | Q27: =P27+($F27*Q$59)-$E27 -> -18.765703 | R27: =T$59-$E27 -> 444.09119 | S27: =MIN(0,S26+T$59-$E26) -> 0 | T27: =S27+($F27*T$59)-$E27 -> -14.619731 | U27: =W$59-$E27 -> 544.09119 | V27: =MIN(0,V26+W$59-$E26) -> 0 | W27: =V27+($F27*W$59)-$E27 -> -11.85575 | X27: =Z$59-$E27 -> 644.09119 | Y27: =MIN(0,Y26+Z$59-$E26) -> 0 | Z27: =Y27+($F27*Z$59)-$E27 -> -9.091768
B28: 6 | C28: 2.1 | D28: =C28/$C$57 -> 0.017059301 | E28: ='Pipe Sizing'!$H$12*D28 -> 36.302193 | F28: =E28/'Pipe Sizing'!$R$12 -> 0.036277258 | G28: 0.20833333 | H28: =G28+(F28*(1/24)) -> 0.20984489 | I28: =$K$59-$E28 -> 60.447807 | J28: =MIN(0,J27+$K$59-$E27) -> 0 | K28: =J28+(F28*$K$59)-$E28 -> -32.792369 | L28: =N$59-$E28 -> 185.44781 | M28: =MIN(0,M27+N$59-$E27) -> 0 | N28: =M28+(F28*N$59)-$E28 -> -28.257711 | O28: =Q$59-$E28 -> 285.44781 | P28: =MIN(0,P27+Q$59-$E27) -> 0 | Q28: =P28+($F28*Q$59)-$E28 -> -24.629986 | R28: =T$59-$E28 -> 435.44781 | S28: =MIN(0,S27+T$59-$E27) -> 0 | T28: =S28+($F28*T$59)-$E28 -> -19.188397 | U28: =W$59-$E28 -> 535.44781 | V28: =MIN(0,V27+W$59-$E27) -> 0 | W28: =V28+($F28*W$59)-$E28 -> -15.560671 | X28: =Z$59-$E28 -> 635.44781 | Y28: =MIN(0,Y27+Z$59-$E27) -> 0 | Z28: =Y28+($F28*Z$59)-$E28 -> -11.932945
B29: 7 | C29: 5.5 | D29: =C29/$C$57 -> 0.044679123 | E29: ='Pipe Sizing'!$H$12*D29 -> 95.077173 | F29: =E29/'Pipe Sizing'!$R$12 -> 0.095011865 | G29: 0.25 | H29: =G29+(F29*(1/24)) -> 0.25395883 | I29: =$K$59-$E29 -> 1.672827 | J29: =MIN(0,J28+$K$59-$E28) -> 0 | K29: =J29+(F29*$K$59)-$E29 -> -85.884775 | L29: =N$59-$E29 -> 126.67283 | M29: =MIN(0,M28+N$59-$E28) -> 0 | N29: =M29+(F29*N$59)-$E29 -> -74.008292 | O29: =Q$59-$E29 -> 226.67283 | P29: =MIN(0,P28+Q$59-$E28) -> 0 | Q29: =P29+($F29*Q$59)-$E29 -> -64.507105 | R29: =T$59-$E29 -> 376.67283 | S29: =MIN(0,S28+T$59-$E28) -> 0 | T29: =S29+($F29*T$59)-$E29 -> -50.255326 | U29: =W$59-$E29 -> 476.67283 | V29: =MIN(0,V28+W$59-$E28) -> 0 | W29: =V29+($F29*W$59)-$E29 -> -40.754139 | X29: =Z$59-$E29 -> 576.67283 | Y29: =MIN(0,Y28+Z$59-$E28) -> 0 | Z29: =Y29+($F29*Z$59)-$E29 -> -31.252952
B30: 8 | C30: 10.7 | D30: =C30/$C$57 -> 0.086921202 | E30: ='Pipe Sizing'!$H$12*D30 -> 184.96832 | F30: =E30/'Pipe Sizing'!$R$12 -> 0.18484127 | G30: 0.29166667 | H30: =G30+(F30*(1/24)) -> 0.29936839 | I30: =$K$59-$E30 -> -88.218318 | J30: =MIN(0,J29+$K$59-$E29) -> 0 | K30: =J30+(F30*$K$59)-$E30 -> -167.08493 | L30: =N$59-$E30 -> 36.781682 | M30: =MIN(0,M29+N$59-$E29) -> 0 | N30: =M30+(F30*N$59)-$E30 -> -143.97977 | O30: =Q$59-$E30 -> 136.78168 | P30: =MIN(0,P29+Q$59-$E29) -> 0 | Q30: =P30+($F30*Q$59)-$E30 -> -125.49564 | R30: =T$59-$E30 -> 286.78168 | S30: =MIN(0,S29+T$59-$E29) -> 0 | T30: =S30+($F30*T$59)-$E30 -> -97.769452 | U30: =W$59-$E30 -> 386.78168 | V30: =MIN(0,V29+W$59-$E29) -> 0 | W30: =V30+($F30*W$59)-$E30 -> -79.285325 | X30: =Z$59-$E30 -> 486.78168 | Y30: =MIN(0,Y29+Z$59-$E29) -> 0 | Z30: =Y30+($F30*Z$59)-$E30 -> -60.801198
B31: 9 | C31: 9.3 | D31: =C31/$C$57 -> 0.075548335 | E31: ='Pipe Sizing'!$H$12*D31 -> 160.76686 | F31: =E31/'Pipe Sizing'!$R$12 -> 0.16065643 | G31: 0.33333333 | H31: =G31+(F31*(1/24)) -> 0.34002735 | I31: =$K$59-$E31 -> -64.016856 | J31: =MIN(0,J30+$K$59-$E30) -> -88.218318 | K31: =J31+(F31*$K$59)-$E31 -> -233.44167 | L31: =N$59-$E31 -> 60.983144 | M31: =MIN(0,M30+N$59-$E30) -> 0 | N31: =M31+(F31*N$59)-$E31 -> -125.14129 | O31: =Q$59-$E31 -> 160.98314 | P31: =MIN(0,P30+Q$59-$E30) -> 0 | Q31: =P31+($F31*Q$59)-$E31 -> -109.07565 | R31: =T$59-$E31 -> 310.98314 | S31: =MIN(0,S30+T$59-$E30) -> 0 | T31: =S31+($F31*T$59)-$E31 -> -84.977187 | U31: =W$59-$E31 -> 410.98314 | V31: =MIN(0,V30+W$59-$E30) -> 0 | W31: =V31+($F31*W$59)-$E31 -> -68.911544 | X31: =Z$59-$E31 -> 510.98314 | Y31: =MIN(0,Y30+Z$59-$E30) -> 0 | Z31: =Y31+($F31*Z$59)-$E31 -> -52.845901
B32: 10 | C32: 7.5 | D32: =C32/$C$57 -> 0.060926076 | E32: ='Pipe Sizing'!$H$12*D32 -> 129.65069 | F32: =E32/'Pipe Sizing'!$R$12 -> 0.12956163 | G32: 0.375 | H32: =G32+(F32*(1/24)) -> 0.3803984 | I32: =$K$59-$E32 -> -32.90069 | J32: =MIN(0,J31+$K$59-$E31) -> -152.23517 | K32: =J32+(F32*$K$59)-$E32 -> -269.35078 | L32: =N$59-$E32 -> 92.09931 | M32: =MIN(0,M31+N$59-$E31) -> 0 | N32: =M32+(F32*N$59)-$E32 -> -100.9204 | O32: =Q$59-$E32 -> 192.09931 | P32: =MIN(0,P31+Q$59-$E31) -> 0 | Q32: =P32+($F32*Q$59)-$E32 -> -87.964235 | R32: =T$59-$E32 -> 342.09931 | S32: =MIN(0,S31+T$59-$E31) -> 0 | T32: =S32+($F32*T$59)-$E32 -> -68.529989 | U32: =W$59-$E32 -> 442.09931 | V32: =MIN(0,V31+W$59-$E31) -> 0 | W32: =V32+($F32*W$59)-$E32 -> -55.573826 | X32: =Z$59-$E32 -> 542.09931 | Y32: =MIN(0,Y31+Z$59-$E31) -> 0 | Z32: =Y32+($F32*Z$59)-$E32 -> -42.617662
B33: 11 | C33: 6.7 | D33: =C33/$C$57 -> 0.054427295 | E33: ='Pipe Sizing'!$H$12*D33 -> 115.82128 | F33: =E33/'Pipe Sizing'!$R$12 -> 0.11574173 | G33: 0.41666667 | H33: =G33+(F33*(1/24)) -> 0.42148924 | I33: =$K$59-$E33 -> -19.071284 | J33: =MIN(0,J32+$K$59-$E32) -> -185.13587 | K33: =J33+(F33*$K$59)-$E33 -> -289.75914 | L33: =N$59-$E33 -> 105.92872 | M33: =MIN(0,M32+N$59-$E32) -> 0 | N33: =M33+(F33*N$59)-$E33 -> -90.155556 | O33: =Q$59-$E33 -> 205.92872 | P33: =MIN(0,P32+Q$59-$E32) -> 0 | Q33: =P33+($F33*Q$59)-$E33 -> -78.581383 | R33: =T$59-$E33 -> 355.92872 | S33: =MIN(0,S32+T$59-$E32) -> 0 | T33: =S33+($F33*T$59)-$E33 -> -61.220124 | U33: =W$59-$E33 -> 455.92872 | V33: =MIN(0,V32+W$59-$E32) -> 0 | W33: =V33+($F33*W$59)-$E33 -> -49.645951 | X33: =Z$59-$E33 -> 555.92872 | Y33: =MIN(0,Y32+Z$59-$E32) -> 0 | Z33: =Y33+($F33*Z$59)-$E33 -> -38.071778
B34: 12 | C34: 5.9 | D34: =C34/$C$57 -> 0.047928513 | E34: ='Pipe Sizing'!$H$12*D34 -> 101.99188 | F34: =E34/'Pipe Sizing'!$R$12 -> 0.10192182 | G34: 0.45833333 | H34: =G34+(F34*(1/24)) -> 0.46258008 | I34: =$K$59-$E34 -> -5.2418765 | J34: =MIN(0,J33+$K$59-$E33) -> -204.20715 | K34: =J34+(F34*$K$59)-$E34 -> -296.33809 | L34: =N$59-$E34 -> 119.75812 | M34: =MIN(0,M33+N$59-$E33) -> 0 | N34: =M34+(F34*N$59)-$E34 -> -79.390713 | O34: =Q$59-$E34 -> 219.75812 | P34: =MIN(0,P33+Q$59-$E33) -> 0 | Q34: =P34+($F34*Q$59)-$E34 -> -69.198531 | R34: =T$59-$E34 -> 369.75812 | S34: =MIN(0,S33+T$59-$E33) -> 0 | T34: =S34+($F34*T$59)-$E34 -> -53.910258 | U34: =W$59-$E34 -> 469.75812 | V34: =MIN(0,V33+W$59-$E33) -> 0 | W34: =V34+($F34*W$59)-$E34 -> -43.718076 | X34: =Z$59-$E34 -> 569.75812 | Y34: =MIN(0,Y33+Z$59-$E33) -> 0 | Z34: =Y34+($F34*Z$59)-$E34 -> -33.525894
B35: 13 | C35: 5.2 | D35: =C35/$C$57 -> 0.04224208 | E35: ='Pipe Sizing'!$H$12*D35 -> 89.891145 | F35: =E35/'Pipe Sizing'!$R$12 -> 0.0898294 | G35: 0.5 | H35: =G35+(F35*(1/24)) -> 0.50374289 | I35: =$K$59-$E35 -> 6.8588546 | J35: =MIN(0,J34+$K$59-$E34) -> -209.44903 | K35: =J35+(F35*$K$59)-$E35 -> -290.64918 | L35: =N$59-$E35 -> 131.85885 | M35: =MIN(0,M34+N$59-$E34) -> 0 | N35: =M35+(F35*N$59)-$E35 -> -69.971476 | O35: =Q$59-$E35 -> 231.85885 | P35: =MIN(0,P34+Q$59-$E34) -> 0 | Q35: =P35+($F35*Q$59)-$E35 -> -60.988536 | R35: =T$59-$E35 -> 381.85885 | S35: =MIN(0,S34+T$59-$E34) -> 0 | T35: =S35+($F35*T$59)-$E35 -> -47.514126 | U35: =W$59-$E35 -> 481.85885 | V35: =MIN(0,V34+W$59-$E34) -> 0 | W35: =V35+($F35*W$59)-$E35 -> -38.531186 | X35: =Z$59-$E35 -> 581.85885 | Y35: =MIN(0,Y34+Z$59-$E34) -> 0 | Z35: =Y35+($F35*Z$59)-$E35 -> -29.548246
... B46: 24 | C46: 3 | D46: =C46/$C$57 -> 0.024370431 | E46: ='Pipe Sizing'!$H$12*D46 -> 51.860276 | F46: =E46/'Pipe Sizing'!$R$12 -> 0.051824654 | G46: 0.95833333 | H46: =G46+(F46*(1/24)) -> 0.96049269 | I46: =$K$59-$E46 -> 44.889724 | J46: =MIN(0,J45+$K$59-$E45) -> -265.38099 | K46: =J46+(F46*$K$59)-$E46 -> -312.22723 | L46: =N$59-$E46 -> 169.88972 | M46: =MIN(0,M45+N$59-$E45) -> 0 | N46: =M46+(F46*N$59)-$E46 -> -40.368159 | O46: =Q$59-$E46 -> 269.88972 | P46: =MIN(0,P45+Q$59-$E45) -> 0 | Q46: =P46+($F46*Q$59)-$E46 -> -35.185694 | R46: =T$59-$E46 -> 419.88972 | S46: =MIN(0,S45+T$59-$E45) -> 0 | T46: =S46+($F46*T$59)-$E46 -> -27.411996 | U46: =W$59-$E46 -> 519.88972 | V46: =MIN(0,V45+W$59-$E45) -> 0 | W46: =V46+($F46*W$59)-$E46 -> -22.22953 | X46: =Z$59-$E46 -> 619.88972 | Y46: =MIN(0,Y45+Z$59-$E45) -> 0 | Z46: =Y46+($F46*Z$59)-$E46 -> -17.047065
B47: 1 | J47: =MIN(0,J46+$K$59-$E46) -> -220.49127 | M47: =MIN(0,M46+N$59-$E46) -> 0 | P47: =MIN(0,P46+Q$59-$E46) -> 0 | S47: =MIN(0,S46+T$59-$E46) -> 0 | V47: =MIN(0,V46+W$59-$E46) -> 0 | Y47: =MIN(0,Y46+Z$59-$E46) -> 0
B48: 2 | J48: =MIN(0,J47+$K$59-$E23) -> -162.63647 | M48: =MIN(0,M47+N$59-$E23) -> 0 | P48: =MIN(0,P47+Q$59-$E23) -> 0 | S48: =MIN(0,S47+T$59-$E23) -> 0 | V48: =MIN(0,V47+W$59-$E23) -> 0 | Y48: =MIN(0,Y47+Z$59-$E23) -> 0
B49: 3 | J49: =MIN(0,J48+$K$59-$E24) -> -91.816613 | M49: =MIN(0,M48+N$59-$E24) -> 0 | P49: =MIN(0,P48+Q$59-$E24) -> 0 | S49: =MIN(0,S48+T$59-$E24) -> 0 | V49: =MIN(0,V48+W$59-$E24) -> 0 | Y49: =MIN(0,Y48+Z$59-$E24) -> 0
B50: 4 | J50: =MIN(0,J49+$K$59-$E25) -> -16.675061 | M50: =MIN(0,M49+N$59-$E25) -> 0 | P50: =MIN(0,P49+Q$59-$E25) -> 0 | S50: =MIN(0,S49+T$59-$E25) -> 0 | V50: =MIN(0,V49+W$59-$E25) -> 0 | Y50: =MIN(0,Y49+Z$59-$E25) -> 0
B51: 5 | J51: =MIN(0,J50+$K$59-$E26) -> 0 | M51: =MIN(0,M50+N$59-$E26) -> 0 | P51: =MIN(0,P50+Q$59-$E26) -> 0 | S51: =MIN(0,S50+T$59-$E26) -> 0 | V51: =MIN(0,V50+W$59-$E26) -> 0 | Y51: =MIN(0,Y50+Z$59-$E26) -> 0
B52: 6 | J52: =MIN(0,J51+$K$59-$E27) -> 0 | M52: =MIN(0,M51+N$59-$E27) -> 0 | P52: =MIN(0,P51+Q$59-$E27) -> 0 | S52: =MIN(0,S51+T$59-$E27) -> 0 | V52: =MIN(0,V51+W$59-$E27) -> 0 | Y52: =MIN(0,Y51+Z$59-$E27) -> 0
B53: 7 | J53: =MIN(0,J52+$K$59-$E28) -> 0 | M53: =MIN(0,M52+N$59-$E28) -> 0 | P53: =MIN(0,P52+Q$59-$E28) -> 0 | S53: =MIN(0,S52+T$59-$E28) -> 0 | V53: =MIN(0,V52+W$59-$E28) -> 0 | Y53: =MIN(0,Y52+Z$59-$E28) -> 0
B54: 8 | J54: =MIN(0,J53+$K$59-$E29) -> 0 | M54: =MIN(0,M53+N$59-$E29) -> 0 | P54: =MIN(0,P53+Q$59-$E29) -> 0 | S54: =MIN(0,S53+T$59-$E29) -> 0 | V54: =MIN(0,V53+W$59-$E29) -> 0 | Y54: =MIN(0,Y53+Z$59-$E29) -> 0
B57: Total | C57: =SUM(C23:C46) -> 123.1 | D57: =SUM(D23:D46) -> 1 | E57: =SUM(E23:E46) -> 2128 | K57: 1 | N57: 1.1 | Q57: =N57+0.1 -> 1.2 | T57: =Q57+0.1 -> 1.3 | W57: =T57+0.1 -> 1.4 | Z57: =W57+0.1 -> 1.5
B58: DHW kW | E58: =AVERAGE(E23:E46) -> 88.666667 | K58: =CEILING(E60,25) -> 1125 | L58: kW | N58: =CEILING(N57*E60,25) -> 1250 | Q58: =CEILING(Q57*$E60,50) -> 1350 | T58: =CEILING(T57*$E60,50) -> 1500 | W58: =CEILING(W57*$E60,50) -> 1600 | Z58: =CEILING(Z57*$E60,50) -> 1700
B59: Heating kW | E59: ='Pipe Sizing'!$X$12 -> 1028.25 | K59: =K58-E59 -> 96.75 | L59: kW | N59: =N58-E59 -> 221.75 | Q59: =Q58-$E$59 -> 321.75 | T59: =T58-$E$59 -> 471.75 | W59: =W58-$E$59 -> 571.75 | Z59: =Z58-$E$59 -> 671.75
B60: Minimum Boiler Power | E60: =E58+E59 -> 1116.9167
K61: =MIN(0,MIN(K23:K55)) -> -371.06251 | L61: kWh | N61: =MIN(0,MIN(N23:N55)) -> -143.97977 | Q61: =MIN(0,MIN(Q23:Q55)) -> -125.49564 | T61: =MIN(0,MIN(T23:T55)) -> -97.769452 | W61: =MIN(0,MIN(W23:W55)) -> -79.285325 | Z61: =MIN(0,MIN(Z23:Z55)) -> -60.801198
B62: Selected Boiler Power | K62: =-K61*3600000/(4200*('Pipe Sizing'!$D$51-'Pipe Sizing'!$D$54)) -> 5300.8929 | L62: litres | N62: =-N61*3600000/(4200*('Pipe Sizing'!$D$51-'Pipe Sizing'!$D$54)) -> 2056.8538 | Q62: =-Q61*3600000/(4200*('Pipe Sizing'!$D$51-'Pipe Sizing'!$D$54)) -> 1792.7949 | T62: =-T61*3600000/(4200*('Pipe Sizing'!$D$51-'Pipe Sizing'!$D$54)) -> 1396.7065 | W62: =-W61*3600000/(4200*('Pipe Sizing'!$D$51-'Pipe Sizing'!$D$54)) -> 1132.6475 | Z62: =-Z61*3600000/(4200*('Pipe Sizing'!$D$51-'Pipe Sizing'!$D$54)) -> 868.58855
B63: Spare for DHW
B65: Min kWh
B66: Central Buffer Volume
C71: Boiler Size | D71: Buffer Size
C72: =K58 -> 1125 | D72: =K62 -> 5300.8929
C73: =N58 -> 1250 | D73: =N62 -> 2056.8538
C74: =Q58 -> 1350 | D74: =Q62 -> 1792.7949
C75: =T58 -> 1500 | D75: =T62 -> 1396.7065
C76: =W58 -> 1600 | D76: =W62 -> 1132.6475
C77: =Z58 -> 1700 | D77: =Z62 -> 868.58855

Sheet Pipes
B2: Diameter | C2: Wal | D2: Bore | E2: Material | F2: Roughness Constant | G2: Tube Thermal Conductivity | H2: Insulation Thermal Conductivity | I2: Cost | J2: ro | K2: ri | L2: Insulation Thickness, Flow | M2: rs | N2: Thermal Loss, Flow | O2: Insulation Thickness, Return | P2: rs | Q2: Thermal Loss, Return
B3: mm | C3: mm | D3: mm | G3: W/mk | H3: W/mK | I3: £/m | L3: mm | N3: W/m/K | O3: mm | Q3: W/m/K
B4: 10 | C4: 0.8 | D4: =B4-(2*C4) -> 8.4 | E4: Copper | F4: 140 | G4: 401 | H4: 0.034 | I4: =41.96/25 -> 1.6784 | J4: =($B4/2)/1000 -> 0.005 | K4: =($D4/2)/1000 -> 0.0042 | L4: =Summary!$C$19 -> 50 | M4: =$J4+(L4/1000) -> 0.055 | N4: =1/((LN($J4/$K4)/(2*3.14159*$G4))+(LN(M4/$J4)/(2*3.14159*$H4))) -> 0.089089297 | O4: =Summary!$C$20 -> 30 | P4: =$J4+(O4/1000) -> 0.035 | Q4: =1/((LN($J4/$K4)/(2*3.14159*$G4))+(LN(P4/$J4)/(2*3.14159*$H4))) -> 0.1097823
B5: 12 | C5: 0.8 | D5: =B5-(2*C5) -> 10.4 | E5: Copper | F5: 140 | G5: 401 | H5: 0.034 | I5: 2 | J5: =(B5/2)/1000 -> 0.006 | K5: =(D5/2)/1000 -> 0.0052 | L5: =Summary!$C$19 -> 50 | M5: =$J5+(L5/1000) -> 0.056 | N5: =1/((LN($J5/$K5)/(2*3.14159*$G5))+(LN(M5/$J5)/(2*3.14159*$H5))) -> 0.095642776 | O5: =Summary!$C$20 -> 30 | P5: =$J5+(O5/1000) -> 0.036 | Q5: =1/((LN($J5/$K5)/(2*3.14159*$G5))+(LN(P5/$J5)/(2*3.14159*$H5))) -> 0.11922732
B6: 15 | C6: 1 | D6: =B6-(2*C6) -> 13 | E6: Copper | F6: 140 | G6: 401 | H6: 0.034 | I6: =6.28/3 -> 2.0933333 | J6: =(B6/2)/1000 -> 0.0075 | K6: =(D6/2)/1000 -> 0.0065 | L6: =Summary!$C$19 -> 50 | M6: =$J6+(L6/1000) -> 0.0575 | N6: =1/((LN($J6/$K6)/(2*3.14159*$G6))+(LN(M6/$J6)/(2*3.14159*$H6))) -> 0.10487935 | O6: =Summary!$C$20 -> 30 | P6: =$J6+(O6/1000) -> 0.0375 | Q6: =1/((LN($J6/$K6)/(2*3.14159*$G6))+(LN(P6/$J6)/(2*3.14159*$H6))) -> 0.13273361
B7: 22 | C7: 1 | D7: =B7-(2*C7) -> 20 | E7: Copper | F7: 140 | G7: 401 | H7: 0.034 | I7: =13.46/3 -> 4.4866667 | J7: =(B7/2)/1000 -> 0.011 | K7: =(D7/2)/1000 -> 0.01 | L7: =Summary!$C$19 -> 50 | M7: =$J7+(L7/1000) -> 0.061 | N7: =1/((LN($J7/$K7)/(2*3.14159*$G7))+(LN(M7/$J7)/(2*3.14159*$H7))) -> 0.12471091 | O7: =Summary!$C$20 -> 30 | P7: =$J7+(O7/1000) -> 0.041 | Q7: =1/((LN($J7/$K7)/(2*3.14159*$G7))+(LN(P7/$J7)/(2*3.14159*$H7))) -> 0.16237028
B8: 28 | C8: 1 | D8: =B8-(2*C8) -> 26 | E8: Copper | F8: 140 | G8: 401 | H8: 0.034 | I8: =17.14/3 -> 5.7133333 | J8: =(B8/2)/1000 -> 0.014 | K8: =(D8/2)/1000 -> 0.013 | L8: =Summary!$C$19 -> 50 | M8: =$J8+(L8/1000) -> 0.064 | N8: =1/((LN($J8/$K8)/(2*3.14159*$G8))+(LN(M8/$J8)/(2*3.14159*$H8))) -> 0.14056035 | O8: =Summary!$C$20 -> 30 | P8: =$J8+(O8/1000) -> 0.044 | Q8: =1/((LN($J8/$K8)/(2*3.14159*$G8))+(LN(P8/$J8)/(2*3.14159*$H8))) -> 0.1865522
B9: 35 | C9: 1.2 | D9: =B9-(2*C9) -> 32.6 | E9: Copper | F9: 140 | G9: 401 | H9: 0.034 | I9: =32.94/3 -> 10.98 | J9: =(B9/2)/1000 -> 0.0175 | K9: =(D9/2)/1000 -> 0.0163 | L9: =Summary!$C$19 -> 50 | M9: =$J9+(L9/1000) -> 0.0675 | N9: =1/((LN($J9/$K9)/(2*3.14159*$G9))+(LN(M9/$J9)/(2*3.14159*$H9))) -> 0.15825094 | O9: =Summary!$C$20 -> 30 | P9: =$J9+(O9/1000) -> 0.0475 | Q9: =1/((LN($J9/$K9)/(2*3.14159*$G9))+(LN(P9/$J9)/(2*3.14159*$H9))) -> 0.21394158
B10: 42 | C10: 1.5 | D10: =B10-(2*C10) -> 39 | E10: Copper | F10: 140 | G10: 401 | H10: 0.034 | I10: =40.18/3 -> 13.393333 | J10: =(B10/2)/1000 -> 0.021 | K10: =(D10/2)/1000 -> 0.0195 | L10: =Summary!$C$19 -> 50 | M10: =$J10+(L10/1000) -> 0.071 | N10: =1/((LN($J10/$K10)/(2*3.14159*$G10))+(LN(M10/$J10)/(2*3.14159*$H10))) -> 0.17536897 | O10: =Summary!$C$20 -> 30 | P10: =$J10+(O10/1000) -> 0.051 | Q10: =1/((LN($J10/$K10)/(2*3.14159*$G10))+(LN(P10/$J10)/(2*3.14159*$H10))) -> 0.24075943
B11: 54 | C11: 1.5 | D11: =B11-(2*C11) -> 51 | E11: Copper | F11: 140 | G11: 401 | H11: 0.034 | I11: =52.4/3 -> 17.466667 | J11: =(B11/2)/1000 -> 0.027 | K11: =(D11/2)/1000 -> 0.0255 | L11: =Summary!$C$19 -> 50 | M11: =$J11+(L11/1000) -> 0.077 | N11: =1/((LN($J11/$K11)/(2*3.14159*$G11))+(LN(M11/$J11)/(2*3.14159*$H11))) -> 0.2038488 | O11: =Summary!$C$20 -> 30 | P11: =$J11+(O11/1000) -> 0.057 | Q11: =1/((LN($J11/$K11)/(2*3.14159*$G11))+(LN(P11/$J11)/(2*3.14159*$H11))) -> 0.28589751
B12: 75 | C12: 1.5 | D12: =B12-(2*C12) -> 72 | E12: Steel | F12: 140 | G12: 401 | H12: 0.034 | I12: =B12/3 -> 25 | J12: =(B12/2)/1000 -> 0.0375 | K12: =(D12/2)/1000 -> 0.036 | L12: =Summary!$C$19 -> 50 | M12: =$J12+(L12/1000) -> 0.0875 | N12: =1/((LN($J12/$K12)/(2*3.14159*$G12))+(LN(M12/$J12)/(2*3.14159*$H12))) -> 0.25212768 | O12: =Summary!$C$20 -> 30 | P12: =$J12+(O12/1000) -> 0.0675 | Q12: =1/((LN($J12/$K12)/(2*3.14159*$G12))+(LN(P12/$J12)/(2*3.14159*$H12))) -> 0.36344285
B13: 100 | C13: 1.5 | D13: =B13-(2*C13) -> 97 | E13: Steel | F13: 140 | G13: 401 | H13: 0.034 | I13: =B13/3 -> 33.333333 | J13: =(B13/2)/1000 -> 0.05 | K13: =(D13/2)/1000 -> 0.0485 | L13: =Summary!$C$19 -> 50 | M13: =$J13+(L13/1000) -> 0.1 | N13: =1/((LN($J13/$K13)/(2*3.14159*$G13))+(LN(M13/$J13)/(2*3.14159*$H13))) -> 0.30819908 | O13: =Summary!$C$20 -> 30 | P13: =$J13+(O13/1000) -> 0.08 | Q13: =1/((LN($J13/$K13)/(2*3.14159*$G13))+(LN(P13/$J13)/(2*3.14159*$H13))) -> 0.45452191
B14: 150 | C14: 1.5 | D14: =B14-(2*C14) -> 147 | E14: Steel | F14: 140 | G14: 401 | H14: 0.034 | I14: =B14/3 -> 50 | J14: =(B14/2)/1000 -> 0.075 | K14: =(D14/2)/1000 -> 0.0735 | L14: =Summary!$C$19 -> 50 | M14: =$J14+(L14/1000) -> 0.125 | N14: =1/((LN($J14/$K14)/(2*3.14159*$G14))+(LN(M14/$J14)/(2*3.14159*$H14))) -> 0.41820025 | O14: =Summary!$C$20 -> 30 | P14: =$J14+(O14/1000) -> 0.105 | Q14: =1/((LN($J14/$K14)/(2*3.14159*$G14))+(LN(P14/$J14)/(2*3.14159*$H14))) -> 0.63490241
B15: 200 | C15: 1.5 | D15: =B15-(2*C15) -> 197 | E15: Steel | F15: 140 | G15: 401 | H15: 0.034 | I15: =B15/3 -> 66.666667 | J15: =(B15/2)/1000 -> 0.1 | K15: =(D15/2)/1000 -> 0.0985 | L15: =Summary!$C$19 -> 50 | M15: =$J15+(L15/1000) -> 0.15 | N15: =1/((LN($J15/$K15)/(2*3.14159*$G15))+(LN(M15/$J15)/(2*3.14159*$H15))) -> 0.52687011 | O15: =Summary!$C$20 -> 30 | P15: =$J15+(O15/1000) -> 0.13 | Q15: =1/((LN($J15/$K15)/(2*3.14159*$G15))+(LN(P15/$J15)/(2*3.14159*$H15))) -> 0.81423847
B16: 250 | C16: 1.5 | D16: =B16-(2*C16) -> 247 | E16: Steel | F16: 140 | G16: 401 | H16: 0.034 | I16: =B16/3 -> 83.333333 | J16: =(B16/2)/1000 -> 0.125 | K16: =(D16/2)/1000 -> 0.1235 | L16: =Summary!$C$19 -> 50 | M16: =$J16+(L16/1000) -> 0.175 | N16: =1/((LN($J16/$K16)/(2*3.14159*$G16))+(LN(M16/$J16)/(2*3.14159*$H16))) -> 0.63490371 | O16: =Summary!$C$20 -> 30 | P16: =$J16+(O16/1000) -> 0.155 | Q16: =1/((LN($J16/$K16)/(2*3.14159*$G16))+(LN(P16/$J16)/(2*3.14159*$H16))) -> 0.99309996
B23: http://www.engineeringtoolbox.com/conductive-heat-loss-cylinder-pipe-d_1487.html
S24: 10 | T24: 123
B25: Q = (ti - to) / [(ln(ro / ri) / 2 π k L) + (ln(rs / ro) / 2 π ks L)] | S25: 20 | T25: 75
S26: 30 | T26: 59
B27: http://www.insulationgiant.co.uk/Rockwool-Heating-and-Ventilation-Pipe-Insulation-40mm-Wall-Thickness/p/9000094465 | S27: 40 | T27: 50
S28: 50 | T28: 44
S29: 60 | T29: 41
S30: 70 | T30: 38
S31: 80 | T31: 36
S32: 90 | T32: 34
S33: 100 | T33: 32

Sheet Energy Use
C2: Power | E2: Hours/Year | F2: Annual Energy
B4: Losses in Buildings | C4: ='Pipe Sizing'!BU52 -> 21.162863 | D4: kW | E4: =24*365 -> 8760 | F4: =C4*E4 -> 185386.68 | G4: kWh
B5: Losses in Network | C5: ='Pipe Sizing'!BU49 -> 7.6856965 | D5: kW | E5: =24*365 -> 8760 | F5: =C5*E5 -> 67326.701 | G5: kWh
B6: Domestic Hot Water | F6: ='Pipe Sizing'!H12*365 -> 776720 | G6: kWh
B7: Central Heating | C7: ='Pipe Sizing'!V12 -> 1080 | D7: kW | E7: =Summary!C18 -> 600 | F7: =C7*E7 -> 648000 | G7: kWh

Sheet Energy Generation
B2: Heat Source Efficiency
B3: Chart of Boiler Efficiency at different Flow Temperatures
B5: Peak Load Flow Temperature | C5: =Summary!C8 -> 90 | D5: C
B6: Summer Flow Temperature | C6: =Summary!C9 -> 65 | D6: C
B7: Return Summer | C7: ='Pipe Sizing'!BH30 -> 20 | D7: C | P7: `
B8: Return Winter | C8: ='Pipe Sizing'!BG30 -> 25.452067 | D8: C
R9: Percentage Input for each temp range
B10: Temperature | C10: Fuel Price | D10: Carbon Kg CO2/kWh | E10: Peak | F10: 20 | G10: 30 | H10: 40 | I10: 50 | J10: 55 | K10: 60 | L10: 70 | M10: 80 | N10: 90 | O10: 100 | Q10: Percent Input | R10: 20 | S10: 30 | T10: 40 | U10: 50 | V10: 55 | W10: 60 | X10: 70 | Y10: 80 | Z10: 90 | AA10: Percent Input | AB10: 20 | AC10: 30 | AD10: 40 | AE10: 50 | AF10: 55 | AG10: 60 | AH10: 70 | AI10: 80 | AJ10: 90
B11: Gas Boiler | C11: 0.03 | D11: 0.18 | E11: 90 | F11: 0.95 | G11: 0.95 | H11: 0.95 | I11: 0.95 | J11: 0.9 | K11: 0.9 | L11: 0.88 | M11: 0.85 | N11: 0.8 | Q11: =SUM(R11:Z11) -> 0.76305973 | R11: =IF(F$18=$B11,1,0) * F$28 -> 0 | S11: =IF(G$18=$B11,1,0) * G$28 -> 0 | T11: =IF(H$18=$B11,1,0) * H$28 -> 0 | U11: =IF(I$18=$B11,1,0) * I$28 -> 0 | V11: =IF(J$18=$B11,1,0) * J$28 -> 0 | W11: =IF(K$18=$B11,1,0) * K$28 -> 0.24762199 | X11: =IF(L$18=$B11,1,0) * L$28 -> 0.25324976 | Y11: =IF(M$18=$B11,1,0) * M$28 -> 0.26218799 | Z11: =IF(N$18=$B11,1,0) * N$28 -> 0 | AA11: =SUM(AB11:AJ11) -> 0.32154341 | AB11: =IF(F$18=$B11,1,0) * F$42 -> 0 | AC11: =IF(G$18=$B11,1,0) * G$42 -> 0 | AD11: =IF(H$18=$B11,1,0) * H$42 -> 0 | AE11: =IF(I$18=$B11,1,0) * I$42 -> 0 | AF11: =IF(J$18=$B11,1,0) * J$42 -> 0 | AG11: =IF(K$18=$B11,1,0) * K$42 -> 0.32154341 | AH11: =IF(L$18=$B11,1,0) * L$42 -> 0 | AI11: =IF(M$18=$B11,1,0) * M$42 -> 0 | AJ11: =IF(N$18=$B11,1,0) * N$42 -> 0
B12: Heat Pump | C12: 0.11 | D12: 0.5 | E12: 55 | F12: 5 | G12: 4.5 | H12: 4 | I12: 3 | J12: 1.5 | Q12: =SUM(R12:Z12) -> 0.23694027 | R12: =IF(F$18=$B12,1,0) * F$28 -> 0.020271029 | S12: =IF(G$18=$B12,1,0) * G$28 -> 0.049524397 | T12: =IF(H$18=$B12,1,0) * H$28 -> 0.055714947 | U12: =IF(I$18=$B12,1,0) * I$28 -> 0.037143298 | V12: =IF(J$18=$B12,1,0) * J$28 -> 0.074286596 | W12: =IF(K$18=$B12,1,0) * K$28 -> 0 | X12: =IF(L$18=$B12,1,0) * L$28 -> 0 | Y12: =IF(M$18=$B12,1,0) * M$28 -> 0 | Z12: =IF(N$18=$B12,1,0) * N$28 -> 0 | AA12: =SUM(AB12:AJ12) -> 0.67845659 | AB12: =IF(F$18=$B12,1,0) * F$42 -> 0.11575563 | AC12: =IF(G$18=$B12,1,0) * G$42 -> 0.12861736 | AD12: =IF(H$18=$B12,1,0) * H$42 -> 0.14469453 | AE12: =IF(I$18=$B12,1,0) * I$42 -> 0.096463023 | AF12: =IF(J$18=$B12,1,0) * J$42 -> 0.19292605 | AG12: =IF(K$18=$B12,1,0) * K$42 -> 0 | AH12: =IF(L$18=$B12,1,0) * L$42 -> 0 | AI12: =IF(M$18=$B12,1,0) * M$42 -> 0 | AJ12: =IF(N$18=$B12,1,0) * N$42 -> 0
B16: Max | F16: =MAX(F11:F13) -> 5 | G16: =MAX(G11:G13) -> 4.5 | H16: =MAX(H11:H13) -> 4 | I16: =MAX(I11:I13) -> 3 | J16: =MAX(J11:J13) -> 1.5 | K16: =MAX(K11:K13) -> 0.9 | L16: =MAX(L11:L13) -> 0.88 | M16: =MAX(M11:M13) -> 0.85 | N16: =MAX(N11:N13) -> 0.8
B17: Carbon | F17: =LOOKUP(F18,$B11:$B13,$D11:$D13) -> 0.5 | G17: =LOOKUP(G18,$B11:$B13,$D11:$D13) -> 0.5 | H17: =LOOKUP(H18,$B11:$B13,$D11:$D13) -> 0.5 | I17: =LOOKUP(I18,$B11:$B13,$D11:$D13) -> 0.5 | J17: =LOOKUP(J18,$B11:$B13,$D11:$D13) -> 0.5 | K17: =LOOKUP(K18,$B11:$B13,$D11:$D13) -> 0.18 | L17: =LOOKUP(L18,$B11:$B13,$D11:$D13) -> 0.18 | M17: =LOOKUP(M18,$B11:$B13,$D11:$D13) -> 0.18 | N17: =LOOKUP(N18,$B11:$B13,$D11:$D13) -> 0.18
F18: =LOOKUP(F$16,F$11:F$12,$B11:$B12) -> Heat Pump | G18: =LOOKUP(G$16,G$11:G$12,$B11:$B12) -> Heat Pump | H18: =LOOKUP(H$16,H$11:H$12,$B11:$B12) -> Heat Pump | I18: =LOOKUP(I$16,I$11:I$12,$B11:$B12) -> Heat Pump | J18: =LOOKUP(J$16,J$11:J$12,$B11:$B12) -> Heat Pump | K18: =LOOKUP(K$16,K$11:K$12,$B11:$B12) -> Gas Boiler | L18: =LOOKUP(L$16,L$11:L$12,$B11:$B12) -> Gas Boiler | M18: =LOOKUP(M$16,M$11:M$12,$B11:$B12) -> Gas Boiler | N18: =LOOKUP(N$16,N$11:N$12,$B11:$B12) -> Gas Boiler
B19: Winter Full Load
B20: Energy Input | F20: =1/F$16 -> 0.2 | G20: =1/G$16 -> 0.22222222 | H20: =1/H$16 -> 0.25 | I20: =1/I$16 -> 0.33333333 | J20: =1/J$16 -> 0.66666667 | K20: =1/K$16 -> 1.1111111 | L20: =1/L$16 -> 1.1363636 | M20: =1/M$16 -> 1.1764706 | N20: =1/N$16 -> 1.25
B21: Degrees Input | F21: =IF(G$10>$C$8,MIN(G$10,$C$5)-(MAX(F$10,$C$8)),0) -> 4.5479332 | G21: =IF(H$10>$C$8,MIN(H$10,$C$5)-(MAX(G$10,$C$8)),0) -> 10 | H21: =IF(I$10>$C$8,MIN(I$10,$C$5)-(MAX(H$10,$C$8)),0) -> 10 | I21: =IF(J$10>$C$8,MIN(J$10,$C$5)-(MAX(I$10,$C$8)),0) -> 5 | J21: =IF(K$10>$C$8,MIN(K$10,$C$5)-(MAX(J$10,$C$8)),0) -> 5 | K21: =IF(L$10>$C$8,MIN(L$10,$C$5)-(MAX(K$10,$C$8)),0) -> 10 | L21: =IF(M$10>$C$8,MIN(M$10,$C$5)-(MAX(L$10,$C$8)),0) -> 10 | M21: =IF(N$10>$C$8,MIN(N$10,$C$5)-(MAX(M$10,$C$8)),0) -> 10 | N21: =IF(O$10>$C$8,MIN(O$10,$C$5)-(MAX(N$10,$C$8)),0) -> 0
B22: Degrees Input, check max | F22: =IF(F21>0,F21,0) -> 4.5479332 | G22: =IF(G21>0,G21,0) -> 10 | H22: =IF(H21>0,H21,0) -> 10 | I22: =IF(I21>0,I21,0) -> 5 | J22: =IF(J21>0,J21,0) -> 5 | K22: =IF(K21>0,K21,0) -> 10 | L22: =IF(L21>0,L21,0) -> 10 | M22: =IF(M21>0,M21,0) -> 10 | N22: =IF(N21>0,N21,0) -> 0
B23: Total | O23: =SUM(F22:N22) -> 64.547933
B24: Percent of Load | F24: =F22/$O$23 -> 0.070458231 | G24: =G22/$O$23 -> 0.15492363 | H24: =H22/$O$23 -> 0.15492363 | I24: =I22/$O$23 -> 0.077461814 | J24: =J22/$O$23 -> 0.077461814 | K24: =K22/$O$23 -> 0.15492363 | L24: =L22/$O$23 -> 0.15492363 | M24: =M22/$O$23 -> 0.15492363 | N24: =N22/$O$23 -> 0
B25: Percentage Energy Input of Total Load | F25: =F24/F$16 -> 0.014091646 | G25: =G24/G$16 -> 0.034427473 | H25: =H24/H$16 -> 0.038730907 | I25: =I24/I$16 -> 0.025820605 | J25: =J24/J$16 -> 0.051641209 | K25: =K24/K$16 -> 0.17213736 | L25: =L24/L$16 -> 0.17604958 | M25: =M24/M$16 -> 0.18226309 | N25: =N24/N$16 -> 0
B26: Total Input as percentage of output | C26: ` | O26: =SUM(F25:N25) -> 0.69516187
B27: Overall Efficiency | O27: =1/O26 -> 1.4385139 | P27: Efficiency
B28: Percentage Input | F28: =F25/$O$26 -> 0.020271029 | G28: =G25/$O$26 -> 0.049524397 | H28: =H25/$O$26 -> 0.055714947 | I28: =I25/$O$26 -> 0.037143298 | J28: =J25/$O$26 -> 0.074286596 | K28: =K25/$O$26 -> 0.24762199 | L28: =L25/$O$26 -> 0.25324976 | M28: =M25/$O$26 -> 0.26218799 | N28: =N25/$O$26 -> 0
B29: Check = 100 | O29: =SUM(F28:N28) -> 1
B30: Carbon | F30: =F$17*F28 -> 0.010135514 | G30: =G$17*G28 -> 0.024762199 | H30: =H$17*H28 -> 0.027857474 | I30: =I$17*I28 -> 0.018571649 | J30: =J$17*J28 -> 0.037143298 | K30: =K$17*K28 -> 0.044571958 | L30: =L$17*L28 -> 0.045584957 | M30: =M$17*M28 -> 0.047193838 | N30: =N$17*N28 -> 0
B31: Carbon Average | O31: =SUM(F30:N30) -> 0.25582089 | P31: Kg CO2/kWh input
O32: =O31/O27 -> 0.17783693 | P32: Kg CO2/kWh LOAD
B33: Summer
B34: Energy Input | F34: =1/F$16 -> 0.2 | G34: =1/G$16 -> 0.22222222 | H34: =1/H$16 -> 0.25 | I34: =1/I$16 -> 0.33333333 | J34: =1/J$16 -> 0.66666667 | K34: =1/K$16 -> 1.1111111 | L34: =1/L$16 -> 1.1363636 | M34: =1/M$16 -> 1.1764706 | N34: =1/N$16 -> 1.25
B35: Degrees Input | F35: =IF(G$10>$C$7,MIN(G$10,$C$6)-(MAX(F$10,$C$7)),0) -> 10 | G35: =IF(H$10>$C$7,MIN(H$10,$C$6)-(MAX(G$10,$C$7)),0) -> 10 | H35: =IF(I$10>$C$7,MIN(I$10,$C$6)-(MAX(H$10,$C$7)),0) -> 10 | I35: =IF(J$10>$C$7,MIN(J$10,$C$6)-(MAX(I$10,$C$7)),0) -> 5 | J35: =IF(K$10>$C$7,MIN(K$10,$C$6)-(MAX(J$10,$C$7)),0) -> 5 | K35: =IF(L$10>$C$7,MIN(L$10,$C$6)-(MAX(K$10,$C$7)),0) -> 5 | L35: =IF(M$10>$C$7,MIN(M$10,$C$6)-(MAX(L$10,$C$7)),0) -> -5 | M35: =IF(N$10>$C$7,MIN(N$10,$C$6)-(MAX(M$10,$C$7)),0) -> -15 | N35: =IF(O$10>$C$7,MIN(O$10,$C$6)-(MAX(N$10,$C$7)),0) -> -25
B36: Degrees Input, check max | F36: =IF(F35>0,F35,0) -> 10 | G36: =IF(G35>0,G35,0) -> 10 | H36: =IF(H35>0,H35,0) -> 10 | I36: =IF(I35>0,I35,0) -> 5 | J36: =IF(J35>0,J35,0) -> 5 | K36: =IF(K35>0,K35,0) -> 5 | L36: =IF(L35>0,L35,0) -> 0 | M36: =IF(M35>0,M35,0) -> 0 | N36: =IF(N35>0,N35,0) -> 0
B37: Total | O37: =SUM(F36:N36) -> 45
B38: Percent of Load | F38: =F36/$O$37 -> 0.22222222 | G38: =G36/$O$37 -> 0.22222222 | H38: =H36/$O$37 -> 0.22222222 | I38: =I36/$O$37 -> 0.11111111 | J38: =J36/$O$37 -> 0.11111111 | K38: =K36/$O$37 -> 0.11111111 | L38: =L36/$O$37 -> 0 | M38: =M36/$O$37 -> 0 | N38: =N36/$O$37 -> 0
B39: Percentage Energy Input of Total Load | F39: =F38/F$16 -> 0.044444444 | G39: =G38/G$16 -> 0.049382716 | H39: =H38/H$16 -> 0.055555556 | I39: =I38/I$16 -> 0.037037037 | J39: =J38/J$16 -> 0.074074074 | K39: =K38/K$16 -> 0.12345679 | L39: =L38/L$16 -> 0 | M39: =M38/M$16 -> 0 | N39: =N38/N$16 -> 0
B40: Total Input as percentage of output | C40: ` | O40: =SUM(F39:N39) -> 0.38395062
B41: Overall Efficiency | O41: =1/O40 -> 2.6045016 | P41: Efficiency
B42: Percentage Input | F42: =F39/$O$40 -> 0.11575563 | G42: =G39/$O$40 -> 0.12861736 | H42: =H39/$O$40 -> 0.14469453 | I42: =I39/$O$40 -> 0.096463023 | J42: =J39/$O$40 -> 0.19292605 | K42: =K39/$O$40 -> 0.32154341 | L42: =L39/$O$40 -> 0 | M42: =M39/$O$40 -> 0 | N42: =N39/$O$40 -> 0
B43: Check = 100 | O43: =SUM(F42:N42) -> 1
B44: Carbon | F44: =F$17*F42 -> 0.057877814 | G44: =G$17*G42 -> 0.064308682 | H44: =H$17*H42 -> 0.072347267 | I44: =I$17*I42 -> 0.048231511 | J44: =J$17*J42 -> 0.096463023 | K44: =K$17*K42 -> 0.057877814 | L44: =L$17*L42 -> 0 | M44: =M$17*M42 -> 0 | N44: =N$17*N42 -> 0
B45: Carbon Average | O45: =SUM(F44:N44) -> 0.39710611 | P45: Kg CO2/kWh input
O46: =O45/O41 -> 0.15246914 | P46: Kg CO2/kWh LOAD
