Workbook
Name PeakDHW: 'Pipe Sizing'!$R$12

Sheet Notes
B3: Heat Network Sizing Tool for 480 Properties
N7: 09/0.2017
N9: This is a fully worked example for pipe sizing on a district heating network, feeding 480 properties split into 10 blocks of 48.
N11: This and other examples can be downoaded from our wiki site at:
N12: http://www.heatweb.co.uk/w/index.php?title=Pipework_Calculation_Examples
B27: Thermal Integration Ltd.
B28: 0845 2411441
B29: www.heatweb.com

Sheet Summary
B2: Heat Network Sizing Tool for 480 Properties
B5: Dwelling Peak DHW | C5: 45 | D5: Kw | G5: Peak DHW Load | H5: ='Pipe Sizing'!R12 -> 1000.6874 | I5: kW | J5: ='Pipe Sizing'!Y12 -> 3.4036985 | K5: l/s | L5: Cost of Pipework | M5: ='Pipe Sizing'!CJ47 -> 57916.8
B6: Dwelling Peak CH | C6: 3 | D6: Kw | G6: Peak CH Load | H6: ='Pipe Sizing'!V12 -> 1080 | I6: kW | J6: ='Pipe Sizing'!AA12 -> 4.2857143 | K6: l/s
B7: DP across load (HIU+meter) | C7: 55 | D7: kPa | G7: Peak Load | H7: ='Pipe Sizing'!AG12 -> 2028.9374 | I7: kW | J7: ='Pipe Sizing'!AH12 -> 7.4840557 | K7: l/s
B8: Peak Load Flow Temperature | C8: 90 | D8: C
B9: Summer Flow Temperature | C9: 65 | D9: C | G9: Peak Load Heat Loss | H9: ='Pipe Sizing'!BO47 -> 47.685553 | I9: kW | J9: =H9/H7 -> 0.023502723
B10: Return DHW | C10: 20 | D10: C
B11: Return CH | C11: 30 | D11: C | G11: Peak Pressure Drop | H11: ='Pipe Sizing'!AV47 -> 197.8336 | I11: kPa
B12: Occupants per property | C12: 3 | G12: Summer Peak Pressure Drop | H12: ='Pipe Sizing'!CE47 -> 226.11546 | I12: kPa
B13: Flush Rate (HIU function) | C13: 20 | D13: l/m
B14: Peak erosion velocity | C14: 1 | D14: m/s | G14: Peak Pressure Drop, Building | H14: ='Pipe Sizing'!AV50 -> 114.69706 | I14: kPa
B15: Fixed DHW/property/day | C15: 35 | D15: litres | E15: =HYPERLINK("https://www.gov.uk/government/uploads/system/uploads/attachment_data/file/48188/3147-measure-domestic-hot-water-consump.pdf","info") -> info | G15: Summer Peak Pressure Drop, Building | H15: ='Pipe Sizing'!CE50 -> 176.72932 | I15: kPa
B16: DHW/person/day | C16: 20 | D16: litres
B17: DHW Temp Rise (for above) | C17: 40 | D17: C | G17: Peak Velocity | H17: ='Pipe Sizing'!AZ48 -> 1.1531584 | I17: m/s
B18: Hours Central Heating per Year (peak/flat) | C18: 600 | D18: hours | G18: Peak Erosion Velocity | H18: ='Pipe Sizing'!BB47 -> 0.63041262 | I18: m/s | J18: =C14 -> 1 | K18: m/s max.
B19: Insulation Thickness, Flow | C19: 50 | D19: mm | G19: Minimum Velocity | H19: ='Pipe Sizing'!AZ47 -> 0.51724061 | I19: m/s | J19: 0.5 | K19: m/s min.
B20: Insulation Thickness, Return | C20: 30 | D20: mm
B21: Min Velocity Network (F/R) | C21: 0.5 | D21: 0.5 | E21: m/s | G21: DHW delay with cold laterals / hot riser | H21: ='Pipe Sizing'!BD25 -> 23.920066 | I21: seconds
B22: Min Velocity Buildings (F/R) | C22: 0.75 | D22: 0.5 | E22: m/s
B23: Heating Season | C23: 120 | D23: days
B24: HIU Standby Return Temperature | C24: 25 | D24: C | N24: Heat Pump / Gas Boiler Mix
B25: HIU Standby Flow Rate | C25: 0 | D25: l/hour | N25: Peak Load Efficiency | O25: ='Energy Generation'!O27 -> 1.4385139 | Q25: ='Energy Generation'!O32 -> 0.17783693 | R25: Kg CO2/kWh
B26: Hot Water Priority | C26: 1 | N26: Summer Efficiency | O26: ='Energy Generation'!O41 -> 2.6045016 | Q26: ='Energy Generation'!O46 -> 0.15246914 | R26: Kg CO2/kWh
B30: Thermal Integration Ltd.
B31: 0845 2411441
B32: www.heatweb.com

Sheet Pipe Sizing
C2: Example for index flat on 480 property scheme, with 10 risers, feeding 4 storey buildings | AR2: Columns W,X,Y for Herz Williams Pressure Loss Calculation
I6: Physical | N6: Loading | AK6: Pipe Selection | AO6: Pressure Loss | AX6: Volume | AZ6: Velocity | BE6: Thermal Losses | BX6: Summer Velocity Figures
B7: ID | C7: Description | D7: Class | E7: Properties | F7: Min | G7: Occupants | H7: Daily | I7: Length | J7: Elbow | K7: Elbow | L7: Tee | M7: Tee | N7: Count | O7: Total | P7: Danish | Q7: DHW | R7: DHW | S7: Min | T7: Est | U7: Htg | V7: Htg | W7: DHW | X7: Htg | Y7: DHW | Z7: Peak % | AA7: Htg | AB7: Htg | AC7: Htg % | AD7: Htg % | AE7: Peak Trickle Flow | AF7: Summer Trickle Flow | AG7: Total | AH7: Total | AI7: Pipe Area | AJ7: Pipe Bore | AK7: Pipe Bore | AL7: Pipe Size | AM7: Material | AN7: Roughness | AO7: f = friction (mm H20 per 100 m pipe) | AP7: f = friction (kPa per 100 m pipe) | AQ7: Head loss (mm H20) | AR7: kPa | AS7: Pa/m | AT7: Equiv | AU7: kPa | AV7: kPa | AW7: kPa | AX7: Area | AY7: Volume | AZ7: Peak | BA7: Continuous | BB7: Weighed | BC7: Flush | BD7: Accumulative | BE7: Thermal | BF7: Ambient Temperature | BG7: Peak Load Pipe Temp | BH7: Summer Peak Load Pipe Temp | BI7: Standby | BJ7: Peak | BK7: Summer Peak Losses | BL7: Standby | BM7: Decay Time to 50C | BN7: Standby Losses | BO7: Peak | BP7: Summer Peak Losses | BQ7: % Time Standby Temp | BR7: % Time Peak Temp | BS7: % Time Summer Peak Temp | BT7: Average Losses | BU7: Average | BV7: Losses per metre | BW7: % Share | BX7: DHW | BY7: f = friction (mm H20 per 100 m pipe) | BZ7: f = friction (kPa per 100 m pipe) | CA7: Head loss (mm H20) | CB7: kPa | CC7: Pa/m | CD7: kPa | CE7: kPa | CF7: Peak | CG7: Continuous | CH7: Weighed | CI7: Tube | CJ7: Tube
F8: Target | H8: DHW | I8: m | J8: 90° | K8: 45° | L8: Line | M8: Branch | O8: Length | P8: DHW | Q8: Diversity | R8: kW | S8: HIUs | T8: Taps | U8: Diversity | V8: kw | W8: Priority | X8: kw | Y8: litre/s | Z8: time at | AA8: litre/s | AB8: litre/s | AC8: of Peak | AD8: of Daily | AF8: litres/s | AG8: Peak | AH8: Peak | AI8: mm2 | AJ8: Calculated | AK8: Selected | AR8: pipes | AT8: Length | AU8: fittings | AV8: TOTAL | AW8: Share | AY8: litres | AZ8: Velocity | BA8: Velocity | BB8: Erosion | BC8: time | BD8: Flush time | BE8: Rating | BI8: Temp | BJ8: Losses | BL8: Losses | BO8: Losses | BU8: Losses | BW8: Losses | BX8: litres/s | CB8: pipes | CD8: fittings | CE8: TOTAL | CF8: Velocity | CG8: Velocity | CH8: Erosion | CI8: Cost | CJ8: Cost
F9: Velocity | H9: kWh | P9: DS439 | S9: Running | T9: Running | W9: Saving | X9: NET | Z9: Peak | AA9: peak | AB9: minus | AC9: Flow | AD9: kWh | AG9: kW | AH9: litre/s | AK9: mm | AL9: mm | AT9: fittings | AZ9: m/s | BA9: m/s | BB9: Velocity | BC9: seconds | BD9: seconds | BE9: W/m/K | BF9: C | BI9: C | BJ9: kW | BK9: kW | BL9: kW | BM9: hours | BO9: kW | BP9: kW | BT9: kW | BU9: kW | BV9: W/m | BX9: Summer | CF9: m/s | CG9: m/s | CH9: Velocity | CI9: £/m | CJ9: £
F10: m/s | P10: kW | W10: kW | AB10: priority | BB10: m/s | BG10: C | BH10: C | BN10: TOTAL | BO10: TOTAL | BP10: TOTAL | BU10: TOTAL | CH10: m/s
AY11: =SUM(AY12:AY28) -> 2232.5246
B12: 1F | C12: Run to 1st riser | D12: Flow | E12: =E13+48 -> 480 | F12: =Summary!$C$21 -> 0.5 | G12: =$D$55*E12 -> 1440 | H12: =(((E12*$D$59)+($D$60*G12))*4200*$D$61)/(1000*60*60) -> 2128 | I12: 100 | J12: 4 | L12: 1 | N12: 1 | O12: =N12*I12 -> 100 | P12: =(1.19*E12) + (18.8*POWER(E12,0.5)) + 17.6 -> 1000.6874 | Q12: =P12/($R$29*E12) -> 0.046328119 | R12: =Q12*$R$29*E12 -> 1000.6874 | S12: 23 | T12: =R12/$D$64 -> 83.390614 | U12: 0.75 | V12: =U12*$D$49*E12 -> 1080 | W12: =$D$65*U12*S12*$D$49 -> 51.75 | X12: =V12-W12 -> 1028.25 | Y12: =R12*1000/(4200*($D$51-$D$53)) -> 3.4036985 | Z12: =((H12/R12))/24 -> 0.088605762 | AA12: =V12*1000/(4200*($D$51-$D$54)) -> 4.2857143 | AB12: =X12*1000/(4200*($D$51-$D$54)) -> 4.0803571 | AC12: =AB12/AH12 -> 0.54520668 | AD12: =(24*X12)/((24*X12)+H12) -> 0.92061479 | AE12: =(E12*(1-U12))*($D$63/3600) -> 0 | AF12: =(E12-S12)*($D$63/3600) -> 0 | AG12: =X12+R12 -> 2028.9374 | AH12: =AB12+Y12+AE12 -> 7.4840557 | AI12: =AH12*1000000/(F12*1000) -> 14968.111 | AJ12: =2*SQRT(AI12/3.14159) -> 138.05074 | AK12: =LOOKUP($AJ12,Pipes!$D$4:$D$16,Pipes!$D$4:$D$16) -> 97 | AL12: =LOOKUP($AK12,Pipes!$D$4:$D$16,Pipes!$B$4:$B$16) -> 100 | AM12: =LOOKUP($AK12,Pipes!$D$4:$D$16,Pipes!$E$4:$E$16) -> Steel | AN12: =LOOKUP($AK12,Pipes!$D$4:$D$16,Pipes!$F$4:$F$16) -> 140 | AO12: =POWER(100/AN12,1.852)*POWER(AH12*15.852,1.852)/POWER($AK12*0.03937,4.8655)*0.2083*304.8*3.28 -> 1142.8551 | AP12: =+AO12*9.81/1000 -> 11.211409 | AQ12: =+AO12*I12/100 -> 1142.8551 | AR12: =+AQ12*9.81/1000 -> 11.211409 | AS12: =AR12*1000/$I12 -> 112.11409 | AT12: =($D$78*J12*AK12/1000)+($D$80*K12*AK12/1000)+($D$76*L12*AK12/1000)+($D$77*M12*AK12/1000) -> 13.58 | AU12: =$AT12*AS12/1000 -> 1.5225093 | AV12: =AU12+AR12 -> 12.733918 | AW12: =AV12/$AV$47 -> 0.064366813 | AX12: =POWER((AK12/2),2)*3.14159 -> 7389.8051 | AY12: =I12*AX12/1000 -> 738.98051 | AZ12: =$AH12*1000/$AX12 -> 1.0127541 | BA12: =AA12*1000/AX12 -> 0.57994957 | BB12: =SQRT(($Z12*$AZ12*$AZ12)+((1-$Z12) * $BA12*$BA12)) -> 0.63041262 | BC12: =60*AY12/$D$56 -> 2216.9415 | BD12: =BD13+BC12 -> 6697.5739 | BE12: =LOOKUP($AK12,Pipes!$D$4:$D$16,Pipes!$N$4:$N$16) -> 0.30819908 | BF12: 12 | BG12: =$D$51 -> 90 | BH12: =$D$52 -> 65 | BI12: =$D$52 -> 65 | BJ12: =BE12*I12*(BG12-BF12)/1000 -> 2.4039528 | BK12: =BE12*I12*(BH12-BF12)/1000 -> 1.6334551 | BL12: =BE12*I12*(BI12-BF12)/1000 -> 1.6334551 | BM12: =AY12*4200*($D$51-50)/(BJ12*1000*60*60) -> 14.345438 | BN12: =BL12*$N12 -> 1.6334551 | BO12: =BJ12*$N12 -> 2.4039528 | BP12: =BK12*$N12 -> 1.6334551 | BQ12: 0 | BR12: =(1-BQ12) * ($D$58/365) -> 0.32876712 | BS12: =(1-BQ12) * (1- ($D$58/365)) -> 0.67123288 | BT12: =(BQ12*BL12)+(BR12*BJ12)+(BS12*BK12) -> 1.8867694 | BU12: =BT12*N12 -> 1.8867694 | BV12: =1000*BT12/I12 -> 18.867694 | BW12: =BU12/$BU$47 -> 0.065402554 | BX12: =R12*1000/(4200*($D$52-$D$53)) -> 5.2946421 | BY12: =POWER(100/AN12,1.852)*POWER(BX12*15.852,1.852)/POWER($AK12*0.03937,4.8655)*0.2083*304.8*3.28 -> 602.05317 | BZ12: =+BY12*9.81/1000 -> 5.9061416 | CA12: =+BY12*$I12/100 -> 602.05317 | CB12: =+CA12*9.81/1000 -> 5.9061416 | CC12: =CB12*1000/$I12 -> 59.061416 | CD12: =$AT12*CC12/1000 -> 0.80205403 | CE12: =CD12+CB12 -> 6.7081956 | CF12: =$Y12*1000/$AX12 -> 0.46059382 | CG12: 0 | CH12: =SQRT(($Z12*$CF12*$CF12)+((1-$Z12) * $CG12*$CG12)) -> 0.13710367 | CI12: =LOOKUP($AK12,Pipes!$D$4:$D$16,Pipes!$I$4:$I$16) -> 33.333333 | CJ12: =CI12*O12 -> 3333.3333
B13: 2F | C13: Run to 2nd Riser | D13: Flow | E13: =E14+48 -> 432 | F13: =Summary!$C$21 -> 0.5 | G13: =$D$55*E13 -> 1296 | H13: =(((E13*$D$59)+($D$60*G13))*4200*$D$61)/(1000*60*60) -> 1915.2 | I13: 30 | K13: 2 | L13: 1 | N13: 1 | O13: =N13*I13 -> 30 | P13: =(1.19*E13) + (18.8*POWER(E13,0.5)) + 17.6 -> 922.43066 | Q13: =P13/($R$29*E13) -> 0.047450137 | R13: =Q13*$R$29*E13 -> 922.43066 | S13: 21 | T13: =R13/$D$64 -> 76.869222 | U13: 0.8 | V13: =U13*$D$49*E13 -> 1036.8 | W13: =$D$65*U13*S13*$D$49 -> 50.4 | X13: =V13-W13 -> 986.4 | Y13: =R13*1000/(4200*($D$51-$D$53)) -> 3.1375193 | Z13: =((H13/R13))/24 -> 0.086510567 | AA13: =V13*1000/(4200*($D$51-$D$54)) -> 4.1142857 | AB13: =X13*1000/(4200*($D$51-$D$54)) -> 3.9142857 | AC13: =AB13/AH13 -> 0.55507572 | AD13: =(24*X13)/((24*X13)+H13) -> 0.92515476 | AE13: =(E13*(1-U13))*($D$63/3600) -> 0 | AF13: =(E13-S13)*($D$63/3600) -> 0 | AG13: =X13+R13 -> 1908.8307 | AH13: =AB13+Y13+AE13 -> 7.051805 | AI13: =AH13*1000000/(F13*1000) -> 14103.61 | AJ13: =2*SQRT(AI13/3.14159) -> 134.00481 | AK13: =LOOKUP($AJ13,Pipes!$D$4:$D$16,Pipes!$D$4:$D$16) -> 97 | AL13: =LOOKUP(AK13,Pipes!$D$4:$D$16,Pipes!$B$4:$B$16) -> 100 | AM13: =LOOKUP($AK13,Pipes!$D$4:$D$16,Pipes!$E$4:$E$16) -> Steel | AN13: =LOOKUP($AK13,Pipes!$D$4:$D$16,Pipes!$F$4:$F$16) -> 140 | AO13: =POWER(100/AN13,1.852)*POWER(AH13*15.852,1.852)/POWER($AK13*0.03937,4.8655)*0.2083*304.8*3.28 -> 1023.6266 | AP13: =+AO13*9.81/1000 -> 10.041777 | AQ13: =+AO13*I13/100 -> 307.08799 | AR13: =+AQ13*9.81/1000 -> 3.0125332 | AS13: =AR13*1000/$I13 -> 100.41777 | AT13: =($D$78*J13*AK13/1000)+($D$80*K13*AK13/1000)+($D$76*L13*AK13/1000)+($D$77*M13*AK13/1000) -> 5.044 | AU13: =$AT13*AS13/1000 -> 0.50650725 | AV13: =AU13+AR13 -> 3.5190405 | AW13: =AV13/$AV$47 -> 0.017787881 | AX13: =POWER((AK13/2),2)*3.14159 -> 7389.8051 | AY13: =I13*AX13/1000 -> 221.69415 | AZ13: =AH13*1000/$AX13 -> 0.9542613 | BA13: =AA13*1000/AX13 -> 0.55675159 | BB13: =SQRT(($Z13*$AZ13*$AZ13)+((1-$Z13) * $BA13*$BA13)) -> 0.6016097 | BC13: =60*AY13/$D$56 -> 665.08246 | BD13: =BD14+BC13 -> 4480.6324 | BE13: =LOOKUP($AK13,Pipes!$D$4:$D$16,Pipes!$N$4:$N$16) -> 0.30819908 | BF13: 12 | BG13: =$D$51 -> 90 | BH13: =$D$52 -> 65 | BI13: =$D$52 -> 65 | BJ13: =BE13*I13*(BG13-BF13)/1000 -> 0.72118585 | BK13: =BE13*I13*(BH13-BF13)/1000 -> 0.49003654 | BL13: =BE13*I13*(BI13-BF13)/1000 -> 0.49003654 | BM13: =AY13*4200*($D$51-50)/(BJ13*1000*60*60) -> 14.345438 | BN13: =BL13*$N13 -> 0.49003654 | BO13: =BJ13*$N13 -> 0.72118585 | BP13: =BK13*$N13 -> 0.49003654 | BQ13: 0 | BR13: =(1-BQ13) * ($D$58/365) -> 0.32876712 | BS13: =(1-BQ13) * (1- ($D$58/365)) -> 0.67123288 | BT13: =(BQ13*BL13)+(BR13*BJ13)+(BS13*BK13) -> 0.56603083 | BU13: =BT13*N13 -> 0.56603083 | BV13: =1000*BT13/I13 -> 18.867694 | BW13: =BU13/$BU$47 -> 0.019620766 | BX13: =R13*1000/(4200*($D$52-$D$53)) -> 4.8805855 | BY13: =POWER(100/AN13,1.852)*POWER(BX13*15.852,1.852)/POWER($AK13*0.03937,4.8655)*0.2083*304.8*3.28 -> 517.77306 | BZ13: =+BY13*9.81/1000 -> 5.0793537 | CA13: =+BY13*$I13/100 -> 155.33192 | CB13: =+CA13*9.81/1000 -> 1.5238061 | CC13: =CB13*1000/$I13 -> 50.793537 | CD13: =$AT13*CC13/1000 -> 0.2562026 | CE13: =CD13+CB13 -> 1.7800087 | CF13: =$Y13*1000/$AX13 -> 0.42457402 | CG13: 0 | CH13: =SQRT(($Z13*$CF13*$CF13)+((1-$Z13) * $CG13*$CG13)) -> 0.12487859 | CI13: =LOOKUP($AK13,Pipes!$D$4:$D$16,Pipes!$I$4:$I$16) -> 33.333333 | CJ13: =CI13*O13 -> 1000
B14: 3F | C14: Run to 3rd Riser | D14: Flow | E14: =E15+48 -> 384 | F14: =Summary!$C$21 -> 0.5 | G14: =$D$55*E14 -> 1152 | H14: =(((E14*$D$59)+($D$60*G14))*4200*$D$61)/(1000*60*60) -> 1702.4 | I14: 30 | K14: 2 | L14: 1 | N14: 1 | O14: =N14*I14 -> 30 | P14: =(1.19*E14) + (18.8*POWER(E14,0.5)) + 17.6 -> 842.96326 | Q14: =P14/($R$29*E14) -> 0.048782596 | R14: =Q14*$R$29*E14 -> 842.96326 | S14: 19 | T14: =R14/$D$64 -> 70.246938 | U14: 0.8 | V14: =U14*$D$49*E14 -> 921.6 | W14: =$D$65*U14*S14*$D$49 -> 45.6 | X14: =V14-W14 -> 876 | Y14: =R14*1000/(4200*($D$51-$D$53)) -> 2.867222 | Z14: =((H14/R14))/24 -> 0.084147598 | AA14: =V14*1000/(4200*($D$51-$D$54)) -> 3.6571429 | AB14: =X14*1000/(4200*($D$51-$D$54)) -> 3.4761905 | AC14: =AB14/AH14 -> 0.54800007 | AD14: =(24*X14)/((24*X14)+H14) -> 0.92509152 | AE14: =(E14*(1-U14))*($D$63/3600) -> 0 | AF14: =(E14-S14)*($D$63/3600) -> 0 | AG14: =X14+R14 -> 1718.9633 | AH14: =AB14+Y14+AE14 -> 6.3434124 | AI14: =AH14*1000000/(F14*1000) -> 12686.825 | AJ14: =2*SQRT(AI14/3.14159) -> 127.09595 | AK14: =LOOKUP($AJ14,Pipes!$D$4:$D$16,Pipes!$D$4:$D$16) -> 97 | AL14: =LOOKUP(AK14,Pipes!$D$4:$D$16,Pipes!$B$4:$B$16) -> 100 | AM14: =LOOKUP($AK14,Pipes!$D$4:$D$16,Pipes!$E$4:$E$16) -> Steel | AN14: =LOOKUP($AK14,Pipes!$D$4:$D$16,Pipes!$F$4:$F$16) -> 140 | AO14: =POWER(100/AN14,1.852)*POWER(AH14*15.852,1.852)/POWER($AK14*0.03937,4.8655)*0.2083*304.8*3.28 -> 841.37876 | AP14: =+AO14*9.81/1000 -> 8.2539256 | AQ14: =+AO14*I14/100 -> 252.41363 | AR14: =+AQ14*9.81/1000 -> 2.4761777 | AS14: =AR14*1000/$I14 -> 82.539256 | AT14: =($D$78*J14*AK14/1000)+($D$80*K14*AK14/1000)+($D$76*L14*AK14/1000)+($D$77*M14*AK14/1000) -> 5.044 | AU14: =$AT14*AS14/1000 -> 0.41632801 | AV14: =AU14+AR14 -> 2.8925057 | AW14: =AV14/$AV$47 -> 0.014620902 | AX14: =POWER((AK14/2),2)*3.14159 -> 7389.8051 | AY14: =I14*AX14/1000 -> 221.69415 | AZ14: =AH14*1000/$AX14 -> 0.85840051 | BA14: =AA14*1000/AX14 -> 0.4948903 | BB14: =SQRT(($Z14*$AZ14*$AZ14)+((1-$Z14) * $BA14*$BA14)) -> 0.53508089 | BC14: =60*AY14/$D$56 -> 665.08246 | BD14: =BD15+BC14 -> 3815.5499 | BE14: =LOOKUP($AK14,Pipes!$D$4:$D$16,Pipes!$N$4:$N$16) -> 0.30819908 | BF14: 12 | BG14: =$D$51 -> 90 | BH14: =$D$52 -> 65 | BI14: =$D$52 -> 65 | BJ14: =BE14*I14*(BG14-BF14)/1000 -> 0.72118585 | BK14: =BE14*I14*(BH14-BF14)/1000 -> 0.49003654 | BL14: =BE14*I14*(BI14-BF14)/1000 -> 0.49003654 | BM14: =AY14*4200*($D$51-50)/(BJ14*1000*60*60) -> 14.345438 | BN14: =BL14*$N14 -> 0.49003654 | BO14: =BJ14*$N14 -> 0.72118585 | BP14: =BK14*$N14 -> 0.49003654 | BQ14: 0 | BR14: =(1-BQ14) * ($D$58/365) -> 0.32876712 | BS14: =(1-BQ14) * (1- ($D$58/365)) -> 0.67123288 | BT14: =(BQ14*BL14)+(BR14*BJ14)+(BS14*BK14) -> 0.56603083 | BU14: =BT14*N14 -> 0.56603083 | BV14: =1000*BT14/I14 -> 18.867694 | BW14: =BU14/$BU$47 -> 0.019620766 | BX14: =R14*1000/(4200*($D$52-$D$53)) -> 4.4601231 | BY14: =POWER(100/AN14,1.852)*POWER(BX14*15.852,1.852)/POWER($AK14*0.03937,4.8655)*0.2083*304.8*3.28 -> 438.20748 | BZ14: =+BY14*9.81/1000 -> 4.2988154 | CA14: =+BY14*$I14/100 -> 131.46225 | CB14: =+CA14*9.81/1000 -> 1.2896446 | CC14: =CB14*1000/$I14 -> 42.988154 | CD14: =$AT14*CC14/1000 -> 0.21683225 | CE14: =CD14+CB14 -> 1.5064769 | CF14: =$Y14*1000/$AX14 -> 0.38799697 | CG14: 0 | CH14: =SQRT(($Z14*$CF14*$CF14)+((1-$Z14) * $CG14*$CG14)) -> 0.11255096 | CI14: =LOOKUP($AK14,Pipes!$D$4:$D$16,Pipes!$I$4:$I$16) -> 33.333333 | CJ14: =CI14*O14 -> 1000
B15: 4F | C15: Run to 4th Riser | D15: Flow | E15: =E16+48 -> 336 | F15: =Summary!$C$21 -> 0.5 | G15: =$D$55*E15 -> 1008 | H15: =(((E15*$D$59)+($D$60*G15))*4200*$D$61)/(1000*60*60) -> 1489.6 | I15: 30 | K15: 2 | L15: 1 | N15: 1 | O15: =N15*I15 -> 30 | P15: =(1.19*E15) + (18.8*POWER(E15,0.5)) + 17.6 -> 762.04969 | Q15: =P15/($R$29*E15) -> 0.050400112 | R15: =Q15*$R$29*E15 -> 762.04969 | S15: 17 | T15: =R15/$D$64 -> 63.504141 | U15: 0.8 | V15: =U15*$D$49*E15 -> 806.4 | W15: =$D$65*U15*S15*$D$49 -> 40.8 | X15: =V15-W15 -> 765.6 | Y15: =R15*1000/(4200*($D$51-$D$53)) -> 2.5920058 | Z15: =((H15/R15))/24 -> 0.081447007 | AA15: =V15*1000/(4200*($D$51-$D$54)) -> 3.2 | AB15: =X15*1000/(4200*($D$51-$D$54)) -> 3.0380952 | AC15: =AB15/AH15 -> 0.53961647 | AD15: =(24*X15)/((24*X15)+H15) -> 0.92501007 | AE15: =(E15*(1-U15))*($D$63/3600) -> 0 | AF15: =(E15-S15)*($D$63/3600) -> 0 | AG15: =X15+R15 -> 1527.6497 | AH15: =AB15+Y15+AE15 -> 5.630101 | AI15: =AH15*1000000/(F15*1000) -> 11260.202 | AJ15: =2*SQRT(AI15/3.14159) -> 119.73699 | AK15: =LOOKUP($AJ15,Pipes!$D$4:$D$16,Pipes!$D$4:$D$16) -> 97 | AL15: =LOOKUP(AK15,Pipes!$D$4:$D$16,Pipes!$B$4:$B$16) -> 100 | AM15: =LOOKUP($AK15,Pipes!$D$4:$D$16,Pipes!$E$4:$E$16) -> Steel | AN15: =LOOKUP($AK15,Pipes!$D$4:$D$16,Pipes!$F$4:$F$16) -> 140 | AO15: =POWER(100/AN15,1.852)*POWER(AH15*15.852,1.852)/POWER($AK15*0.03937,4.8655)*0.2083*304.8*3.28 -> 674.59857 | AP15: =+AO15*9.81/1000 -> 6.617812 | AQ15: =+AO15*I15/100 -> 202.37957 | AR15: =+AQ15*9.81/1000 -> 1.9853436 | AS15: =AR15*1000/$I15 -> 66.17812 | AT15: =($D$78*J15*AK15/1000)+($D$80*K15*AK15/1000)+($D$76*L15*AK15/1000)+($D$77*M15*AK15/1000) -> 5.044 | AU15: =$AT15*AS15/1000 -> 0.33380244 | AV15: =AU15+AR15 -> 2.319146 | AW15: =AV15/$AV$47 -> 0.011722711 | AX15: =POWER((AK15/2),2)*3.14159 -> 7389.8051 | AY15: =I15*AX15/1000 -> 221.69415 | AZ15: =AH15*1000/$AX15 -> 0.76187409 | BA15: =AA15*1000/AX15 -> 0.43302901 | BB15: =SQRT(($Z15*$AZ15*$AZ15)+((1-$Z15) * $BA15*$BA15)) -> 0.46852721 | BC15: =60*AY15/$D$56 -> 665.08246 | BD15: =BD16+BC15 -> 3150.4674 | BE15: =LOOKUP($AK15,Pipes!$D$4:$D$16,Pipes!$N$4:$N$16) -> 0.30819908 | BF15: 12 | BG15: =$D$51 -> 90 | BH15: =$D$52 -> 65 | BI15: =$D$52 -> 65 | BJ15: =BE15*I15*(BG15-BF15)/1000 -> 0.72118585 | BK15: =BE15*I15*(BH15-BF15)/1000 -> 0.49003654 | BL15: =BE15*I15*(BI15-BF15)/1000 -> 0.49003654 | BM15: =AY15*4200*($D$51-50)/(BJ15*1000*60*60) -> 14.345438 | BN15: =BL15*$N15 -> 0.49003654 | BO15: =BJ15*$N15 -> 0.72118585 | BP15: =BK15*$N15 -> 0.49003654 | BQ15: 0 | BR15: =(1-BQ15) * ($D$58/365) -> 0.32876712 | BS15: =(1-BQ15) * (1- ($D$58/365)) -> 0.67123288 | BT15: =(BQ15*BL15)+(BR15*BJ15)+(BS15*BK15) -> 0.56603083 | BU15: =BT15*N15 -> 0.56603083 | BV15: =1000*BT15/I15 -> 18.867694 | BW15: =BU15/$BU$47 -> 0.019620766 | BX15: =R15*1000/(4200*($D$52-$D$53)) -> 4.032009 | BY15: =POWER(100/AN15,1.852)*POWER(BX15*15.852,1.852)/POWER($AK15*0.03937,4.8655)*0.2083*304.8*3.28 -> 363.50906 | BZ15: =+BY15*9.81/1000 -> 3.5660239 | CA15: =+BY15*$I15/100 -> 109.05272 | CB15: =+CA15*9.81/1000 -> 1.0698072 | CC15: =CB15*1000/$I15 -> 35.660239 | CD15: =$AT15*CC15/1000 -> 0.17987024 | CE15: =CD15+CB15 -> 1.2496774 | CF15: =$Y15*1000/$AX15 -> 0.35075428 | CG15: 0 | CH15: =SQRT(($Z15*$CF15*$CF15)+((1-$Z15) * $CG15*$CG15)) -> 0.10010149 | CI15: =LOOKUP($AK15,Pipes!$D$4:$D$16,Pipes!$I$4:$I$16) -> 33.333333 | CJ15: =CI15*O15 -> 1000
B16: 5F | C16: Run to 5th Riser | D16: Flow | E16: =E17+48 -> 288 | F16: =Summary!$C$21 -> 0.5 | G16: =$D$55*E16 -> 864 | H16: =(((E16*$D$59)+($D$60*G16))*4200*$D$61)/(1000*60*60) -> 1276.8 | I16: 30 | K16: 2 | L16: 1 | N16: 1 | O16: =N16*I16 -> 30 | P16: =(1.19*E16) + (18.8*POWER(E16,0.5)) + 17.6 -> 679.36658 | Q16: =P16/($R$29*E16) -> 0.052420261 | R16: =Q16*$R$29*E16 -> 679.36658 | S16: 16 | T16: =R16/$D$64 -> 56.613882 | U16: 0.85 | V16: =U16*$D$49*E16 -> 734.4 | W16: =$D$65*U16*S16*$D$49 -> 40.8 | X16: =V16-W16 -> 693.6 | Y16: =R16*1000/(4200*($D$51-$D$53)) -> 2.3107707 | Z16: =((H16/R16))/24 -> 0.078308238 | AA16: =V16*1000/(4200*($D$51-$D$54)) -> 2.9142857 | AB16: =X16*1000/(4200*($D$51-$D$54)) -> 2.752381 | AC16: =AB16/AH16 -> 0.54361022 | AD16: =(24*X16)/((24*X16)+H16) -> 0.92876272 | AE16: =(E16*(1-U16))*($D$63/3600) -> 0 | AF16: =(E16-S16)*($D$63/3600) -> 0 | AG16: =X16+R16 -> 1372.9666 | AH16: =AB16+Y16+AE16 -> 5.0631516 | AI16: =AH16*1000000/(F16*1000) -> 10126.303 | AJ16: =2*SQRT(AI16/3.14159) -> 113.54832 | AK16: =LOOKUP($AJ16,Pipes!$D$4:$D$16,Pipes!$D$4:$D$16) -> 97 | AL16: =LOOKUP(AK16,Pipes!$D$4:$D$16,Pipes!$B$4:$B$16) -> 100 | AM16: =LOOKUP($AK16,Pipes!$D$4:$D$16,Pipes!$E$4:$E$16) -> Steel | AN16: =LOOKUP($AK16,Pipes!$D$4:$D$16,Pipes!$F$4:$F$16) -> 140 | AO16: =POWER(100/AN16,1.852)*POWER(AH16*15.852,1.852)/POWER($AK16*0.03937,4.8655)*0.2083*304.8*3.28 -> 554.21339 | AP16: =+AO16*9.81/1000 -> 5.4368333 | AQ16: =+AO16*I16/100 -> 166.26402 | AR16: =+AQ16*9.81/1000 -> 1.63105 | AS16: =AR16*1000/$I16 -> 54.368333 | AT16: =($D$78*J16*AK16/1000)+($D$80*K16*AK16/1000)+($D$76*L16*AK16/1000)+($D$77*M16*AK16/1000) -> 5.044 | AU16: =$AT16*AS16/1000 -> 0.27423387 | AV16: =AU16+AR16 -> 1.9052839 | AW16: =AV16/$AV$47 -> 0.0096307397 | AX16: =POWER((AK16/2),2)*3.14159 -> 7389.8051 | AY16: =I16*AX16/1000 -> 221.69415 | AZ16: =AH16*1000/$AX16 -> 0.68515361 | BA16: =AA16*1000/AX16 -> 0.39436571 | BB16: =SQRT(($Z16*$AZ16*$AZ16)+((1-$Z16) * $BA16*$BA16)) -> 0.42438914 | BC16: =60*AY16/$D$56 -> 665.08246 | BD16: =BD17+BC16 -> 2485.385 | BE16: =LOOKUP($AK16,Pipes!$D$4:$D$16,Pipes!$N$4:$N$16) -> 0.30819908 | BF16: 12 | BG16: =$D$51 -> 90 | BH16: =$D$52 -> 65 | BI16: =$D$52 -> 65 | BJ16: =BE16*I16*(BG16-BF16)/1000 -> 0.72118585 | BK16: =BE16*I16*(BH16-BF16)/1000 -> 0.49003654 | BL16: =BE16*I16*(BI16-BF16)/1000 -> 0.49003654 | BM16: =AY16*4200*($D$51-50)/(BJ16*1000*60*60) -> 14.345438 | BN16: =BL16*$N16 -> 0.49003654 | BO16: =BJ16*$N16 -> 0.72118585 | BP16: =BK16*$N16 -> 0.49003654 | BQ16: 0 | BR16: =(1-BQ16) * ($D$58/365) -> 0.32876712 | BS16: =(1-BQ16) * (1- ($D$58/365)) -> 0.67123288 | BT16: =(BQ16*BL16)+(BR16*BJ16)+(BS16*BK16) -> 0.56603083 | BU16: =BT16*N16 -> 0.56603083 | BV16: =1000*BT16/I16 -> 18.867694 | BW16: =BU16/$BU$47 -> 0.019620766 | BX16: =R16*1000/(4200*($D$52-$D$53)) -> 3.5945322 | BY16: =POWER(100/AN16,1.852)*POWER(BX16*15.852,1.852)/POWER($AK16*0.03937,4.8655)*0.2083*304.8*3.28 -> 293.85908 | BZ16: =+BY16*9.81/1000 -> 2.8827576 | CA16: =+BY16*$I16/100 -> 88.157725 | CB16: =+CA16*9.81/1000 -> 0.86482728 | CC16: =CB16*1000/$I16 -> 28.827576 | CD16: =$AT16*CC16/1000 -> 0.14540629 | CE16: =CD16+CB16 -> 1.0102336 | CF16: =$Y16*1000/$AX16 -> 0.31269711 | CG16: 0 | CH16: =SQRT(($Z16*$CF16*$CF16)+((1-$Z16) * $CG16*$CG16)) -> 0.087503937 | CI16: =LOOKUP($AK16,Pipes!$D$4:$D$16,Pipes!$I$4:$I$16) -> 33.333333 | CJ16: =CI16*O16 -> 1000
B17: 6F | C17: Run to 6th Riser | D17: Flow | E17: =E18+48 -> 240 | F17: =Summary!$C$21 -> 0.5 | G17: =$D$55*E17 -> 720 | H17: =(((E17*$D$59)+($D$60*G17))*4200*$D$61)/(1000*60*60) -> 1064 | I17: 30 | K17: 2 | L17: 1 | N17: 1 | O17: =N17*I17 -> 30 | P17: =(1.19*E17) + (18.8*POWER(E17,0.5)) + 17.6 -> 594.44835 | Q17: =P17/($R$29*E17) -> 0.055041514 | R17: =Q17*$R$29*E17 -> 594.44835 | S17: 14 | T17: =R17/$D$64 -> 49.537362 | U17: 0.85 | V17: =U17*$D$49*E17 -> 612 | W17: =$D$65*U17*S17*$D$49 -> 35.7 | X17: =V17-W17 -> 576.3 | Y17: =R17*1000/(4200*($D$51-$D$53)) -> 2.0219332 | Z17: =((H17/R17))/24 -> 0.07457895 | AA17: =V17*1000/(4200*($D$51-$D$54)) -> 2.4285714 | AB17: =X17*1000/(4200*($D$51-$D$54)) -> 2.2869048 | AC17: =AB17/AH17 -> 0.53074746 | AD17: =(24*X17)/((24*X17)+H17) -> 0.92856759 | AE17: =(E17*(1-U17))*($D$63/3600) -> 0 | AF17: =(E17-S17)*($D$63/3600) -> 0 | AG17: =X17+R17 -> 1170.7483 | AH17: =AB17+Y17+AE17 -> 4.3088379 | AI17: =AH17*1000000/(F17*1000) -> 8617.6758 | AJ17: =2*SQRT(AI17/3.14159) -> 104.7491 | AK17: =LOOKUP($AJ17,Pipes!$D$4:$D$16,Pipes!$D$4:$D$16) -> 97 | AL17: =LOOKUP(AK17,Pipes!$D$4:$D$16,Pipes!$B$4:$B$16) -> 100 | AM17: =LOOKUP($AK17,Pipes!$D$4:$D$16,Pipes!$E$4:$E$16) -> Steel | AN17: =LOOKUP($AK17,Pipes!$D$4:$D$16,Pipes!$F$4:$F$16) -> 140 | AO17: =POWER(100/AN17,1.852)*POWER(AH17*15.852,1.852)/POWER($AK17*0.03937,4.8655)*0.2083*304.8*3.28 -> 411.07821 | AP17: =+AO17*9.81/1000 -> 4.0326772 | AQ17: =+AO17*I17/100 -> 123.32346 | AR17: =+AQ17*9.81/1000 -> 1.2098032 | AS17: =AR17*1000/$I17 -> 40.326772 | AT17: =($D$78*J17*AK17/1000)+($D$80*K17*AK17/1000)+($D$76*L17*AK17/1000)+($D$77*M17*AK17/1000) -> 5.044 | AU17: =$AT17*AS17/1000 -> 0.20340824 | AV17: =AU17+AR17 -> 1.4132114 | AW17: =AV17/$AV$47 -> 0.0071434348 | AX17: =POWER((AK17/2),2)*3.14159 -> 7389.8051 | AY17: =I17*AX17/1000 -> 221.69415 | AZ17: =AH17*1000/$AX17 -> 0.5830787 | BA17: =AA17*1000/AX17 -> 0.32863809 | BB17: =SQRT(($Z17*$AZ17*$AZ17)+((1-$Z17) * $BA17*$BA17)) -> 0.35398256 | BC17: =60*AY17/$D$56 -> 665.08246 | BD17: =BD18+BC17 -> 1820.3025 | BE17: =LOOKUP($AK17,Pipes!$D$4:$D$16,Pipes!$N$4:$N$16) -> 0.30819908 | BF17: 12 | BG17: =$D$51 -> 90 | BH17: =$D$52 -> 65 | BI17: =$D$52 -> 65 | BJ17: =BE17*I17*(BG17-BF17)/1000 -> 0.72118585 | BK17: =BE17*I17*(BH17-BF17)/1000 -> 0.49003654 | BL17: =BE17*I17*(BI17-BF17)/1000 -> 0.49003654 | BM17: =AY17*4200*($D$51-50)/(BJ17*1000*60*60) -> 14.345438 | BN17: =BL17*$N17 -> 0.49003654 | BO17: =BJ17*$N17 -> 0.72118585 | BP17: =BK17*$N17 -> 0.49003654 | BQ17: 0 | BR17: =(1-BQ17) * ($D$58/365) -> 0.32876712 | BS17: =(1-BQ17) * (1- ($D$58/365)) -> 0.67123288 | BT17: =(BQ17*BL17)+(BR17*BJ17)+(BS17*BK17) -> 0.56603083 | BU17: =BT17*N17 -> 0.56603083 | BV17: =1000*BT17/I17 -> 18.867694 | BW17: =BU17/$BU$47 -> 0.019620766 | BX17: =R17*1000/(4200*($D$52-$D$53)) -> 3.1452294 | BY17: =POWER(100/AN17,1.852)*POWER(BX17*15.852,1.852)/POWER($AK17*0.03937,4.8655)*0.2083*304.8*3.28 -> 229.47825 | BZ17: =+BY17*9.81/1000 -> 2.2511817 | CA17: =+BY17*$I17/100 -> 68.843476 | CB17: =+CA17*9.81/1000 -> 0.6753545 | CC17: =CB17*1000/$I17 -> 22.511817 | CD17: =$AT17*CC17/1000 -> 0.1135496 | CE17: =CD17+CB17 -> 0.78890411 | CF17: =$Y17*1000/$AX17 -> 0.27361116 | CG17: 0 | CH17: =SQRT(($Z17*$CF17*$CF17)+((1-$Z17) * $CG17*$CG17)) -> 0.074720874 | CI17: =LOOKUP($AK17,Pipes!$D$4:$D$16,Pipes!$I$4:$I$16) -> 33.333333 | CJ17: =CI17*O17 -> 1000
B18: 7F | C18: Run to 7th Riser | D18: Flow | E18: =E19+48 -> 192 | F18: =Summary!$C$21 -> 0.5 | G18: =$D$55*E18 -> 576 | H18: =(((E18*$D$59)+($D$60*G18))*4200*$D$61)/(1000*60*60) -> 851.2 | I18: 30 | K18: 2 | L18: 1 | N18: 1 | O18: =N18*I18 -> 30 | P18: =(1.19*E18) + (18.8*POWER(E18,0.5)) + 17.6 -> 506.58044 | Q18: =P18/($R$29*E18) -> 0.058631996 | R18: =Q18*$R$29*E18 -> 506.58044 | S18: 12 | T18: =R18/$D$64 -> 42.215037 | U18: 0.85 | V18: =U18*$D$49*E18 -> 489.6 | W18: =$D$65*U18*S18*$D$49 -> 30.6 | X18: =V18-W18 -> 459 | Y18: =R18*1000/(4200*($D$51-$D$53)) -> 1.7230627 | Z18: =((H18/R18))/24 -> 0.070011915 | AA18: =V18*1000/(4200*($D$51-$D$54)) -> 1.9428571 | AB18: =X18*1000/(4200*($D$51-$D$54)) -> 1.8214286 | AC18: =AB18/AH18 -> 0.51387588 | AD18: =(24*X18)/((24*X18)+H18) -> 0.92827289 | AE18: =(E18*(1-U18))*($D$63/3600) -> 0 | AF18: =(E18-S18)*($D$63/3600) -> 0 | AG18: =X18+R18 -> 965.58044 | AH18: =AB18+Y18+AE18 -> 3.5444913 | AI18: =AH18*1000000/(F18*1000) -> 7088.9826 | AJ18: =2*SQRT(AI18/3.14159) -> 95.005161 | AK18: =LOOKUP($AJ18,Pipes!$D$4:$D$16,Pipes!$D$4:$D$16) -> 72 | AL18: =LOOKUP(AK18,Pipes!$D$4:$D$16,Pipes!$B$4:$B$16) -> 75 | AM18: =LOOKUP($AK18,Pipes!$D$4:$D$16,Pipes!$E$4:$E$16) -> Steel | AN18: =LOOKUP($AK18,Pipes!$D$4:$D$16,Pipes!$F$4:$F$16) -> 140 | AO18: =POWER(100/AN18,1.852)*POWER(AH18*15.852,1.852)/POWER($AK18*0.03937,4.8655)*0.2083*304.8*3.28 -> 1220.8151 | AP18: =+AO18*9.81/1000 -> 11.976196 | AQ18: =+AO18*I18/100 -> 366.24454 | AR18: =+AQ18*9.81/1000 -> 3.5928589 | AS18: =AR18*1000/$I18 -> 119.76196 | AT18: =($D$78*J18*AK18/1000)+($D$80*K18*AK18/1000)+($D$76*L18*AK18/1000)+($D$77*M18*AK18/1000) -> 3.744 | AU18: =$AT18*AS18/1000 -> 0.44838879 | AV18: =AU18+AR18 -> 4.0412477 | AW18: =AV18/$AV$47 -> 0.02042751 | AX18: =POWER((AK18/2),2)*3.14159 -> 4071.5006 | AY18: =I18*AX18/1000 -> 122.14502 | AZ18: =AH18*1000/$AX18 -> 0.8705614 | BA18: =AA18*1000/AX18 -> 0.47718454 | BB18: =SQRT(($Z18*$AZ18*$AZ18)+((1-$Z18) * $BA18*$BA18)) -> 0.51460999 | BC18: =60*AY18/$D$56 -> 366.43506 | BD18: =BD19+BC18 -> 1155.2201 | BE18: =LOOKUP($AK18,Pipes!$D$4:$D$16,Pipes!$N$4:$N$16) -> 0.25212768 | BF18: 12 | BG18: =$D$51 -> 90 | BH18: =$D$52 -> 65 | BI18: =$D$52 -> 65 | BJ18: =BE18*I18*(BG18-BF18)/1000 -> 0.58997878 | BK18: =BE18*I18*(BH18-BF18)/1000 -> 0.40088302 | BL18: =BE18*I18*(BI18-BF18)/1000 -> 0.40088302 | BM18: =AY18*4200*($D$51-50)/(BJ18*1000*60*60) -> 9.6615354 | BN18: =BL18*$N18 -> 0.40088302 | BO18: =BJ18*$N18 -> 0.58997878 | BP18: =BK18*$N18 -> 0.40088302 | BQ18: 0 | BR18: =(1-BQ18) * ($D$58/365) -> 0.32876712 | BS18: =(1-BQ18) * (1- ($D$58/365)) -> 0.67123288 | BT18: =(BQ18*BL18)+(BR18*BJ18)+(BS18*BK18) -> 0.46305149 | BU18: =BT18*N18 -> 0.46305149 | BV18: =1000*BT18/I18 -> 15.43505 | BW18: =BU18/$BU$47 -> 0.016051113 | BX18: =R18*1000/(4200*($D$52-$D$53)) -> 2.6803198 | BY18: =POWER(100/AN18,1.852)*POWER(BX18*15.852,1.852)/POWER($AK18*0.03937,4.8655)*0.2083*304.8*3.28 -> 727.57482 | BZ18: =+BY18*9.81/1000 -> 7.137509 | CA18: =+BY18*$I18/100 -> 218.27245 | CB18: =+CA18*9.81/1000 -> 2.1412527 | CC18: =CB18*1000/$I18 -> 71.37509 | CD18: =$AT18*CC18/1000 -> 0.26722834 | CE18: =CD18+CB18 -> 2.408481 | CF18: =$Y18*1000/$AX18 -> 0.4232009 | CG18: 0 | CH18: =SQRT(($Z18*$CF18*$CF18)+((1-$Z18) * $CG18*$CG18)) -> 0.11197796 | CI18: =LOOKUP($AK18,Pipes!$D$4:$D$16,Pipes!$I$4:$I$16) -> 25 | CJ18: =CI18*O18 -> 750
B19: 8F | C19: Run to 8th Riser | D19: Flow | E19: =E20+48 -> 144 | F19: =Summary!$C$21 -> 0.5 | G19: =$D$55*E19 -> 432 | H19: =(((E19*$D$59)+($D$60*G19))*4200*$D$61)/(1000*60*60) -> 638.4 | I19: 30 | K19: 2 | L19: 1 | N19: 1 | O19: =N19*I19 -> 30 | P19: =(1.19*E19) + (18.8*POWER(E19,0.5)) + 17.6 -> 414.56 | Q19: =P19/($R$29*E19) -> 0.063975309 | R19: =Q19*$R$29*E19 -> 414.56 | S19: 10 | T19: =R19/$D$64 -> 34.546667 | U19: 0.9 | V19: =U19*$D$49*E19 -> 388.8 | W19: =$D$65*U19*S19*$D$49 -> 27 | X19: =V19-W19 -> 361.8 | Y19: =R19*1000/(4200*($D$51-$D$53)) -> 1.410068 | Z19: =((H19/R19))/24 -> 0.064164415 | AA19: =V19*1000/(4200*($D$51-$D$54)) -> 1.5428571 | AB19: =X19*1000/(4200*($D$51-$D$54)) -> 1.4357143 | AC19: =AB19/AH19 -> 0.50450601 | AD19: =(24*X19)/((24*X19)+H19) -> 0.9315139 | AE19: =(E19*(1-U19))*($D$63/3600) -> 0 | AF19: =(E19-S19)*($D$63/3600) -> 0 | AG19: =X19+R19 -> 776.36 | AH19: =AB19+Y19+AE19 -> 2.8457823 | AI19: =AH19*1000000/(F19*1000) -> 5691.5646 | AJ19: =2*SQRT(AI19/3.14159) -> 85.127735 | AK19: =LOOKUP($AJ19,Pipes!$D$4:$D$16,Pipes!$D$4:$D$16) -> 72 | AL19: =LOOKUP(AK19,Pipes!$D$4:$D$16,Pipes!$B$4:$B$16) -> 75 | AM19: =LOOKUP($AK19,Pipes!$D$4:$D$16,Pipes!$E$4:$E$16) -> Steel | AN19: =LOOKUP($AK19,Pipes!$D$4:$D$16,Pipes!$F$4:$F$16) -> 140 | AO19: =POWER(100/AN19,1.852)*POWER(AH19*15.852,1.852)/POWER($AK19*0.03937,4.8655)*0.2083*304.8*3.28 -> 812.93825 | AP19: =+AO19*9.81/1000 -> 7.9749242 | AQ19: =+AO19*I19/100 -> 243.88147 | AR19: =+AQ19*9.81/1000 -> 2.3924773 | AS19: =AR19*1000/$I19 -> 79.749242 | AT19: =($D$78*J19*AK19/1000)+($D$80*K19*AK19/1000)+($D$76*L19*AK19/1000)+($D$77*M19*AK19/1000) -> 3.744 | AU19: =$AT19*AS19/1000 -> 0.29858116 | AV19: =AU19+AR19 -> 2.6910584 | AW19: =AV19/$AV$47 -> 0.013602636 | AX19: =POWER((AK19/2),2)*3.14159 -> 4071.5006 | AY19: =I19*AX19/1000 -> 122.14502 | AZ19: =AH19*1000/$AX19 -> 0.6989517 | BA19: =AA19*1000/AX19 -> 0.37894066 | BB19: =SQRT(($Z19*$AZ19*$AZ19)+((1-$Z19) * $BA19*$BA19)) -> 0.40709794 | BC19: =60*AY19/$D$56 -> 366.43506 | BD19: =BD20+BC19 -> 788.78501 | BE19: =LOOKUP($AK19,Pipes!$D$4:$D$16,Pipes!$N$4:$N$16) -> 0.25212768 | BF19: 12 | BG19: =$D$51 -> 90 | BH19: =$D$52 -> 65 | BI19: =$D$52 -> 65 | BJ19: =BE19*I19*(BG19-BF19)/1000 -> 0.58997878 | BK19: =BE19*I19*(BH19-BF19)/1000 -> 0.40088302 | BL19: =BE19*I19*(BI19-BF19)/1000 -> 0.40088302 | BM19: =AY19*4200*($D$51-50)/(BJ19*1000*60*60) -> 9.6615354 | BN19: =BL19*$N19 -> 0.40088302 | BO19: =BJ19*$N19 -> 0.58997878 | BP19: =BK19*$N19 -> 0.40088302 | BQ19: 0 | BR19: =(1-BQ19) * ($D$58/365) -> 0.32876712 | BS19: =(1-BQ19) * (1- ($D$58/365)) -> 0.67123288 | BT19: =(BQ19*BL19)+(BR19*BJ19)+(BS19*BK19) -> 0.46305149 | BU19: =BT19*N19 -> 0.46305149 | BV19: =1000*BT19/I19 -> 15.43505 | BW19: =BU19/$BU$47 -> 0.016051113 | BX19: =R19*1000/(4200*($D$52-$D$53)) -> 2.1934392 | BY19: =POWER(100/AN19,1.852)*POWER(BX19*15.852,1.852)/POWER($AK19*0.03937,4.8655)*0.2083*304.8*3.28 -> 501.9271 | BZ19: =+BY19*9.81/1000 -> 4.9239049 | CA19: =+BY19*$I19/100 -> 150.57813 | CB19: =+CA19*9.81/1000 -> 1.4771715 | CC19: =CB19*1000/$I19 -> 49.239049 | CD19: =$AT19*CC19/1000 -> 0.184351 | CE19: =CD19+CB19 -> 1.6615225 | CF19: =$Y19*1000/$AX19 -> 0.34632637 | CG19: 0 | CH19: =SQRT(($Z19*$CF19*$CF19)+((1-$Z19) * $CG19*$CG19)) -> 0.087726879 | CI19: =LOOKUP($AK19,Pipes!$D$4:$D$16,Pipes!$I$4:$I$16) -> 25 | CJ19: =CI19*O19 -> 750
B20: 9F | C20: Run to 9th Riser | D20: Flow | E20: =E21+48 -> 96 | F20: =Summary!$C$21 -> 0.5 | G20: =$D$55*E20 -> 288 | H20: =(((E20*$D$59)+($D$60*G20))*4200*$D$61)/(1000*60*60) -> 425.6 | I20: 30 | K20: 2 | L20: 1 | N20: 1 | O20: =N20*I20 -> 30 | P20: =(1.19*E20) + (18.8*POWER(E20,0.5)) + 17.6 -> 316.04163 | Q20: =P20/($R$29*E20) -> 0.073157784 | R20: =Q20*$R$29*E20 -> 316.04163 | S20: 8 | T20: =R20/$D$64 -> 26.336802 | U20: 0.9 | V20: =U20*$D$49*E20 -> 259.2 | W20: =$D$65*U20*S20*$D$49 -> 21.6 | X20: =V20-W20 -> 237.6 | Y20: =R20*1000/(4200*($D$51-$D$53)) -> 1.0749715 | Z20: =((H20/R20))/24 -> 0.056110752 | AA20: =V20*1000/(4200*($D$51-$D$54)) -> 1.0285714 | AB20: =X20*1000/(4200*($D$51-$D$54)) -> 0.94285714 | AC20: =AB20/AH20 -> 0.46726323 | AD20: =(24*X20)/((24*X20)+H20) -> 0.9305483 | AE20: =(E20*(1-U20))*($D$63/3600) -> 0 | AF20: =(E20-S20)*($D$63/3600) -> 0 | AG20: =X20+R20 -> 553.64163 | AH20: =AB20+Y20+AE20 -> 2.0178287 | AI20: =AH20*1000000/(F20*1000) -> 4035.6573 | AJ20: =2*SQRT(AI20/3.14159) -> 71.682375 | AK20: =LOOKUP($AJ20,Pipes!$D$4:$D$16,Pipes!$D$4:$D$16) -> 51 | AL20: =LOOKUP(AK20,Pipes!$D$4:$D$16,Pipes!$B$4:$B$16) -> 54 | AM20: =LOOKUP($AK20,Pipes!$D$4:$D$16,Pipes!$E$4:$E$16) -> Copper | AN20: =LOOKUP($AK20,Pipes!$D$4:$D$16,Pipes!$F$4:$F$16) -> 140 | AO20: =POWER(100/AN20,1.852)*POWER(AH20*15.852,1.852)/POWER($AK20*0.03937,4.8655)*0.2083*304.8*3.28 -> 2302.4506 | AP20: =+AO20*9.81/1000 -> 22.587041 | AQ20: =+AO20*I20/100 -> 690.73519 | AR20: =+AQ20*9.81/1000 -> 6.7761122 | AS20: =AR20*1000/$I20 -> 225.87041 | AT20: =($D$78*J20*AK20/1000)+($D$80*K20*AK20/1000)+($D$76*L20*AK20/1000)+($D$77*M20*AK20/1000) -> 2.652 | AU20: =$AT20*AS20/1000 -> 0.59900832 | AV20: =AU20+AR20 -> 7.3751205 | AW20: =AV20/$AV$47 -> 0.037279414 | AX20: =POWER((AK20/2),2)*3.14159 -> 2042.8189 | AY20: =I20*AX20/1000 -> 61.284567 | AZ20: =AH20*1000/$AX20 -> 0.98776679 | BA20: =AA20*1000/AX20 -> 0.50350593 | BB20: =SQRT(($Z20*$AZ20*$AZ20)+((1-$Z20) * $BA20*$BA20)) -> 0.54225404 | BC20: =60*AY20/$D$56 -> 183.8537 | BD20: =BD21+BC20 -> 422.34996 | BE20: =LOOKUP($AK20,Pipes!$D$4:$D$16,Pipes!$N$4:$N$16) -> 0.2038488 | BF20: 12 | BG20: =$D$51 -> 90 | BH20: =$D$52 -> 65 | BI20: =$D$52 -> 65 | BJ20: =BE20*I20*(BG20-BF20)/1000 -> 0.47700619 | BK20: =BE20*I20*(BH20-BF20)/1000 -> 0.32411959 | BL20: =BE20*I20*(BI20-BF20)/1000 -> 0.32411959 | BM20: =AY20*4200*($D$51-50)/(BJ20*1000*60*60) -> 5.9956171 | BN20: =BL20*$N20 -> 0.32411959 | BO20: =BJ20*$N20 -> 0.47700619 | BP20: =BK20*$N20 -> 0.32411959 | BQ20: 0 | BR20: =(1-BQ20) * ($D$58/365) -> 0.32876712 | BS20: =(1-BQ20) * (1- ($D$58/365)) -> 0.67123288 | BT20: =(BQ20*BL20)+(BR20*BJ20)+(BS20*BK20) -> 0.37438368 | BU20: =BT20*N20 -> 0.37438368 | BV20: =1000*BT20/I20 -> 12.479456 | BW20: =BU20/$BU$47 -> 0.012977552 | BX20: =R20*1000/(4200*($D$52-$D$53)) -> 1.6721779 | BY20: =POWER(100/AN20,1.852)*POWER(BX20*15.852,1.852)/POWER($AK20*0.03937,4.8655)*0.2083*304.8*3.28 -> 1625.7875 | BZ20: =+BY20*9.81/1000 -> 15.948976 | CA20: =+BY20*$I20/100 -> 487.73626 | CB20: =+CA20*9.81/1000 -> 4.7846927 | CC20: =CB20*1000/$I20 -> 159.48976 | CD20: =$AT20*CC20/1000 -> 0.42296684 | CE20: =CD20+CB20 -> 5.2076595 | CF20: =$Y20*1000/$AX20 -> 0.52621969 | CG20: 0 | CH20: =SQRT(($Z20*$CF20*$CF20)+((1-$Z20) * $CG20*$CG20)) -> 0.12464938 | CI20: =LOOKUP($AK20,Pipes!$D$4:$D$16,Pipes!$I$4:$I$16) -> 17.466667 | CJ20: =CI20*O20 -> 524
B21: 10F | C21: Run to 10th riser (ground floor) | D21: Flow | E21: 48 | F21: =Summary!$C$21 -> 0.5 | G21: =$D$55*E21 -> 144 | H21: =(((E21*$D$59)+($D$60*G21))*4200*$D$61)/(1000*60*60) -> 212.8 | I21: 30 | J21: 1 | K21: 2 | N21: 1 | O21: =N21*I21 -> 30 | P21: =(1.19*E21) + (18.8*POWER(E21,0.5)) + 17.6 -> 204.97022 | Q21: =P21/($R$29*E21) -> 0.094893621 | R21: =Q21*$R$29*E21 -> 204.97022 | S21: 5 | T21: =R21/$D$64 -> 17.080852 | U21: 0.9 | V21: =U21*$D$49*E21 -> 129.6 | W21: =$D$65*U21*S21*$D$49 -> 13.5 | X21: =V21-W21 -> 116.1 | Y21: =R21*1000/(4200*($D$51-$D$53)) -> 0.69717762 | Z21: =((H21/R21))/24 -> 0.043258316 | AA21: =V21*1000/(4200*($D$51-$D$54)) -> 0.51428571 | AB21: =X21*1000/(4200*($D$51-$D$54)) -> 0.46071429 | AC21: =AB21/AH21 -> 0.39789058 | AD21: =(24*X21)/((24*X21)+H21) -> 0.92904775 | AE21: =(E21*(1-U21))*($D$63/3600) -> 0 | AF21: =(E21-S21)*($D$63/3600) -> 0 | AG21: =X21+R21 -> 321.07022 | AH21: =AB21+Y21+AE21 -> 1.1578919 | AI21: =AH21*1000000/(F21*1000) -> 2315.7838 | AJ21: =2*SQRT(AI21/3.14159) -> 54.300553 | AK21: =LOOKUP($AJ21,Pipes!$D$4:$D$16,Pipes!$D$4:$D$16) -> 51 | AL21: =LOOKUP(AK21,Pipes!$D$4:$D$16,Pipes!$B$4:$B$16) -> 54 | AM21: =LOOKUP($AK21,Pipes!$D$4:$D$16,Pipes!$E$4:$E$16) -> Copper | AN21: =LOOKUP($AK21,Pipes!$D$4:$D$16,Pipes!$F$4:$F$16) -> 140 | AO21: =POWER(100/AN21,1.852)*POWER(AH21*15.852,1.852)/POWER($AK21*0.03937,4.8655)*0.2083*304.8*3.28 -> 823.10984 | AP21: =+AO21*9.81/1000 -> 8.0747075 | AQ21: =+AO21*I21/100 -> 246.93295 | AR21: =+AQ21*9.81/1000 -> 2.4224123 | AS21: =AR21*1000/$I21 -> 80.747075 | AT21: =($D$78*J21*AK21/1000)+($D$80*K21*AK21/1000)+($D$76*L21*AK21/1000)+($D$77*M21*AK21/1000) -> 3.162 | AU21: =$AT21*AS21/1000 -> 0.25532225 | AV21: =AU21+AR21 -> 2.6777345 | AW21: =AV21/$AV$47 -> 0.013535287 | AX21: =POWER((AK21/2),2)*3.14159 -> 2042.8189 | AY21: =I21*AX21/1000 -> 61.284567 | AZ21: =AH21*1000/$AX21 -> 0.56681085 | BA21: =AA21*1000/AX21 -> 0.25175296 | BB21: =SQRT(($Z21*$AZ21*$AZ21)+((1-$Z21) * $BA21*$BA21)) -> 0.27301219 | BC21: =60*AY21/$D$56 -> 183.8537 | BD21: =BD22+BC21 -> 238.49626 | BE21: =LOOKUP($AK21,Pipes!$D$4:$D$16,Pipes!$N$4:$N$16) -> 0.2038488 | BF21: 25 | BG21: =$D$51 -> 90 | BH21: =$D$52 -> 65 | BI21: =$D$52 -> 65 | BJ21: =BE21*I21*(BG21-BF21)/1000 -> 0.39750516 | BK21: =BE21*I21*(BH21-BF21)/1000 -> 0.24461856 | BL21: =BE21*I21*(BI21-BF21)/1000 -> 0.24461856 | BM21: =AY21*4200*($D$51-50)/(BJ21*1000*60*60) -> 7.1947405 | BN21: =BL21*$N21 -> 0.24461856 | BO21: =BJ21*$N21 -> 0.39750516 | BP21: =BK21*$N21 -> 0.24461856 | BQ21: 0 | BR21: =(1-BQ21) * ($D$58/365) -> 0.32876712 | BS21: =(1-BQ21) * (1- ($D$58/365)) -> 0.67123288 | BT21: =(BQ21*BL21)+(BR21*BJ21)+(BS21*BK21) -> 0.29488265 | BU21: =BT21*N21 -> 0.29488265 | BV21: =1000*BT21/I21 -> 9.8294216 | BW21: =BU21/$BU$47 -> 0.010221746 | BX21: =R21*1000/(4200*($D$52-$D$53)) -> 1.0844985 | BY21: =POWER(100/AN21,1.852)*POWER(BX21*15.852,1.852)/POWER($AK21*0.03937,4.8655)*0.2083*304.8*3.28 -> 729.10263 | BZ21: =+BY21*9.81/1000 -> 7.1524968 | CA21: =+BY21*$I21/100 -> 218.73079 | CB21: =+CA21*9.81/1000 -> 2.145749 | CC21: =CB21*1000/$I21 -> 71.524968 | CD21: =$AT21*CC21/1000 -> 0.22616195 | CE21: =CD21+CB21 -> 2.371911 | CF21: =$Y21*1000/$AX21 -> 0.34128215 | CG21: 0 | CH21: =SQRT(($Z21*$CF21*$CF21)+((1-$Z21) * $CG21*$CG21)) -> 0.070982024 | CI21: =LOOKUP($AK21,Pipes!$D$4:$D$16,Pipes!$I$4:$I$16) -> 17.466667 | CJ21: =CI21*O21 -> 524
B22: 11F | C22: Riser to 1st floor | D22: Flow | E22: 36 | F22: =Summary!$C$22 -> 0.75 | G22: =$D$55*E22 -> 108 | H22: =(((E22*$D$59)+($D$60*G22))*4200*$D$61)/(1000*60*60) -> 159.6 | I22: 4 | L22: 1 | N22: 10 | O22: =N22*I22 -> 40 | P22: =(1.19*E22) + (18.8*POWER(E22,0.5)) + 17.6 -> 173.24 | Q22: =P22/($R$29*E22) -> 0.10693827 | R22: =Q22*$R$29*E22 -> 173.24 | S22: 4 | T22: =R22/$D$64 -> 14.436667 | U22: 0.95 | V22: =U22*$D$49*E22 -> 102.6 | W22: =$D$65*U22*S22*$D$49 -> 11.4 | X22: =V22-W22 -> 91.2 | Y22: =R22*1000/(4200*($D$51-$D$53)) -> 0.5892517 | Z22: =((H22/R22))/24 -> 0.038386054 | AA22: =V22*1000/(4200*($D$51-$D$54)) -> 0.40714286 | AB22: =X22*1000/(4200*($D$51-$D$54)) -> 0.36190476 | AC22: =AB22/AH22 -> 0.3804892 | AD22: =(24*X22)/((24*X22)+H22) -> 0.93203883 | AE22: =(E22*(1-U22))*($D$63/3600) -> 0 | AF22: =(E22-S22)*($D$63/3600) -> 0 | AG22: =X22+R22 -> 264.44 | AH22: =AB22+Y22+AE22 -> 0.95115646 | AI22: =AH22*1000000/(F22*1000) -> 1268.2086 | AJ22: =2*SQRT(AI22/3.14159) -> 40.183762 | AK22: =LOOKUP($AJ22,Pipes!$D$4:$D$16,Pipes!$D$4:$D$16) -> 39 | AL22: =LOOKUP(AK22,Pipes!$D$4:$D$16,Pipes!$B$4:$B$16) -> 42 | AM22: =LOOKUP($AK22,Pipes!$D$4:$D$16,Pipes!$E$4:$E$16) -> Copper | AN22: =LOOKUP($AK22,Pipes!$D$4:$D$16,Pipes!$F$4:$F$16) -> 140 | AO22: =POWER(100/AN22,1.852)*POWER(AH22*15.852,1.852)/POWER($AK22*0.03937,4.8655)*0.2083*304.8*3.28 -> 2109.2357 | AP22: =+AO22*9.81/1000 -> 20.691602 | AQ22: =+AO22*I22/100 -> 84.369426 | AR22: =+AQ22*9.81/1000 -> 0.82766407 | AS22: =AR22*1000/$I22 -> 206.91602 | AT22: =($D$78*J22*AK22/1000)+($D$80*K22*AK22/1000)+($D$76*L22*AK22/1000)+($D$77*M22*AK22/1000) -> 0.78 | AU22: =$AT22*AS22/1000 -> 0.16139449 | AV22: =AU22+AR22 -> 0.98905857 | AW22: =AV22/$AV$47 -> 0.0049994469 | AX22: =POWER((AK22/2),2)*3.14159 -> 1194.5896 | AY22: =I22*AX22/1000 -> 4.7783584 | AZ22: =AH22*1000/$AX22 -> 0.79622028 | BA22: =AA22*1000/AX22 -> 0.34082237 | BB22: =SQRT(($Z22*$AZ22*$AZ22)+((1-$Z22) * $BA22*$BA22)) -> 0.36883119 | BC22: =60*AY22/$D$56 -> 14.335075 | BD22: =BD23+BC22 -> 54.642555 | BE22: =LOOKUP($AK22,Pipes!$D$4:$D$16,Pipes!$N$4:$N$16) -> 0.17536897 | BF22: 25 | BG22: =$D$51 -> 90 | BH22: =$D$52 -> 65 | BI22: =$D$52 -> 65 | BJ22: =BE22*I22*(BG22-BF22)/1000 -> 0.045595933 | BK22: =BE22*I22*(BH22-BF22)/1000 -> 0.028059036 | BL22: =BE22*I22*(BI22-BF22)/1000 -> 0.028059036 | BM22: =AY22*4200*($D$51-50)/(BJ22*1000*60*60) -> 4.8905691 | BN22: =BL22*$N22 -> 0.28059036 | BO22: =BJ22*$N22 -> 0.45595933 | BP22: =BK22*$N22 -> 0.28059036 | BQ22: 0.01 | BR22: =(1-BQ22) * ($D$58/365) -> 0.32547945 | BS22: =(1-BQ22) * (1- ($D$58/365)) -> 0.66452055 | BT22: =(BQ22*BL22)+(BR22*BJ22)+(BS22*BK22) -> 0.033766935 | BU22: =BT22*N22 -> 0.33766935 | BV22: =1000*BT22/I22 -> 8.4417338 | BW22: =BU22/$BU$47 -> 0.011704895 | BX22: =R22*1000/(4200*($D$52-$D$53)) -> 0.91661376 | BY22: =POWER(100/AN22,1.852)*POWER(BX22*15.852,1.852)/POWER($AK22*0.03937,4.8655)*0.2083*304.8*3.28 -> 1969.5709 | BZ22: =+BY22*9.81/1000 -> 19.321491 | CA22: =+BY22*$I22/100 -> 78.782838 | CB22: =+CA22*9.81/1000 -> 0.77285964 | CC22: =CB22*1000/$I22 -> 193.21491 | CD22: =$AT22*CC22/1000 -> 0.15070763 | CE22: =CD22+CB22 -> 0.92356727 | CF22: =$Y22*1000/$AX22 -> 0.49326706 | CG22: 0 | CH22: =SQRT(($Z22*$CF22*$CF22)+((1-$Z22) * $CG22*$CG22)) -> 0.096642655 | CI22: =LOOKUP($AK22,Pipes!$D$4:$D$16,Pipes!$I$4:$I$16) -> 13.393333 | CJ22: =CI22*O22 -> 535.73333
B23: 12F | C23: Riser to 2nd floor | D23: Flow | E23: 24 | F23: =Summary!$C$22 -> 0.75 | G23: =$D$55*E23 -> 72 | H23: =(((E23*$D$59)+($D$60*G23))*4200*$D$61)/(1000*60*60) -> 106.4 | I23: 4 | L23: 1 | N23: 10 | O23: =N23*I23 -> 40 | P23: =(1.19*E23) + (18.8*POWER(E23,0.5)) + 17.6 -> 138.26081 | Q23: =P23/($R$29*E23) -> 0.12801927 | R23: =Q23*$R$29*E23 -> 138.26081 | S23: 4 | T23: =R23/$D$64 -> 11.521735 | U23: 0.95 | V23: =U23*$D$49*E23 -> 68.4 | W23: =$D$65*U23*S23*$D$49 -> 11.4 | X23: =V23-W23 -> 57 | Y23: =R23*1000/(4200*($D$51-$D$53)) -> 0.47027488 | Z23: =((H23/R23))/24 -> 0.032065002 | AA23: =V23*1000/(4200*($D$51-$D$54)) -> 0.27142857 | AB23: =X23*1000/(4200*($D$51-$D$54)) -> 0.22619048 | AC23: =AB23/AH23 -> 0.32476917 | AD23: =(24*X23)/((24*X23)+H23) -> 0.92783505 | AE23: =(E23*(1-U23))*($D$63/3600) -> 0 | AF23: =(E23-S23)*($D$63/3600) -> 0 | AG23: =X23+R23 -> 195.26081 | AH23: =AB23+Y23+AE23 -> 0.69646535 | AI23: =AH23*1000000/(F23*1000) -> 928.62047 | AJ23: =2*SQRT(AI23/3.14159) -> 34.385423 | AK23: =LOOKUP($AJ23,Pipes!$D$4:$D$16,Pipes!$D$4:$D$16) -> 32.6 | AL23: =LOOKUP(AK23,Pipes!$D$4:$D$16,Pipes!$B$4:$B$16) -> 35 | AM23: =LOOKUP($AK23,Pipes!$D$4:$D$16,Pipes!$E$4:$E$16) -> Copper | AN23: =LOOKUP($AK23,Pipes!$D$4:$D$16,Pipes!$F$4:$F$16) -> 140 | AO23: =POWER(100/AN23,1.852)*POWER(AH23*15.852,1.852)/POWER($AK23*0.03937,4.8655)*0.2083*304.8*3.28 -> 2832.807 | AP23: =+AO23*9.81/1000 -> 27.789837 | AQ23: =+AO23*I23/100 -> 113.31228 | AR23: =+AQ23*9.81/1000 -> 1.1115935 | AS23: =AR23*1000/$I23 -> 277.89837 | AT23: =($D$78*J23*AK23/1000)+($D$80*K23*AK23/1000)+($D$76*L23*AK23/1000)+($D$77*M23*AK23/1000) -> 0.652 | AU23: =$AT23*AS23/1000 -> 0.18118974 | AV23: =AU23+AR23 -> 1.2927832 | AW23: =AV23/$AV$47 -> 0.0065347 | AX23: =POWER((AK23/2),2)*3.14159 -> 834.68905 | AY23: =I23*AX23/1000 -> 3.3387562 | AZ23: =AH23*1000/$AX23 -> 0.83440098 | BA23: =AA23*1000/AX23 -> 0.32518526 | BB23: =SQRT(($Z23*$AZ23*$AZ23)+((1-$Z23) * $BA23*$BA23)) -> 0.35309939 | BC23: =60*AY23/$D$56 -> 10.016269 | BD23: =BD24+BC23 -> 40.307479 | BE23: =LOOKUP($AK23,Pipes!$D$4:$D$16,Pipes!$N$4:$N$16) -> 0.15825094 | BF23: 25 | BG23: =$D$51 -> 90 | BH23: =$D$52 -> 65 | BI23: =$D$52 -> 65 | BJ23: =BE23*I23*(BG23-BF23)/1000 -> 0.041145243 | BK23: =BE23*I23*(BH23-BF23)/1000 -> 0.02532015 | BL23: =BE23*I23*(BI23-BF23)/1000 -> 0.02532015 | BM23: =AY23*4200*($D$51-50)/(BJ23*1000*60*60) -> 3.7867955 | BN23: =BL23*$N23 -> 0.2532015 | BO23: =BJ23*$N23 -> 0.41145243 | BP23: =BK23*$N23 -> 0.2532015 | BQ23: 0.02 | BR23: =(1-BQ23) * ($D$58/365) -> 0.32219178 | BS23: =(1-BQ23) * (1- ($D$58/365)) -> 0.65780822 | BT23: =(BQ23*BL23)+(BR23*BJ23)+(BS23*BK23) -> 0.030418865 | BU23: =BT23*N23 -> 0.30418865 | BV23: =1000*BT23/I23 -> 7.6047162 | BW23: =BU23/$BU$47 -> 0.010544327 | BX23: =R23*1000/(4200*($D$52-$D$53)) -> 0.7315387 | BY23: =POWER(100/AN23,1.852)*POWER(BX23*15.852,1.852)/POWER($AK23*0.03937,4.8655)*0.2083*304.8*3.28 -> 3102.6628 | BZ23: =+BY23*9.81/1000 -> 30.437122 | CA23: =+BY23*$I23/100 -> 124.10651 | CB23: =+CA23*9.81/1000 -> 1.2174849 | CC23: =CB23*1000/$I23 -> 304.37122 | CD23: =$AT23*CC23/1000 -> 0.19845003 | CE23: =CD23+CB23 -> 1.4159349 | CF23: =$Y23*1000/$AX23 -> 0.56341326 | CG23: 0 | CH23: =SQRT(($Z23*$CF23*$CF23)+((1-$Z23) * $CG23*$CG23)) -> 0.10088874 | CI23: =LOOKUP($AK23,Pipes!$D$4:$D$16,Pipes!$I$4:$I$16) -> 10.98 | CJ23: =CI23*O23 -> 439.2
B24: 13F | C24: Riser to 3rd floor | D24: Flow | E24: 12 | F24: =Summary!$C$22 -> 0.75 | G24: =$D$55*E24 -> 36 | H24: =(((E24*$D$59)+($D$60*G24))*4200*$D$61)/(1000*60*60) -> 53.2 | I24: 4 | M24: 1 | N24: 10 | O24: =N24*I24 -> 40 | P24: =(1.19*E24) + (18.8*POWER(E24,0.5)) + 17.6 -> 97.00511 | Q24: =P24/($R$29*E24) -> 0.17963909 | R24: =Q24*$R$29*E24 -> 97.00511 | S24: 3 | T24: =R24/$D$64 -> 8.0837592 | U24: 0.95 | V24: =U24*$D$49*E24 -> 34.2 | W24: =$D$65*U24*S24*$D$49 -> 8.55 | X24: =V24-W24 -> 25.65 | Y24: =R24*1000/(4200*($D$51-$D$53)) -> 0.32994935 | Z24: =((H24/R24))/24 -> 0.02285103 | AA24: =V24*1000/(4200*($D$51-$D$54)) -> 0.13571429 | AB24: =X24*1000/(4200*($D$51-$D$54)) -> 0.10178571 | AC24: =AB24/AH24 -> 0.23575966 | AD24: =(24*X24)/((24*X24)+H24) -> 0.92045455 | AE24: =(E24*(1-U24))*($D$63/3600) -> 0 | AF24: =(E24-S24)*($D$63/3600) -> 0 | AG24: =X24+R24 -> 122.65511 | AH24: =AB24+Y24+AE24 -> 0.43173507 | AI24: =AH24*1000000/(F24*1000) -> 575.64676 | AJ24: =2*SQRT(AI24/3.14159) -> 27.072806 | AK24: =LOOKUP($AJ24,Pipes!$D$4:$D$16,Pipes!$D$4:$D$16) -> 26 | AL24: =LOOKUP(AK24,Pipes!$D$4:$D$16,Pipes!$B$4:$B$16) -> 28 | AM24: =LOOKUP($AK24,Pipes!$D$4:$D$16,Pipes!$E$4:$E$16) -> Copper | AN24: =LOOKUP($AK24,Pipes!$D$4:$D$16,Pipes!$F$4:$F$16) -> 140 | AO24: =POWER(100/AN24,1.852)*POWER(AH24*15.852,1.852)/POWER($AK24*0.03937,4.8655)*0.2083*304.8*3.28 -> 3512.3435 | AP24: =+AO24*9.81/1000 -> 34.45609 | AQ24: =+AO24*I24/100 -> 140.49374 | AR24: =+AQ24*9.81/1000 -> 1.3782436 | AS24: =AR24*1000/$I24 -> 344.5609 | AT24: =($D$78*J24*AK24/1000)+($D$80*K24*AK24/1000)+($D$76*L24*AK24/1000)+($D$77*M24*AK24/1000) -> 1.56 | AU24: =$AT24*AS24/1000 -> 0.537515 | AV24: =AU24+AR24 -> 1.9157586 | AW24: =AV24/$AV$47 -> 0.0096836868 | AX24: =POWER((AK24/2),2)*3.14159 -> 530.92871 | AY24: =I24*AX24/1000 -> 2.1237148 | AZ24: =AH24*1000/$AX24 -> 0.81316957 | BA24: =AA24*1000/AX24 -> 0.25561678 | BB24: =SQRT(($Z24*$AZ24*$AZ24)+((1-$Z24) * $BA24*$BA24)) -> 0.28099284 | BC24: =60*AY24/$D$56 -> 6.3711445 | BD24: =BD25+BC24 -> 30.291211 | BE24: =LOOKUP($AK24,Pipes!$D$4:$D$16,Pipes!$N$4:$N$16) -> 0.14056035 | BF24: 25 | BG24: =$D$51 -> 90 | BH24: =$D$52 -> 65 | BI24: =$D$52 -> 65 | BJ24: =BE24*I24*(BG24-BF24)/1000 -> 0.03654569 | BK24: =BE24*I24*(BH24-BF24)/1000 -> 0.022489656 | BL24: =BE24*I24*(BI24-BF24)/1000 -> 0.022489656 | BM24: =AY24*4200*($D$51-50)/(BJ24*1000*60*60) -> 2.7118572 | BN24: =BL24*$N24 -> 0.22489656 | BO24: =BJ24*$N24 -> 0.3654569 | BP24: =BK24*$N24 -> 0.22489656 | BQ24: 0.03 | BR24: =(1-BQ24) * ($D$58/365) -> 0.31890411 | BS24: =(1-BQ24) * (1- ($D$58/365)) -> 0.65109589 | BT24: =(BQ24*BL24)+(BR24*BJ24)+(BS24*BK24) -> 0.026972183 | BU24: =BT24*N24 -> 0.26972183 | BV24: =1000*BT24/I24 -> 6.7430457 | BW24: =BU24/$BU$47 -> 0.0093495772 | BX24: =R24*1000/(4200*($D$52-$D$53)) -> 0.51325455 | BY24: =POWER(100/AN24,1.852)*POWER(BX24*15.852,1.852)/POWER($AK24*0.03937,4.8655)*0.2083*304.8*3.28 -> 4838.5012 | BZ24: =+BY24*9.81/1000 -> 47.465697 | CA24: =+BY24*$I24/100 -> 193.54005 | CB24: =+CA24*9.81/1000 -> 1.8986279 | CC24: =CB24*1000/$I24 -> 474.65697 | CD24: =$AT24*CC24/1000 -> 0.74046487 | CE24: =CD24+CB24 -> 2.6390927 | CF24: =$Y24*1000/$AX24 -> 0.62145698 | CG24: 0 | CH24: =SQRT(($Z24*$CF24*$CF24)+((1-$Z24) * $CG24*$CG24)) -> 0.0939429 | CI24: =LOOKUP($AK24,Pipes!$D$4:$D$16,Pipes!$I$4:$I$16) -> 5.7133333 | CJ24: =CI24*O24 -> 228.53333
B25: 14F | C25: Lateral | D25: Periphery | E25: 6 | F25: =Summary!$C$22 -> 0.75 | G25: =$D$55*E25 -> 18 | H25: =(((E25*$D$59)+($D$60*G25))*4200*$D$61)/(1000*60*60) -> 26.6 | I25: 10 | L25: 1 | N25: 80 | O25: =N25*I25 -> 800 | P25: =(1.19*E25) + (18.8*POWER(E25,0.5)) + 17.6 -> 70.790407 | Q25: 0.35 | R25: =Q25*$R$29*E25 -> 94.5 | S25: 3 | T25: =R25/$D$64 -> 7.875 | U25: 1 | V25: =U25*$D$49*E25 -> 18 | W25: =$D$65*U25*S25*$D$49 -> 9 | X25: =V25-W25 -> 9 | Y25: =R25*1000/(4200*($D$51-$D$53)) -> 0.32142857 | Z25: =((H25/R25))/24 -> 0.011728395 | AA25: =V25*1000/(4200*($D$51-$D$54)) -> 0.071428571 | AB25: =X25*1000/(4200*($D$51-$D$54)) -> 0.035714286 | AC25: =AB25/AH25 -> 0.1 | AD25: =(24*X25)/((24*X25)+H25) -> 0.89035449 | AE25: =(E25*(1-U25))*($D$63/3600) -> 0 | AF25: =(E25-S25)*($D$63/3600) -> 0 | AG25: =X25+R25 -> 103.5 | AH25: =AB25+Y25+AE25 -> 0.35714286 | AI25: =AH25*1000000/(F25*1000) -> 476.19048 | AJ25: =2*SQRT(AI25/3.14159) -> 24.623263 | AK25: =LOOKUP($AJ25,Pipes!$D$4:$D$16,Pipes!$D$4:$D$16) -> 20 | AL25: =LOOKUP(AK25,Pipes!$D$4:$D$16,Pipes!$B$4:$B$16) -> 22 | AM25: =LOOKUP($AK25,Pipes!$D$4:$D$16,Pipes!$E$4:$E$16) -> Copper | AN25: =LOOKUP($AK25,Pipes!$D$4:$D$16,Pipes!$F$4:$F$16) -> 140 | AO25: =POWER(100/AN25,1.852)*POWER(AH25*15.852,1.852)/POWER($AK25*0.03937,4.8655)*0.2083*304.8*3.28 -> 8859.9077 | AP25: =+AO25*9.81/1000 -> 86.915694 | AQ25: =+AO25*I25/100 -> 885.99077 | AR25: =+AQ25*9.81/1000 -> 8.6915694 | AS25: =AR25*1000/I25 -> 869.15694 | AT25: =($D$78*J25*AK25/1000)+($D$80*K25*AK25/1000)+($D$76*L25*AK25/1000)+($D$77*M25*AK25/1000) -> 0.4 | AU25: =AT25*AS25/1000 -> 0.34766278 | AV25: =AU25+AR25 -> 9.0392322 | AW25: =AV25/$AV$47 -> 0.045691088 | AX25: =POWER((AK25/2),2)*3.14159 -> 314.159 | AY25: =I25*AX25/1000 -> 3.14159 | AZ25: =AH25*1000/$AX25 -> 1.136822 | BA25: =AA25*1000/AX25 -> 0.2273644 | BB25: =SQRT(($Z25*$AZ25*$AZ25)+((1-$Z25) * $BA25*$BA25)) -> 0.25738227 | BC25: =60*AY25/$D$56 -> 9.42477 | BD25: =BD26+BC25 -> 23.920066 | BE25: =LOOKUP($AK25,Pipes!$D$4:$D$16,Pipes!$N$4:$N$16) -> 0.12471091 | BF25: 25 | BG25: =$D$51 -> 90 | BH25: =$D$52 -> 65 | BI25: =MAX(BF25,$D$62+5) -> 30 | BJ25: =BE25*I25*(BG25-BF25)/1000 -> 0.081062089 | BK25: =BE25*I25*(BH25-BF25)/1000 -> 0.049884362 | BL25: =BE25*I25*(BI25-BF25)/1000 -> 0.0062355453 | BM25: =AY25*4200*($D$51-50)/(BJ25*1000*60*60) -> 1.8085832 | BN25: =BL25*$N25 -> 0.49884362 | BO25: =BJ25*$N25 -> 6.4849671 | BP25: =BK25*$N25 -> 3.990749 | BQ25: 0.1 | BR25: =(1-BQ25) * ($D$58/365) -> 0.29589041 | BS25: =(1-BQ25) * (1- ($D$58/365)) -> 0.60410959 | BT25: =(BQ25*BL25)+(BR25*BJ25)+(BS25*BK25) -> 0.054744671 | BU25: =BT25*N25 -> 4.3795737 | BV25: =1000*BT25/I25 -> 5.4744671 | BW25: =BU25/$BU$47 -> 0.15181256 | BX25: =R25*1000/(4200*($D$52-$D$53)) -> 0.5 | BY25: =POWER(100/AN25,1.852)*POWER(BX25*15.852,1.852)/POWER($AK25*0.03937,4.8655)*0.2083*304.8*3.28 -> 16521.836 | BZ25: =+BY25*9.81/1000 -> 162.07922 | CA25: =+BY25*$I25/100 -> 1652.1836 | CB25: =+CA25*9.81/1000 -> 16.207922 | CC25: =CB25*1000/$I25 -> 1620.7922 | CD25: =$AT25*CC25/1000 -> 0.64831686 | CE25: =CD25+CB25 -> 16.856238 | CF25: =$Y25*1000/$AX25 -> 1.0231398 | CG25: 0 | CH25: =SQRT(($Z25*$CF25*$CF25)+((1-$Z25) * $CG25*$CG25)) -> 0.1108037 | CI25: =LOOKUP($AK25,Pipes!$D$4:$D$16,Pipes!$I$4:$I$16) -> 4.4866667 | CJ25: =CI25*O25 -> 3589.3333
B26: 15F | C26: Lateral | D26: Periphery | E26: 4 | F26: =Summary!$C$22 -> 0.75 | G26: =$D$55*E26 -> 12 | H26: =(((E26*$D$59)+($D$60*G26))*4200*$D$61)/(1000*60*60) -> 17.733333 | I26: 6 | L26: 1 | N26: 80 | O26: =N26*I26 -> 480 | P26: =(1.19*E26) + (18.8*POWER(E26,0.5)) + 17.6 -> 59.96 | Q26: 0.5 | R26: =Q26*$R$29*E26 -> 90 | S26: 2 | T26: =R26/$D$64 -> 7.5 | U26: 1 | V26: =U26*$D$49*E26 -> 12 | W26: =$D$65*U26*S26*$D$49 -> 6 | X26: =V26-W26 -> 6 | Y26: =R26*1000/(4200*($D$51-$D$53)) -> 0.30612245 | Z26: =((H26/R26))/24 -> 0.0082098765 | AA26: =V26*1000/(4200*($D$51-$D$54)) -> 0.047619048 | AB26: =X26*1000/(4200*($D$51-$D$54)) -> 0.023809524 | AC26: =AB26/AH26 -> 0.072164948 | AD26: =(24*X26)/((24*X26)+H26) -> 0.89035449 | AE26: =(E26*(1-U26))*($D$63/3600) -> 0 | AF26: =(E26-S26)*($D$63/3600) -> 0 | AG26: =X26+R26 -> 96 | AH26: =AB26+Y26+AE26 -> 0.32993197 | AI26: =AH26*1000000/(F26*1000) -> 439.9093 | AJ26: =2*SQRT(AI26/3.14159) -> 23.666651 | AK26: =LOOKUP($AJ26,Pipes!$D$4:$D$16,Pipes!$D$4:$D$16) -> 20 | AL26: =LOOKUP(AK26,Pipes!$D$4:$D$16,Pipes!$B$4:$B$16) -> 22 | AM26: =LOOKUP($AK26,Pipes!$D$4:$D$16,Pipes!$E$4:$E$16) -> Copper | AN26: =LOOKUP($AK26,Pipes!$D$4:$D$16,Pipes!$F$4:$F$16) -> 140 | AO26: =POWER(100/AN26,1.852)*POWER(AH26*15.852,1.852)/POWER($AK26*0.03937,4.8655)*0.2083*304.8*3.28 -> 7650.4656 | AP26: =+AO26*9.81/1000 -> 75.051068 | AQ26: =+AO26*I26/100 -> 459.02794 | AR26: =+AQ26*9.81/1000 -> 4.5030641 | AS26: =AR26*1000/I26 -> 750.51068 | AT26: =($D$78*J26*AK26/1000)+($D$80*K26*AK26/1000)+($D$76*L26*AK26/1000)+($D$77*M26*AK26/1000) -> 0.4 | AU26: =AT26*AS26/1000 -> 0.30020427 | AV26: =AU26+AR26 -> 4.8032683 | AW26: =AV26/$AV$47 -> 0.024279336 | AX26: =POWER((AK26/2),2)*3.14159 -> 314.159 | AY26: =I26*AX26/1000 -> 1.884954 | AZ26: =AH26*1000/$AX26 -> 1.050207 | BA26: =AA26*1000/AX26 -> 0.15157626 | BB26: =SQRT(($Z26*$AZ26*$AZ26)+((1-$Z26) * $BA26*$BA26)) -> 0.17844242 | BC26: =60*AY26/$D$56 -> 5.654862 | BD26: =BD27+BC26 -> 14.495296 | BE26: =LOOKUP($AK26,Pipes!$D$4:$D$16,Pipes!$N$4:$N$16) -> 0.12471091 | BF26: 25 | BG26: =$D$51 -> 90 | BH26: =$D$52 -> 65 | BI26: =MAX(BF26,$D$62+5) -> 30 | BJ26: =BE26*I26*(BG26-BF26)/1000 -> 0.048637253 | BK26: =BE26*I26*(BH26-BF26)/1000 -> 0.029930617 | BL26: =BE26*I26*(BI26-BF26)/1000 -> 0.0037413272 | BM26: =AY26*4200*($D$51-50)/(BJ26*1000*60*60) -> 1.8085832 | BN26: =BL26*$N26 -> 0.29930617 | BO26: =BJ26*$N26 -> 3.8909803 | BP26: =BK26*$N26 -> 2.3944494 | BQ26: 0.15 | BR26: =(1-BQ26) * ($D$58/365) -> 0.27945205 | BS26: =(1-BQ26) * (1- ($D$58/365)) -> 0.57054795 | BT26: =(BQ26*BL26)+(BR26*BJ26)+(BS26*BK26) -> 0.031229832 | BU26: =BT26*N26 -> 2.4983865 | BV26: =1000*BT26/I26 -> 5.204972 | BW26: =BU26/$BU$47 -> 0.086603512 | BX26: =R26*1000/(4200*($D$52-$D$53)) -> 0.47619048 | BY26: =POWER(100/AN26,1.852)*POWER(BX26*15.852,1.852)/POWER($AK26*0.03937,4.8655)*0.2083*304.8*3.28 -> 15094.396 | BZ26: =+BY26*9.81/1000 -> 148.07602 | CA26: =+BY26*$I26/100 -> 905.66375 | CB26: =+CA26*9.81/1000 -> 8.8845614 | CC26: =CB26*1000/$I26 -> 1480.7602 | CD26: =$AT26*CC26/1000 -> 0.5923041 | CE26: =CD26+CB26 -> 9.4768655 | CF26: =$Y26*1000/$AX26 -> 0.97441884 | CG26: 0 | CH26: =SQRT(($Z26*$CF26*$CF26)+((1-$Z26) * $CG26*$CG26)) -> 0.088290502 | CI26: =LOOKUP($AK26,Pipes!$D$4:$D$16,Pipes!$I$4:$I$16) -> 4.4866667 | CJ26: =CI26*O26 -> 2153.6
