Workbook
Name Floor_Type: 'Additional Element - 1'!$R$47:$R$49
Name Floor_Type: 'Additional Element - 2'!$R$47:$R$49
Name Floor_Type: 'Master Calculation'!$R$47:$R$49
Name Floor_Type_Tab: 'Additional Element - 1'!$R$47:$S$49
Name Floor_Type_Tab: 'Additional Element - 2'!$R$47:$S$49
Name Floor_Type_Tab: 'Master Calculation'!$R$47:$S$49
Name Floor_Value: 'Additional Element - 1'!$R$64:$U$73
Name Floor_Value: 'Additional Element - 2'!$R$64:$U$73
Name Floor_Value: 'Master Calculation'!$R$64:$U$73
Name Loc_Fact: 'Additional Element - 1'!$R$11:$R$17
Name Loc_Fact: 'Additional Element - 2'!$R$11:$R$17
Name Loc_Fact: 'Master Calculation'!$R$11:$R$17
Name Loc_Fact_Tab: 'Additional Element - 1'!$R$10:$S$17
Name Loc_Fact_Tab: 'Additional Element - 2'!$R$10:$S$17
Name Loc_Fact_Tab: 'Master Calculation'!$R$10:$S$17
Name P_Type: 'Additional Element - 1'!$R$3:$R$8
Name P_Type: 'Additional Element - 2'!$R$3:$R$8
Name P_Type: 'Master Calculation'!$R$3:$R$8
Name P_Type_Tab: 'Additional Element - 1'!$R$3:$T$8
Name P_Type_Tab: 'Additional Element - 2'!$R$3:$T$8
Name P_Type_Tab: 'Master Calculation'!$R$3:$T$8
Name Roof_Type: 'Additional Element - 1'!$R$36:$R$43
Name Roof_Type: 'Additional Element - 2'!$R$36:$R$43
Name Roof_Type: 'Master Calculation'!$R$36:$R$43
Name Roof_Type_Tab: 'Additional Element - 1'!$R$36:$S$43
Name Roof_Type_Tab: 'Additional Element - 2'!$R$36:$S$43
Name Roof_Type_Tab: 'Master Calculation'!$R$36:$S$43
Name Wall_Type: 'Additional Element - 1'!$R$30:$R$34
Name Wall_Type: 'Additional Element - 2'!$R$30:$R$34
Name Wall_Type: 'Master Calculation'!$R$30:$R$34
Name Wall_Type_Tab: 'Additional Element - 1'!$R$30:$S$34
Name Wall_Type_Tab: 'Additional Element - 2'!$R$30:$S$34
Name Wall_Type_Tab: 'Master Calculation'!$R$30:$S$34
Name Win_Type: 'Additional Element - 1'!$R$22:$R$26
Name Win_Type: 'Additional Element - 2'!$R$22:$R$26
Name Win_Type: 'Master Calculation'!$R$22:$R$26
Name Win_Type_Tab: 'Additional Element - 1'!$R$22:$S$26
Name Win_Type_Tab: 'Additional Element - 2'!$R$22:$S$26
Name Win_Type_Tab: 'Master Calculation'!$R$22:$S$26

Sheet Master Calculation
B1: CE 54 Domestic Heating Sizing Method | H1: Master Calculation
B2: Name & Address of Property | J2: Date | L2: =TODAY() -> 41432 | R2: P_Type | S2: Win Fact | T2: Win Const
R3: Detached | S3: 0.127 | T3: 8.2
R4: Semi-Detached | S4: 0.127 | T4: 8.2
R5: Mid Terrace | S5: 0.127 | T5: 8.2
B6: 1. Describe property and take three measurements (in metres) | R6: Top Flat | S6: 0.086 | T6: 5.7
R7: Mid Flat | S7: 0.086 | T7: 5.7
B8: Property Type | F8: Location | J8: Ext Wall Type | N8: Window Type | R8: Bottom Flat | S8: 0.086 | T8: 5.7
B9: Length | F9: Room Height | J9: Roof Type/Ins | N9: No of Chimneys | O9: 0
B10: Width | F10: No. of Floors | J10: Floor Type/Ins | R10: Loc_Factor
R11: Northern England | S11: 30 | U11: 0
B12: 2. Calculate total external wall area (including windows) and exposed perimeter (see section 3 and section 4) | R12: Midlands | S12: 30 | U12: 2000
R13: Northern Ireland | S13: 26.9 | U13: 3000
B14: Length | D14: No of Ext Walls | H14: Exposed Perimeter | J14: Room Height | L14: No. of Floors | N14: Total external wall | R14: Scotland | S14: 29.4
B15: =D9 -> 0 | F15: =B15*D15 -> 0 | N15: area | R15: South East | S15: 27.5
B16: Width | D16: No of Ext Walls | F16: + | G16: = | H16: =F15+F17 -> 0 | I16: X | J16: =H9 -> 0 | K16: X | L16: =H10 -> 0 | M16: = | N16: =H16*J16*L16 -> 0 | O16: SqM | R16: Wales | S16: 27.5
B17: =D10 -> 0 | F17: =D17*B17 -> 0 | R17: South West | S17: 25
L18: Total external wall | N18: Maximum window
L19: area | N19: area
J20: 0.9 | K20: X | L20: =N16 -> 0 | N20: =L20*J20 -> 0 | O20: SqM
R21: Table 2: Window U-values
B22: 3. Calculate the heat losses from windows and external walls | R22: D/glazed fitted 2002 or later | S22: 2
F23: Area of Lowest | R23: D/glazed wood/PVC fitted before 2002 | S23: 3.1
B24: Length | D24: Width | F24: Floor | H24: No. of Floors | J24: Total Floor Area | R24: D/glazed metal fitted before 2002 | S24: 3.7
B25: =D9 -> 0 | C25: X | D25: =D10 -> 0 | E25: = | F25: =B25*D25 -> 0 | G25: X | H25: =H10 -> 0 | I25: = | J25: =F25*H25 -> 0 | K25: SqM | R25: S/glazed wood/pvc | S25: 4.8
R26: S/glazed metal | S26: 5.7
B27: Total Floor Area | D27: Window Factor | F27: Window Constant | H27: Est Window Area | J27: Act Window Area | L27: Window u-Value | N27: Window Heat Loss
B28: =J25 -> 0 | C28: X | D28: =VLOOKUP(D8,P_Type_Tab,2,FALSE) -> #N/A | E28: + | F28: =VLOOKUP(D8,P_Type_Tab,3,FALSE) -> #N/A | G28: = | H28: =(B28*D28)+F28 -> #N/A | K28: X | L28: =IF(L29="",VLOOKUP(O8,Win_Type_Tab,2,FALSE),L29) -> #N/A | M28: = | N28: =IF(J28="",H28*L28,J28*L28) -> #N/A | O28: W/K | R28: Table 3: Wall U-values. Select on year built, if known.
R29: If not known select on construction type.
B30: Total external wall | R30: Built 2003 or later | S30: 0.35
B31: area | D31: Act Window Area | F31: Net Wall Area | L31: Wall u-Value | N31: Wall Heat Loss | R31: Built 1983 - 2002 | S31: 0.45
B32: =N16 -> 0 | C32: - | D32: =IF(J28="",H28,J28) -> #N/A | E32: = | F32: =B32-D32 -> #N/A | K32: X | L32: =IF(L33="",VLOOKUP(L8,Wall_Type_Tab,2,FALSE),L33) -> #N/A | M32: = | N32: =L32*F32 -> #N/A | O32: W/K | R32: Solid wall 220mm | S32: 2.1
R33: Unfilled cavity wall | S33: 1.6
R34: Filled cavity wall | S34: 0.6
B35: 4. Calculate the roof and floor heat losses
F36: Area of Lowest | R36: Pitched, none | S36: 2.3
F37: Floor | L37: Roof u-Value | N37: Roof Heat Loss | R37: Pitched, 50mm (2") | S37: 1.5
F38: =F25 -> 0 | K38: X | L38: =IF(L39="",VLOOKUP(L9,Roof_Type_Tab,2,FALSE),L39) -> #N/A | M38: = | N38: =F38*L38 -> #N/A | O38: W/K | R38: Pitched, 100mm (4") | S38: 0.4
H39: Exposed Perimeter | R39: Pitched, 150mm (6") | S39: 0.25
F40: =F38 -> 0 | G40: / | H40: =H16 -> 0 | I40: = | J40: =F40/H40 -> #DIV/0! | R40: Pitched, 200mm (8") or more | S40: 0.2
L41: Floor u-Value | N41: Floor Heat Loss | R41: Flat roof built 1983 or later | S41: 0.35
F42: =F40 -> 0 | K42: X | L42: =IF(L43="",VLOOKUP(J40,Floor_Value,VLOOKUP(L10,Floor_Type_Tab,2,FALSE)+1,TRUE),L43) -> #DIV/0! | M42: = | N42: =F42*L42 -> #DIV/0! | O42: W/K | R42: Flat roof, 25mm (1'') or more | S42: 0.7
R43: Flat roof, none | S43: 2.3
B45: 5. Calculate the ventilation heat loss
R46: Floor type and insulation thickness
B47: Total Floor Area | D47: Height | R47: Suspended, 25mm or less | S47: 1
B48: =B28 -> 0 | C48: X | D48: =H9 -> 0 | E48: X | F48: 0.76 | G48: = | H48: =B48*D48*F48 -> 0 | J48: Total Flow Rate | N48: Venti'n Heat Loss | R48: Solid, 25mm or less | S48: 2
D49: No. of Chimneys | H49: + | I49: = | J49: =H48+H50 -> 0 | K49: X | L49: 0.33 | N49: =J49*L49 -> 0 | O49: W/K | R49: Suspended or solid, more than 25mm | S49: 3
D50: =O9 -> 0 | E50: X | F50: 40 | G50: = | H50: =D50*F50 -> 0
L51: MHRV Efficiency | N51: Reduced Loss
L52: 0 | N52: =N49*(1-L52) -> 0 | O52: W/K
B54: 7. Calculate any heat loss to adjacent properties (party heat losses),
B56: Length | D56: No of Party Walls | N56: Party Wall | R56: Party wall (brick 215mm) | S56: 1.33
B57: =B15 -> 0 | F57: =B57*D57 -> 0 | H57: Room Height | J57: No. of Floors | L57: Party Wall u-Value | N57: Heat Loss | R57: Party ceiling | S57: 1.02
B58: Width | D58: No of Party Walls | F58: + | G58: X | H58: 10 | I58: X | K58: X | L58: =IF(L59="",S56,L59) -> 1.33 | M58: = | N58: =(F57+F59)*H58*J58*L58 -> 0 | O58: W/K | R58: Party floor | S58: 1.02
B59: =D10 -> 0 | F59: =D59*B59 -> 0
N60: Party Ceiling
J61: Lowest Floor Area | L61: Party Ceiling u-Value | N61: Heat Loss
B62: Party ceiling losses are calculated for mid flats and bottom flats only. | J62: =F25 -> 0 | K62: X | L62: =IF(L63="",S57,L63) -> 1.02 | M62: = | N62: =IF(OR(D8="Mid Flat",D8="Bottom Flat"),J62*L62,0) -> 0 | O62: W/K
R63: Area ÷ exposed perimeter (m) W/m2/K W/m2/K W/m2/K
N64: Party Floor | R64: 0 | S64: 1.41 | T64: 1.87 | U64: 0.63
J65: Lowest Floor Area | L65: Party Floor u-Value | N65: Heat Loss | R65: 1 | S65: 1.08 | T65: 1.69 | U65: 0.67
B66: Party floor losses are calculated for mid flats and top flats only. | J66: =J62 -> 0 | K66: X | L66: =IF(L67="",S58,L67) -> 1.02 | M66: = | N66: =IF(OR(D8="Mid Flat",D8="Top Flat"),J66*L66,0) -> 0 | O66: W/K | R66: 1.5 | S66: 0.98 | T66: 1.52 | U66: 0.67
R67: 2 | S67: 0.9 | T67: 1.38 | U67: 0.66
H68: Total Party Heat Loss | N68: Total Loss | R68: 2.5 | S68: 0.84 | T68: 1.27 | U68: 0.64
H69: =N58+N62+N66 -> 0 | K69: X | L69: 10.6 | M69: = | N69: =H69*L69 -> 0 | O69: W | R69: 3 | S69: 0.73 | T69: 1.09 | U69: 0.6
R70: 4 | S70: 0.66 | T70: 0.96 | U70: 0.56
B71: 7. Sum the external surface and ventilation heat losses | R71: 5 | S71: 0.44 | T71: 0.62 | U71: 0.41
R72: 10 | S72: 0.27 | T72: 0.38 | U72: 0.27
B73: Window Heat Loss | D73: Wall Heat Loss | F73: Roof Heat Loss | H73: Floor Heat Loss | J73: Vent'n Heat Loss | L73: Location Factor | N73: Total External Loss | R73: 20 | S73: 0.16 | T73: 0.22 | U73: 0.17
B74: =N28 -> #N/A | C74: + | D74: =N32 -> #N/A | E74: + | F74: =N38 -> #N/A | G74: + | H74: =N42 -> #DIV/0! | I74: + | J74: =N52 -> 0 | K74: X | L74: =VLOOKUP(H8,Loc_Fact_Tab,2,FALSE) -> #N/A | M74: = | N74: =(B74+D74+F74+H74+J74)*L74 -> #N/A | O74: W/K
B76: 8. Calculate required heat output (in kW)
S77: Yes
D78: Are Party Losses Included ?? | F78: No | J78: Hot Water | L78: 0 | S78: No
D80: External Loss | F80: Thermal Bridging | H80: Additional Element | J80: Additional Element | N80: Heat Required
B81: =IF(F78="Yes", IF(L78>N69,L78,N69),L78) -> 0 | C81: + | D81: =N74 -> #N/A | E81: + | F81: 400 | G81: + | H81: =IF(ISNA('Additional Element - 1'!N72),0,'Additional Element - 1'!N72) -> 0 | I81: + | J81: =IF(ISNA('Additional Element - 2'!N72),0,'Additional Element - 2'!N72) -> 0 | K81: / | L81: 1000 | M81: = | N81: =(B81+D81+F81+H81+J81)/L81 -> #N/A | O81: KW
D83: External Loss | F83: Thermal Bridging | H83: Additional Element | J83: Additional Element | N83: Basic Design Heat Loss
D84: =D81 -> #N/A | E84: + | F84: 400 | G84: + | H84: =H81 -> 0 | I84: + | J84: =J81 -> 0 | K84: / | L84: 1150 | M84: = | N84: =(B84+D84+F84+H84+J84)/L84 -> #N/A | O84: KW
B89: 123.45 | D89: Calculated Cells - Do Not Change | H89: 3.2 | J89: Input Cells | L89: 0.375 | N89: Optional Input Cells - if known

Sheet Additional Element - 1
B1: CE 54 Domestic Heating Sizing Method | H1: Additional Element (1)
B2: Ref | D2: ='Master Calculation'!D2:F2 -> 0 | J2: Date | L2: =TODAY() -> 41432 | R2: P_Type | S2: Win Fact | T2: Win Const
R3: Detached | S3: 0.127 | T3: 8.2
B4: 1. Describe property and take three measurements (in metres) | R4: Semi-Detached | S4: 0.127 | T4: 8.2
R5: Mid Terrace | S5: 0.127 | T5: 8.2
B6: Property Type | D6: ='Master Calculation'!D8 -> 0 | F6: Location | H6: ='Master Calculation'!H8 -> 0 | J6: Ext Wall Type | N6: Window Type | R6: Top Flat | S6: 0.086 | T6: 5.7
B7: Length | F7: Room Height | J7: Roof Type/Ins | N7: No of Chimneys | R7: Mid Flat | S7: 0.086 | T7: 5.7
B8: Width | F8: No. of Floors | J8: Floor Type/Ins | R8: Bottom Flat | S8: 0.086 | T8: 5.7
B10: 2. Calculate total external wall area (including windows) and exposed perimeter (see section 3 and section 4) | R10: Loc_Factor
R11: Northern England | S11: 30 | U11: 0
B12: Length | D12: No of Ext Walls | H12: Exposed Perimeter | J12: Room Height | L12: No. of Floors | N12: Total external wall | R12: Midlands | S12: 30 | U12: 2000
B13: =D7 -> 0 | D13: 0 | F13: =B13*D13 -> 0 | N13: area | R13: Northern Ireland | S13: 26.9 | U13: 3000
B14: Width | D14: No of Ext Walls | F14: + | G14: = | H14: =F13+F15 -> 0 | I14: X | J14: =H7 -> 0 | K14: X | L14: =H8 -> 0 | M14: = | N14: =H14*J14*L14 -> 0 | O14: SqM | R14: Scotland | S14: 29.4
B15: =D8 -> 0 | D15: 0 | F15: =D15*B15 -> 0 | R15: South East | S15: 27.5
L16: Total external wall | N16: Maximum window | R16: Wales | S16: 27.5
L17: area | N17: area | R17: South West | S17: 25
J18: 0.9 | K18: X | L18: =N14 -> 0 | N18: =L18*J18 -> 0 | O18: SqM
B20: 3. Calculate the heat losses from windows and external walls
F21: Area of Lowest | R21: Table 2: Window U-values
B22: Length | D22: Width | F22: Floor | H22: No. of Floors | J22: Total Floor Area | R22: D/glazed fitted 2002 or later | S22: 2
B23: =D7 -> 0 | C23: X | D23: =D8 -> 0 | E23: = | F23: =B23*D23 -> 0 | G23: X | H23: =H8 -> 0 | I23: = | J23: =F23*H23 -> 0 | K23: SqM | R23: D/glazed wood/PVC fitted before 2002 | S23: 3.1
R24: D/glazed metal fitted before 2002 | S24: 3.7
B25: Total Floor Area | D25: Window Factor | F25: Window Constant | H25: Est Window Area | J25: Act Window Area | L25: Window u-Value | N25: Window Heat Loss | R25: S/glazed wood/pvc | S25: 4.8
B26: =J23 -> 0 | C26: X | D26: =VLOOKUP(D6,P_Type_Tab,2,FALSE) -> #N/A | E26: + | F26: =VLOOKUP(D6,P_Type_Tab,3,FALSE) -> #N/A | G26: = | H26: =IF(B26=0,0,(B26*D26)+F26) -> 0 | K26: X | L26: =IF(L27="",VLOOKUP(O6,Win_Type_Tab,2,FALSE),L27) -> #N/A | M26: = | N26: =IF(J26="",H26*L26,J26*L26) -> #N/A | O26: W/K | R26: S/glazed metal | S26: 5.7
B28: Total external wall | R28: Table 3: Wall U-values. Select on year built, if known.
B29: area | D29: Act Window Area | F29: Net Wall Area | L29: Wall u-Value | N29: Wall Heat Loss | R29: If not known select on construction type.
B30: =N14 -> 0 | C30: - | D30: =IF(J26="",H26,J26) -> 0 | E30: = | F30: =B30-D30 -> 0 | K30: X | L30: =IF(L31="",VLOOKUP(L6,Wall_Type_Tab,2,FALSE),L31) -> #N/A | M30: = | N30: =L30*F30 -> #N/A | O30: W/K | R30: Built 2003 or later | S30: 0.35
R31: Built 1983 - 2002 | S31: 0.45
R32: Solid wall 220mm | S32: 2.1
B33: 4. Calculate the roof and floor heat losses | R33: Unfilled cavity wall | S33: 1.6
F34: Area of Lowest | R34: Filled cavity wall | S34: 0.6
F35: Floor | L35: Roof u-Value | N35: Roof Heat Loss
F36: =F23 -> 0 | K36: X | L36: =IF(L37="",VLOOKUP(L7,Roof_Type_Tab,2,FALSE),L37) -> #N/A | M36: = | N36: =F36*L36 -> #N/A | O36: W/K | R36: Pitched, none | S36: 2.3
H37: Exposed Perimeter | R37: Pitched, 50mm (2") | S37: 1.5
F38: =F36 -> 0 | G38: / | H38: =H14 -> 0 | I38: = | J38: =IF(H38=0,0,F38/H38) -> 0 | R38: Pitched, 100mm (4") | S38: 0.4
L39: Floor u-Value | N39: Floor Heat Loss | R39: Pitched, 150mm (6") | S39: 0.25
F40: =F38 -> 0 | K40: X | L40: =IF(L41="",VLOOKUP(J38,Floor_Value,VLOOKUP(L8,Floor_Type_Tab,2,FALSE)+1,TRUE),L41) -> #N/A | M40: = | N40: =F40*L40 -> #N/A | O40: W/K | R40: Pitched, 200mm (8") or more | S40: 0.2
R41: Flat roof built 1983 or later | S41: 0.35
R42: Flat roof, 25mm (1'') or more | S42: 0.7
B43: 5. Calculate the ventilation heat loss | R43: Flat roof, none | S43: 2.3
B45: Total Floor Area | D45: Height
B46: =B26 -> 0 | C46: X | D46: =H7 -> 0 | E46: X | F46: 0.76 | G46: = | H46: =B46*D46*F46 -> 0 | J46: Total Flow Rate | N46: Venti'n Heat Loss | R46: Floor type and insulation thickness
D47: No. of Chimneys | H47: + | I47: = | J47: =H46+H48 -> 0 | K47: X | L47: 0.33 | N47: =J47*L47 -> 0 | O47: W/K | R47: Suspended, 25mm or less | S47: 1
D48: =O7 -> 0 | E48: X | F48: 40 | G48: = | H48: =D48*F48 -> 0 | R48: Solid, 25mm or less | S48: 2
L49: MHRV Efficiency | N49: Reduced Loss | R49: Suspended or solid, more than 25mm | S49: 3
L50: 0 | N50: =N47*(1-L50) -> 0 | O50: W/K
B52: 7. Calculate any heat loss to adjacent properties (party heat losses),
B54: Length | D54: No of Party Walls | N54: Party Wall
B55: =B13 -> 0 | D55: 1 | F55: =B55*D55 -> 0 | H55: Room Height | J55: No. of Floors | L55: Party Wall u-Value | N55: Heat Loss
B56: Width | D56: No of Party Walls | F56: + | G56: X | H56: =H7 -> 0 | I56: X | J56: 1 | K56: X | L56: =IF(L57="",S56,L57) -> 1.33 | M56: = | N56: =(F55+F57)*H56*J56*L56 -> 0 | O56: W/K | R56: Party wall (brick 215mm) | S56: 1.33
B57: =D8 -> 0 | D57: 0 | F57: =D57*B57 -> 0 | R57: Party ceiling | S57: 1.02
N58: Party Ceiling | R58: Party floor | S58: 1.02
J59: Lowest Floor Area | L59: Party Ceiling u-Value | N59: Heat Loss
B60: Party ceiling losses are calculated for mid flats and bottom flats only. | J60: =F23 -> 0 | K60: X | L60: =IF(L61="",S57,L61) -> 1.02 | M60: = | N60: =IF(OR(D6="Mid Flat",D6="Bottom Flat"),J60*L60,0) -> 0 | O60: W/K
N62: Party Floor
J63: Lowest Floor Area | L63: Party Floor u-Value | N63: Heat Loss | R63: Area ÷ exposed perimeter (m) W/m2/K W/m2/K W/m2/K
B64: Party floor losses are calculated for mid flats and top flats only. | J64: =J60 -> 0 | K64: X | L64: =IF(L65="",S58,L65) -> 1.02 | M64: = | N64: =IF(OR(D6="Mid Flat",D6="Top Flat"),J64*L64,0) -> 0 | O64: W/K | R64: 0 | S64: 1.41 | T64: 1.87 | U64: 0.63
R65: 1 | S65: 1.08 | T65: 1.69 | U65: 0.67
H66: Total Party Heat Loss | N66: Total Loss | R66: 1.5 | S66: 0.98 | T66: 1.52 | U66: 0.67
H67: =N56+N60+N64 -> 0 | K67: X | L67: 10.6 | M67: = | N67: =H67*L67 -> 0 | O67: W | R67: 2 | S67: 0.9 | T67: 1.38 | U67: 0.66
R68: 2.5 | S68: 0.84 | T68: 1.27 | U68: 0.64
B69: 7. Sum the external surface and ventilation heat losses | R69: 3 | S69: 0.73 | T69: 1.09 | U69: 0.6
R70: 4 | S70: 0.66 | T70: 0.96 | U70: 0.56
B71: Window Heat Loss | D71: Wall Heat Loss | F71: Roof Heat Loss | H71: Floor Heat Loss | J71: Vent'n Heat Loss | L71: Location Factor | N71: Total External Loss | R71: 5 | S71: 0.44 | T71: 0.62 | U71: 0.41
B72: =N26 -> #N/A | C72: + | D72: =N30 -> #N/A | E72: + | F72: =N36 -> #N/A | G72: + | H72: =N40 -> #N/A | I72: + | J72: =N50 -> 0 | K72: X | L72: =VLOOKUP(H6,Loc_Fact_Tab,2,FALSE) -> #N/A | M72: = | N72: =(B72+D72+F72+H72+J72)*L72 -> #N/A | O72: W/K | R72: 10 | S72: 0.27 | T72: 0.38 | U72: 0.27
R73: 20 | S73: 0.16 | T73: 0.22 | U73: 0.17

Sheet Additional Element - 2
B1: CE 54 Domestic Heating Sizing Method | H1: Additional Element (2)
B2: Ref | D2: ='Master Calculation'!D2:F2 -> 0 | J2: Date | L2: =TODAY() -> 41432 | R2: P_Type | S2: Win Fact | T2: Win Const
R3: Detached | S3: 0.127 | T3: 8.2
B4: 1. Describe property and take three measurements (in metres) | R4: Semi-Detached | S4: 0.127 | T4: 8.2
R5: Mid Terrace | S5: 0.127 | T5: 8.2
B6: Property Type | D6: ='Master Calculation'!D8 -> 0 | F6: Location | H6: ='Master Calculation'!H8 -> 0 | J6: Ext Wall Type | N6: Window Type | R6: Top Flat | S6: 0.086 | T6: 5.7
B7: Length | F7: Room Height | J7: Roof Type/Ins | N7: No of Chimneys | R7: Mid Flat | S7: 0.086 | T7: 5.7
B8: Width | F8: No. of Floors | J8: Floor Type/Ins | R8: Bottom Flat | S8: 0.086 | T8: 5.7
B10: 2. Calculate total external wall area (including windows) and exposed perimeter (see section 3 and section 4) | R10: Loc_Factor
R11: Northern England | S11: 30 | U11: 0
B12: Length | D12: No of Ext Walls | H12: Exposed Perimeter | J12: Room Height | L12: No. of Floors | N12: Total external wall | R12: Midlands | S12: 30 | U12: 2000
B13: =D7 -> 0 | D13: 0 | F13: =B13*D13 -> 0 | N13: area | R13: Northern Ireland | S13: 26.9 | U13: 3000
B14: Width | D14: No of Ext Walls | F14: + | G14: = | H14: =F13+F15 -> 0 | I14: X | J14: =H7 -> 0 | K14: X | L14: =H8 -> 0 | M14: = | N14: =H14*J14*L14 -> 0 | O14: SqM | R14: Scotland | S14: 29.4
B15: =D8 -> 0 | D15: 0 | F15: =D15*B15 -> 0 | R15: South East | S15: 27.5
L16: Total external wall | N16: Maximum window | R16: Wales | S16: 27.5
L17: area | N17: area | R17: South West | S17: 25
J18: 0.9 | K18: X | L18: =N14 -> 0 | N18: =L18*J18 -> 0 | O18: SqM
B20: 3. Calculate the heat losses from windows and external walls
F21: Area of Lowest | R21: Table 2: Window U-values
B22: Length | D22: Width | F22: Floor | H22: No. of Floors | J22: Total Floor Area | R22: D/glazed fitted 2002 or later | S22: 2
B23: =D7 -> 0 | C23: X | D23: =D8 -> 0 | E23: = | F23: =B23*D23 -> 0 | G23: X | H23: =H8 -> 0 | I23: = | J23: =F23*H23 -> 0 | K23: SqM | R23: D/glazed wood/PVC fitted before 2002 | S23: 3.1
R24: D/glazed metal fitted before 2002 | S24: 3.7
B25: Total Floor Area | D25: Window Factor | F25: Window Constant | H25: Est Window Area | J25: Act Window Area | L25: Window u-Value | N25: Window Heat Loss | R25: S/glazed wood/pvc | S25: 4.8
B26: =J23 -> 0 | C26: X | D26: =VLOOKUP(D6,P_Type_Tab,2,FALSE) -> #N/A | E26: + | F26: =VLOOKUP(D6,P_Type_Tab,3,FALSE) -> #N/A | G26: = | H26: =IF(B26=0,0,(B26*D26)+F26) -> 0 | K26: X | L26: =IF(L27="",VLOOKUP(O6,Win_Type_Tab,2,FALSE),L27) -> #N/A | M26: = | N26: =IF(J26="",H26*L26,J26*L26) -> #N/A | O26: W/K | R26: S/glazed metal | S26: 5.7
B28: Total external wall | R28: Table 3: Wall U-values. Select on year built, if known.
B29: area | D29: Act Window Area | F29: Net Wall Area | L29: Wall u-Value | N29: Wall Heat Loss | R29: If not known select on construction type.
B30: =N14 -> 0 | C30: - | D30: =IF(J26="",H26,J26) -> 0 | E30: = | F30: =B30-D30 -> 0 | K30: X | L30: =IF(L31="",VLOOKUP(L6,Wall_Type_Tab,2,FALSE),L31) -> #N/A | M30: = | N30: =L30*F30 -> #N/A | O30: W/K | R30: Built 2003 or later | S30: 0.35
R31: Built 1983 - 2002 | S31: 0.45
R32: Solid wall 220mm | S32: 2.1
B33: 4. Calculate the roof and floor heat losses | R33: Unfilled cavity wall | S33: 1.6
F34: Area of Lowest | R34: Filled cavity wall | S34: 0.6
F35: Floor | L35: Roof u-Value | N35: Roof Heat Loss
F36: =F23 -> 0 | K36: X | L36: =IF(L37="",VLOOKUP(L7,Roof_Type_Tab,2,FALSE),L37) -> #N/A | M36: = | N36: =F36*L36 -> #N/A | O36: W/K | R36: Pitched, none | S36: 2.3
H37: Exposed Perimeter | R37: Pitched, 50mm (2") | S37: 1.5
F38: =F36 -> 0 | G38: / | H38: =H14 -> 0 | I38: = | J38: =IF(H38=0,0,F38/H38) -> 0 | R38: Pitched, 100mm (4") | S38: 0.4
L39: Floor u-Value | N39: Floor Heat Loss | R39: Pitched, 150mm (6") | S39: 0.25
F40: =F38 -> 0 | K40: X | L40: =IF(L41="",VLOOKUP(J38,Floor_Value,VLOOKUP(L8,Floor_Type_Tab,2,FALSE)+1,TRUE),L41) -> #N/A | M40: = | N40: =F40*L40 -> #N/A | O40: W/K | R40: Pitched, 200mm (8") or more | S40: 0.2
R41: Flat roof built 1983 or later | S41: 0.35
R42: Flat roof, 25mm (1'') or more | S42: 0.7
B43: 5. Calculate the ventilation heat loss | R43: Flat roof, none | S43: 2.3
B45: Total Floor Area | D45: Height
B46: =B26 -> 0 | C46: X | D46: =H7 -> 0 | E46: X | F46: 0.76 | G46: = | H46: =B46*D46*F46 -> 0 | J46: Total Flow Rate | N46: Venti'n Heat Loss | R46: Floor type and insulation thickness
D47: No. of Chimneys | H47: + | I47: = | J47: =H46+H48 -> 0 | K47: X | L47: 0.33 | N47: =J47*L47 -> 0 | O47: W/K | R47: Suspended, 25mm or less | S47: 1
D48: =O7 -> 0 | E48: X | F48: 40 | G48: = | H48: =D48*F48 -> 0 | R48: Solid, 25mm or less | S48: 2
L49: MHRV Efficiency | N49: Reduced Loss | R49: Suspended or solid, more than 25mm | S49: 3
L50: 0 | N50: =N47*(1-L50) -> 0 | O50: W/K
B52: 7. Calculate any heat loss to adjacent properties (party heat losses),
B54: Length | D54: No of Party Walls | N54: Party Wall
B55: =B13 -> 0 | F55: =B55*D55 -> 0 | H55: Room Height | J55: No. of Floors | L55: Party Wall u-Value | N55: Heat Loss
B56: Width | D56: No of Party Walls | F56: + | G56: X | H56: =H7 -> 0 | I56: X | K56: X | L56: =IF(L57="",S56,L57) -> 1.33 | M56: = | N56: =(F55+F57)*H56*J56*L56 -> 0 | O56: W/K | R56: Party wall (brick 215mm) | S56: 1.33
B57: =D8 -> 0 | F57: =D57*B57 -> 0 | R57: Party ceiling | S57: 1.02
N58: Party Ceiling | R58: Party floor | S58: 1.02
J59: Lowest Floor Area | L59: Party Ceiling u-Value | N59: Heat Loss
B60: Party ceiling losses are calculated for mid flats and bottom flats only. | J60: =F23 -> 0 | K60: X | L60: =IF(L61="",S57,L61) -> 1.02 | M60: = | N60: =IF(OR(D6="Mid Flat",D6="Bottom Flat"),J60*L60,0) -> 0 | O60: W/K
N62: Party Floor
J63: Lowest Floor Area | L63: Party Floor u-Value | N63: Heat Loss | R63: Area ÷ exposed perimeter (m) W/m2/K W/m2/K W/m2/K
B64: Party floor losses are calculated for mid flats and top flats only. | J64: =J60 -> 0 | K64: X | L64: =IF(L65="",S58,L65) -> 1.02 | M64: = | N64: =IF(OR(D6="Mid Flat",D6="Top Flat"),J64*L64,0) -> 0 | O64: W/K | R64: 0 | S64: 1.41 | T64: 1.87 | U64: 0.63
R65: 1 | S65: 1.08 | T65: 1.69 | U65: 0.67
H66: Total Party Heat Loss | N66: Total Loss | R66: 1.5 | S66: 0.98 | T66: 1.52 | U66: 0.67
H67: =N56+N60+N64 -> 0 | K67: X | L67: 10.6 | M67: = | N67: =H67*L67 -> 0 | O67: W | R67: 2 | S67: 0.9 | T67: 1.38 | U67: 0.66
R68: 2.5 | S68: 0.84 | T68: 1.27 | U68: 0.64
B69: 7. Sum the external surface and ventilation heat losses | R69: 3 | S69: 0.73 | T69: 1.09 | U69: 0.6
R70: 4 | S70: 0.66 | T70: 0.96 | U70: 0.56
B71: Window Heat Loss | D71: Wall Heat Loss | F71: Roof Heat Loss | H71: Floor Heat Loss | J71: Vent'n Heat Loss | L71: Location Factor | N71: Total External Loss | R71: 5 | S71: 0.44 | T71: 0.62 | U71: 0.41
B72: =N26 -> #N/A | C72: + | D72: =N30 -> #N/A | E72: + | F72: =N36 -> #N/A | G72: + | H72: =N40 -> #N/A | I72: + | J72: =N50 -> 0 | K72: X | L72: =VLOOKUP(H6,Loc_Fact_Tab,2,FALSE) -> #N/A | M72: = | N72: =(B72+D72+F72+H72+J72)*L72 -> #N/A | O72: W/K | R72: 10 | S72: 0.27 | T72: 0.38 | U72: 0.27
R73: 20 | S73: 0.16 | T73: 0.22 | U73: 0.17

Sheet Notes
B3: The method is based on a number of assumptions:
B5: A design internal temperature of 19.2°C
B6: (included in the location factor).
B7: Design external temperatures that depend on
B8: the location of the dwelling (included in the
B9: location factor).
B10: Losses to adjacent dwellings (party heat
B11: losses) are based on a room temperature
B12: difference of 10.6°C.
B13: Floor heat losses are based on both floor
B14: type and exposed perimeter of the dwelling.
B15: Window areas are inferred from floor area.
... B27: A minimum heat output of 8kW for boilers.
